BEGIN:VCALENDAR
VERSION:2.0
PRODID:-// - ECPv6.15.20//NONSGML v1.0//EN
CALSCALE:GREGORIAN
METHOD:PUBLISH
X-ORIGINAL-URL:https://driftmaps.com
X-WR-CALDESC:Events for 
REFRESH-INTERVAL;VALUE=DURATION:PT1H
X-Robots-Tag:noindex
X-PUBLISHED-TTL:PT1H
BEGIN:VTIMEZONE
TZID:America/New_York
BEGIN:DAYLIGHT
TZOFFSETFROM:-0500
TZOFFSETTO:-0400
TZNAME:EDT
DTSTART:20240310T070000
END:DAYLIGHT
BEGIN:STANDARD
TZOFFSETFROM:-0400
TZOFFSETTO:-0500
TZNAME:EST
DTSTART:20241103T060000
END:STANDARD
BEGIN:DAYLIGHT
TZOFFSETFROM:-0500
TZOFFSETTO:-0400
TZNAME:EDT
DTSTART:20250309T070000
END:DAYLIGHT
BEGIN:STANDARD
TZOFFSETFROM:-0400
TZOFFSETTO:-0500
TZNAME:EST
DTSTART:20251102T060000
END:STANDARD
BEGIN:DAYLIGHT
TZOFFSETFROM:-0500
TZOFFSETTO:-0400
TZNAME:EDT
DTSTART:20260308T070000
END:DAYLIGHT
BEGIN:STANDARD
TZOFFSETFROM:-0400
TZOFFSETTO:-0500
TZNAME:EST
DTSTART:20261101T060000
END:STANDARD
END:VTIMEZONE
BEGIN:VEVENT
DTSTART;VALUE=DATE:20250920
DTEND;VALUE=DATE:20250921
DTSTAMP:20260421T061820
CREATED:20250210T002506Z
LAST-MODIFIED:20250910T145930Z
UID:10278-1758326400-1758412799@driftmaps.com
SUMMARY:2nd Annual Fall Fling - *updated date*
DESCRIPTION:« All Events\n 				\n				\n				\n				\n					\n	2nd Annual Fall Fling – *updated date*				\n				\n				\n				\n					\n		\n			September 20\n\n		\n\n\n	\n				\n				\n				\n				\n					\n	\n				\n				\n				\n				\n									\n					\n						\n									Event Info: \n					\n					\n				\n								\n				\n				\n				\n									\n					\n						\n									Tech Info:\n					\n					\n				\n								\n				\n				\n				\n									\n					\n						\n									Book Hotel: \n					\n					\n				\n								\n				\n				\n				\n							\n						\n				\n					 Registration Info \n							\n			\n			\n		\n\n						\n				\n				\n				\n									–Drivers pre registration (ends the thursday prior to the event) :  \n$85 Driver\, $100 co drive (2 drivers per car) \nDrivers Registration Day of event:  \n$100 Driver\, $125 co drive (2 drivers per car)  \n-Spectators: Free-Passenger Wristband: $20 \nWhen registering Please include:-First and Last Name-Car Type \nPayment Methods: \nPaypal: jflo1608@gmail.com (friends and family) Venmo: jflo1608@gmail.com (friends and family)Cash App: $DriftCorpus 								\n				\n				\n					\n					\n						\n				\n				\n						\n					\n			\n						\n				\n					\n	\n\n	Categories:	\n		Drift Day	\n\n				\n				\n				\n				\n					Organizer Info: 				\n				\n				\n				\n					\n	\n			\n			Drift Corpus			\n	\n\n	\n	\n\n	Website:View Organizer Website \n\n\n\n				\n				\n					\n		\n				\n			\n						\n				\n					\n				\n				\n	\n			\n		Drift Corpus			\n	\n	\n	\n\n5302 leopard st.\n	\n		\n		Corpus christi\,\n\n	TX\n\n	78408\n\n	United States\n\n\n\n\n	+ Google Map \n\n\n	\n					\n			361-523-1230			\n	 \n\n\n	\n	 \n\n\n\n	\n\n		\n	\n				\n				\n					\n		\n					\n		\n				\n						\n					\n			\n						\n				\n					\n	\n		\n\n	\n	Add to calendar	\n		\n	\n\n		\n			\n									\n	Google Calendar\n\n									\n	iCalendar\n\n									\n	Outlook 365\n\n									\n	Outlook Live\n\n							\n		\n\n		\n	\n\n				\n				\n					\n		\n					\n		\n				\n						\n					\n			\n						\n				\n					\n	\n		\n\n				CMD Round 3 Competition 10K	\n\n\n		\n	\n		CL2 - Drift Day			\n\n	\n\n				\n				\n					\n		\n					\n		\n					\n		\n					\n		\n				\n		Share this:FacebookXMoreEmail
URL:https://driftmaps.com/event/2nd-annual-fall-fling/
LOCATION:Drift Corpus\, 5302 leopard st.\, Corpus christi\, TX\, 78408\, United States
CATEGORIES:Drift Day
ATTACH;FMTTYPE=image/jpeg:https://driftmaps.com/wp-content/uploads/2025/01/IMG_8727-scaled.jpeg
ORGANIZER;CN="Drift Corpus":MAILTO:Driftcorpus@gmail.com
GEO:27.801177;-97.45842
X-APPLE-STRUCTURED-LOCATION;VALUE=URI;X-ADDRESS=Drift Corpus 5302 leopard st. Corpus christi TX 78408 United States;X-APPLE-RADIUS=500;X-TITLE=5302 leopard st.:geo:-97.45842,27.801177
END:VEVENT
END:VCALENDAR