BEGIN:VCALENDAR
VERSION:2.0
PRODID:-// - ECPv6.15.20//NONSGML v1.0//EN
CALSCALE:GREGORIAN
METHOD:PUBLISH
X-ORIGINAL-URL:https://driftmaps.com
X-WR-CALDESC:Events for 
REFRESH-INTERVAL;VALUE=DURATION:PT1H
X-Robots-Tag:noindex
X-PUBLISHED-TTL:PT1H
BEGIN:VTIMEZONE
TZID:UTC
BEGIN:STANDARD
TZOFFSETFROM:+0000
TZOFFSETTO:+0000
TZNAME:UTC
DTSTART:20240101T000000
END:STANDARD
END:VTIMEZONE
BEGIN:VEVENT
DTSTART;VALUE=DATE:20250920
DTEND;VALUE=DATE:20250922
DTSTAMP:20260421T092340
CREATED:20241209T072146Z
LAST-MODIFIED:20241209T072151Z
UID:6544-1758326400-1758499199@driftmaps.com
SUMMARY:D-Luck Luau - Driven Luck Circuit
DESCRIPTION:« All Events\n 				\n				\n				\n				\n					\n	D-Luck Luau – Driven Luck Circuit				\n				\n				\n				\n					\n		\n			September 20\n\n		\n	\n	  -  \n\n	September 21\n\n	\n				\n				\n				\n				\n					\n	\n				\n				\n				\n				\n									\n					\n						\n									Event Info: \n					\n					\n				\n								\n				\n				\n				\n									\n					\n						\n									Book Hotel: \n					\n					\n				\n								\n				\n				\n						\n					\n			\n						\n				\n					\n	\n\n	Categories:	\n		Drift Day	\n\n				\n				\n				\n				\n					Organizer Info: 				\n				\n				\n				\n					\n	\n			\n			Driven Luck			\n	\n\n	\n	\n\n	Website:View Organizer Website \n\n\n\n				\n				\n					\n		\n				\n			\n						\n				\n					\n				\n				\n	\n			\n		Driven Luck Circuit			\n	\n	\n	\n\n550 brewers point court\n	\n		\n		bryant\,\n\n	AL\n\n	35958\n\n	United States\n\n\n\n\n	+ Google Map \n\n\n	\n					\n						\n	 \n\n\n	\n	 \n\n\n\n	\n\n		\n	\n				\n				\n					\n		\n					\n		\n				\n						\n					\n			\n						\n				\n					\n	\n		\n\n	\n	Add to calendar	\n		\n	\n\n		\n			\n									\n	Google Calendar\n\n									\n	iCalendar\n\n									\n	Outlook 365\n\n									\n	Outlook Live\n\n							\n		\n\n		\n	\n\n				\n				\n					\n		\n					\n		\n				\n						\n					\n			\n						\n				\n					\n	\n		\n\n				CMD Round 3 Competition 10K	\n\n\n		\n	\n		CL2 - Drift Day			\n\n	\n\n				\n				\n					\n		\n					\n		\n					\n		\n					\n		\n				\n		Share this:FacebookXMoreEmail
URL:https://driftmaps.com/event/d-luck-luau-driven-luck-circuit/
LOCATION:Driven Luck Circuit\, 550 brewers point court\, bryant\, AL\, 35958\, United States
CATEGORIES:Drift Day
ATTACH;FMTTYPE=image/jpeg:https://driftmaps.com/wp-content/uploads/2024/12/driven-luck-circuit-e1733710185643.jpg
GEO:34.8945654;-85.6614894
X-APPLE-STRUCTURED-LOCATION;VALUE=URI;X-ADDRESS=Driven Luck Circuit 550 brewers point court bryant AL 35958 United States;X-APPLE-RADIUS=500;X-TITLE=550 brewers point court:geo:-85.6614894,34.8945654
END:VEVENT
END:VCALENDAR