BEGIN:VCALENDAR
VERSION:2.0
PRODID:-// - ECPv6.15.20//NONSGML v1.0//EN
CALSCALE:GREGORIAN
METHOD:PUBLISH
X-ORIGINAL-URL:https://driftmaps.com
X-WR-CALDESC:Events for 
REFRESH-INTERVAL;VALUE=DURATION:PT1H
X-Robots-Tag:noindex
X-PUBLISHED-TTL:PT1H
BEGIN:VTIMEZONE
TZID:America/New_York
BEGIN:DAYLIGHT
TZOFFSETFROM:-0500
TZOFFSETTO:-0400
TZNAME:EDT
DTSTART:20250309T070000
END:DAYLIGHT
BEGIN:STANDARD
TZOFFSETFROM:-0400
TZOFFSETTO:-0500
TZNAME:EST
DTSTART:20251102T060000
END:STANDARD
BEGIN:DAYLIGHT
TZOFFSETFROM:-0500
TZOFFSETTO:-0400
TZNAME:EDT
DTSTART:20260308T070000
END:DAYLIGHT
BEGIN:STANDARD
TZOFFSETFROM:-0400
TZOFFSETTO:-0500
TZNAME:EST
DTSTART:20261101T060000
END:STANDARD
BEGIN:DAYLIGHT
TZOFFSETFROM:-0500
TZOFFSETTO:-0400
TZNAME:EDT
DTSTART:20270314T070000
END:DAYLIGHT
BEGIN:STANDARD
TZOFFSETFROM:-0400
TZOFFSETTO:-0500
TZNAME:EST
DTSTART:20271107T060000
END:STANDARD
END:VTIMEZONE
BEGIN:VEVENT
DTSTART;VALUE=DATE:20260918
DTEND;VALUE=DATE:20260921
DTSTAMP:20260421T075228
CREATED:20251119T014938Z
LAST-MODIFIED:20251119T014946Z
UID:15174-1789689600-1789948799@driftmaps.com
SUMMARY:Gridlife Laguna Seca
DESCRIPTION:« All Events\n 				\n				\n				\n				\n					\n	Gridlife Laguna Seca				\n				\n				\n				\n					\n		\n			September 18\n\n		\n	\n	  -  \n\n	September 20\n\n	\n				\n				\n				\n				\n					\n	\n				\n				\n				\n				\n									\n					\n						\n									Event Info: \n					\n					\n				\n								\n				\n				\n				\n									\n					\n						\n									Book Hotel: \n					\n					\n				\n								\n				\n				\n				\n									\n					\n						\n									Driftmaps Merch:\n					\n					\n				\n								\n				\n				\n						\n					\n			\n						\n				\n					\n	\n\n	Categories:	\n		Festival	\n\n				\n				\n				\n				\n					Organizer Info: 				\n				\n				\n				\n					\n	\n			\n			Gridlife			\n	\n\n	\n	\n\n	Website:View Organizer Website \n\n\n\n				\n				\n					\n		\n				\n			\n						\n				\n					\n				\n				\n	\n			\n		Laguna Seca			\n	\n	\n	\n\nMonterey Salinas Highway 1021\n	\n		\n		Salinas\,\n\n	CA\n\n	93908\n\n	United States\n\n\n\n\n	+ Google Map \n\n\n	\n					\n						\n	 \n\n\n	\n	 \n\n\n\n	\n\n		\n	\n				\n				\n					\n		\n					\n		\n				\n						\n					\n			\n						\n				\n					\n	\n		\n\n	\n	Add to calendar	\n		\n	\n\n		\n			\n									\n	Google Calendar\n\n									\n	iCalendar\n\n									\n	Outlook 365\n\n									\n	Outlook Live\n\n							\n		\n\n		\n	\n\n				\n				\n					\n		\n					\n		\n				\n						\n					\n			\n						\n				\n					\n	\n		\n\n				Quaker City Motorsports Park	\n\n\n		\n	\n		Great Lakes Pro am Round 4			\n\n	\n\n				\n				\n					\n		\n					\n		\n					\n		\n					\n		\n				\n		Share this:FacebookXMoreEmail
URL:https://driftmaps.com/event/gridlife-laguna-seca/
LOCATION:Laguna Seca\, Monterey Salinas Highway 1021\, Salinas\, CA\, 93908\, United States
CATEGORIES:Festival
ATTACH;FMTTYPE=image/webp:https://driftmaps.com/wp-content/uploads/2025/11/0001_Laguna.webp
GEO:36.5828513;-121.7529613
X-APPLE-STRUCTURED-LOCATION;VALUE=URI;X-ADDRESS=Laguna Seca Monterey Salinas Highway 1021 Salinas CA 93908 United States;X-APPLE-RADIUS=500;X-TITLE=Monterey Salinas Highway 1021:geo:-121.7529613,36.5828513
END:VEVENT
END:VCALENDAR