BEGIN:VCALENDAR
VERSION:2.0
PRODID:-// - ECPv6.15.20//NONSGML v1.0//EN
CALSCALE:GREGORIAN
METHOD:PUBLISH
X-ORIGINAL-URL:https://driftmaps.com
X-WR-CALDESC:Events for 
REFRESH-INTERVAL;VALUE=DURATION:PT1H
X-Robots-Tag:noindex
X-PUBLISHED-TTL:PT1H
BEGIN:VTIMEZONE
TZID:UTC
BEGIN:STANDARD
TZOFFSETFROM:+0000
TZOFFSETTO:+0000
TZNAME:UTC
DTSTART:20240101T000000
END:STANDARD
END:VTIMEZONE
BEGIN:VEVENT
DTSTART;VALUE=DATE:20250906
DTEND;VALUE=DATE:20250907
DTSTAMP:20260421T092253
CREATED:20241209T074825Z
LAST-MODIFIED:20241209T074832Z
UID:6600-1757116800-1757203199@driftmaps.com
SUMMARY:Ridealongorama
DESCRIPTION:« All Events\n 				\n				\n				\n				\n					\n	Ridealongorama				\n				\n				\n				\n					\n		\n			September 6\n\n		\n\n\n	\n				\n				\n				\n				\n					\n	\n				\n				\n				\n				\n									\n					\n						\n									Event Info: \n					\n					\n				\n								\n				\n				\n				\n									\n					\n						\n									Book Hotel: \n					\n					\n				\n								\n				\n				\n						\n					\n			\n						\n				\n					\n	\n\n	Categories:	\n		Drift Day	\n\n				\n				\n				\n				\n					Organizer Info: 				\n				\n				\n				\n					\n	\n			\n			OSW Drift			\n	\n\n	\n	\n\n	Website:View Organizer Website \n\n\n\n				\n				\n					\n		\n				\n			\n						\n				\n					\n				\n				\n	\n			\n		Orlando Speed World			\n	\n	\n	\n\n19164 E Colonial D\n	\n		\n		Orlando\,\n\n	FL\n\n	32820\n\n	United States\n\n\n\n\n	+ Google Map \n\n\n	\n					\n						\n	 \n\n\n	\n	View Venue Website \n\n\n\n	\n\n		\n	\n				\n				\n					\n		\n					\n		\n				\n						\n					\n			\n						\n				\n					\n	\n		\n\n	\n	Add to calendar	\n		\n	\n\n		\n			\n									\n	Google Calendar\n\n									\n	iCalendar\n\n									\n	Outlook 365\n\n									\n	Outlook Live\n\n							\n		\n\n		\n	\n\n				\n				\n					\n		\n					\n		\n				\n						\n					\n			\n						\n				\n					\n	\n		\n\n				Slideways at the Zoo	\n\n\n		\n	\n		Stunt & Drift Show			\n\n	\n\n				\n				\n					\n		\n					\n		\n					\n		\n					\n		\n				\n		Share this:FacebookXMoreEmail
URL:https://driftmaps.com/event/ridealongorama/
LOCATION:Orlando Speed World\, 19164 E Colonial D\, Orlando\, FL\, 32820\, United States
CATEGORIES:Drift Day
ATTACH;FMTTYPE=image/jpeg:https://driftmaps.com/wp-content/uploads/2024/01/OSW-Drift-e1733713607662.jpg
GEO:28.5433319;-81.0937138
X-APPLE-STRUCTURED-LOCATION;VALUE=URI;X-ADDRESS=Orlando Speed World 19164 E Colonial D Orlando FL 32820 United States;X-APPLE-RADIUS=500;X-TITLE=19164 E Colonial D:geo:-81.0937138,28.5433319
END:VEVENT
END:VCALENDAR