BEGIN:VCALENDAR
VERSION:2.0
PRODID:-// - ECPv6.15.20//NONSGML v1.0//EN
CALSCALE:GREGORIAN
METHOD:PUBLISH
X-ORIGINAL-URL:https://driftmaps.com
X-WR-CALDESC:Events for 
REFRESH-INTERVAL;VALUE=DURATION:PT1H
X-Robots-Tag:noindex
X-PUBLISHED-TTL:PT1H
BEGIN:VTIMEZONE
TZID:UTC
BEGIN:STANDARD
TZOFFSETFROM:+0000
TZOFFSETTO:+0000
TZNAME:UTC
DTSTART:20240101T000000
END:STANDARD
END:VTIMEZONE
BEGIN:VEVENT
DTSTART;VALUE=DATE:20250830
DTEND;VALUE=DATE:20250901
DTSTAMP:20260422T123222
CREATED:20241213T075524Z
LAST-MODIFIED:20241213T075529Z
UID:6651-1756512000-1756684799@driftmaps.com
SUMMARY:Round 3- MB Drift
DESCRIPTION:« All Events\n 				\n				\n				\n				\n					\n	Round 3- MB Drift				\n				\n				\n				\n					\n		\n			August 30\n\n		\n	\n	  -  \n\n	August 31\n\n	\n				\n				\n				\n				\n					\n	\n				\n				\n				\n				\n									\n					\n						\n									Event Info: \n					\n					\n				\n								\n				\n				\n				\n									\n					\n						\n									Book Hotel: \n					\n					\n				\n								\n				\n				\n						\n					\n			\n						\n				\n					\n	\n\n	Categories:	\n		Competition	\n\n				\n				\n				\n				\n					Organizer Info: 				\n				\n				\n				\n					\n	\n			\n			MB Drift			\n	\n\n	\n	\n\n	Website:View Organizer Website \n\n\n\n				\n				\n					\n		\n				\n			\n						\n				\n					\n				\n				\n	\n			\n		Rockingham Speedway			\n	\n	\n	\n\n2152 N US Hwy 1\n	\n		\n		rockingham\,\n\n	NC\n\n	28379\n\n	United States\n\n\n\n\n	+ Google Map \n\n\n	\n					\n						\n	 \n\n\n	\n	 \n\n\n\n	\n\n		\n	\n				\n				\n					\n		\n					\n		\n				\n						\n					\n			\n						\n				\n					\n	\n		\n\n	\n	Add to calendar	\n		\n	\n\n		\n			\n									\n	Google Calendar\n\n									\n	iCalendar\n\n									\n	Outlook 365\n\n									\n	Outlook Live\n\n							\n		\n\n		\n	\n\n				\n				\n					\n		\n					\n		\n				\n						\n					\n			\n						\n				\n					\n	\n		\n\n				FRIDAY NIGHT DRIFT	\n\n\n		\n	\n		Stunt & Drift Show			\n\n	\n\n				\n				\n					\n		\n					\n		\n					\n		\n					\n		\n				\n		Share this:FacebookXMoreEmail
URL:https://driftmaps.com/event/round-3-mb-drift/
LOCATION:Rockingham Speedway\, 2152 N US Hwy 1\, rockingham\, NC\, 28379\, United States
CATEGORIES:Competition
ATTACH;FMTTYPE=image/png:https://driftmaps.com/wp-content/uploads/2024/12/mb-drift-.png
GEO:34.9761699;-79.6132304
X-APPLE-STRUCTURED-LOCATION;VALUE=URI;X-ADDRESS=Rockingham Speedway 2152 N US Hwy 1 rockingham NC 28379 United States;X-APPLE-RADIUS=500;X-TITLE=2152 N US Hwy 1:geo:-79.6132304,34.9761699
END:VEVENT
END:VCALENDAR