BEGIN:VCALENDAR
VERSION:2.0
PRODID:-// - ECPv6.15.20//NONSGML v1.0//EN
CALSCALE:GREGORIAN
METHOD:PUBLISH
X-ORIGINAL-URL:https://driftmaps.com
X-WR-CALDESC:Events for 
REFRESH-INTERVAL;VALUE=DURATION:PT1H
X-Robots-Tag:noindex
X-PUBLISHED-TTL:PT1H
BEGIN:VTIMEZONE
TZID:America/New_York
BEGIN:DAYLIGHT
TZOFFSETFROM:-0500
TZOFFSETTO:-0400
TZNAME:EDT
DTSTART:20240310T070000
END:DAYLIGHT
BEGIN:STANDARD
TZOFFSETFROM:-0400
TZOFFSETTO:-0500
TZNAME:EST
DTSTART:20241103T060000
END:STANDARD
BEGIN:DAYLIGHT
TZOFFSETFROM:-0500
TZOFFSETTO:-0400
TZNAME:EDT
DTSTART:20250309T070000
END:DAYLIGHT
BEGIN:STANDARD
TZOFFSETFROM:-0400
TZOFFSETTO:-0500
TZNAME:EST
DTSTART:20251102T060000
END:STANDARD
BEGIN:DAYLIGHT
TZOFFSETFROM:-0500
TZOFFSETTO:-0400
TZNAME:EDT
DTSTART:20260308T070000
END:DAYLIGHT
BEGIN:STANDARD
TZOFFSETFROM:-0400
TZOFFSETTO:-0500
TZNAME:EST
DTSTART:20261101T060000
END:STANDARD
END:VTIMEZONE
BEGIN:VEVENT
DTSTART;VALUE=DATE:20251018
DTEND;VALUE=DATE:20251019
DTSTAMP:20260421T092557
CREATED:20250819T231344Z
LAST-MODIFIED:20250819T231344Z
UID:13879-1760745600-1760831999@driftmaps.com
SUMMARY:Slidewayz at the City
DESCRIPTION:« All Events\n 				\n				\n				\n				\n					\n	Slidewayz at the City				\n				\n				\n				\n					\n		\n			October 18\n\n		\n\n\n	\n				\n				\n				\n				\n					\n	\n				\n				\n				\n				\n									Slidewayz at the City is finally here and AutoMODIFIED is excited to be hosting it.\nThis is a new track for us and we cannot wait to try it out! Our first event here is only $100 per Driver Ticket (includes 1 pit pass). Don’t miss out on this new event!\nCost:Driver fee• $100 (includes one person pit crew entry)\nSpectator fee• $5\nChildren 12 & Under• Free\nPit Pass• $20 (ride alongs may be available with a helmet and seat belts/harnesses\, so come prepared) ONLY one passenger per car.\nMedia pass• $20 (get front row/infield footage\, hi-vis jacket\, must message ahead of time)\nPre-Register PayPal: @AutoMODIFIED (Friends & Family Section.) You may pay at the Door as well.Schedule:\nGates open at 11amTech Inspection at noonTrack is live at 1pmDay ends at 10pm\nThe layout will be announced midway through the week prior.\nThe event is tailored to both experienced & inexperienced drivers. We have something for everyone. In addition to our two driving lanes\, we have added a tandem lane as well. Want to skip the line? Feel free to drive in the Tandem Lane.\nThis Track is great for Beginners and for Seasoned Drivers.\nTrack Rules:•Must have a helmet•Fire Extinguisher required in car w/easy access•Harness/Seat Belt Required•Convertibles must have Roll Bars•Cars must not be actively leaking fluids•Nothing loose in car\, including tools\, trash\, or any other loose articles.•No Alcohol is allowed in the pit section.•No passing in Tandem Drifting\nConcessions will be available onsiteThere is plenty of parking available.\nAutoCity Speedway & AutoMODIFIED is not responsible for hauling or transporting any broken vehicles so plan ahead if driving in.\nLet’s have a great time out there\, and enjoy our time on the track!								\n				\n				\n				\n									\n					\n						\n									Event Info: \n					\n					\n				\n								\n				\n				\n						\n					\n			\n						\n				\n					\n	\n\n	Categories:	\n		Drift Day	\n\n				\n				\n				\n				\n					Organizer Info: 				\n				\n				\n				\n					\n	\n			\n			Automodified			\n	\n\n	\n	\n\n	Website:View Organizer Website \n\n\n\n				\n				\n					\n		\n				\n			\n						\n				\n					\n				\n				\n	\n			\n		Autocity Speedway			\n	\n	\n	\n\n10205 N Saginaw Rd\n	\n		\n		clio\,\n\n	MI\n\n	48420\n\n	United States\n\n\n\n\n	+ Google Map \n\n\n	\n					\n						\n	 \n\n\n	\n	 \n\n\n\n	\n\n		\n	\n				\n				\n					\n		\n					\n		\n				\n						\n					\n			\n						\n				\n					\n	\n		\n\n	\n	Add to calendar	\n		\n	\n\n		\n			\n									\n	Google Calendar\n\n									\n	iCalendar\n\n									\n	Outlook 365\n\n									\n	Outlook Live\n\n							\n		\n\n		\n	\n\n				\n				\n					\n		\n					\n		\n				\n						\n					\n			\n						\n				\n					\n	\n		\n\n				Fall Ladies Drift Day	\n\n\n		\n	\n		Stunt & Drift Show			\n\n	\n\n				\n				\n					\n		\n					\n		\n					\n		\n					\n		\n				\n		Share this:FacebookXMoreEmail
URL:https://driftmaps.com/event/slidewayz-at-the-city/
LOCATION:Autocity Speedway\, 10205 N Saginaw Rd\, clio\, MI\, 48420\, United States
CATEGORIES:Drift Day
ATTACH;FMTTYPE=image/png:https://driftmaps.com/wp-content/uploads/2024/01/drift-maps-png-e1734303992366.png
GEO:43.1545611;-83.7019786
X-APPLE-STRUCTURED-LOCATION;VALUE=URI;X-ADDRESS=Autocity Speedway 10205 N Saginaw Rd clio MI 48420 United States;X-APPLE-RADIUS=500;X-TITLE=10205 N Saginaw Rd:geo:-83.7019786,43.1545611
END:VEVENT
END:VCALENDAR