BEGIN:VCALENDAR
VERSION:2.0
PRODID:-// - ECPv6.15.20//NONSGML v1.0//EN
CALSCALE:GREGORIAN
METHOD:PUBLISH
X-ORIGINAL-URL:https://driftmaps.com
X-WR-CALDESC:Events for 
REFRESH-INTERVAL;VALUE=DURATION:PT1H
X-Robots-Tag:noindex
X-PUBLISHED-TTL:PT1H
BEGIN:VTIMEZONE
TZID:America/New_York
BEGIN:DAYLIGHT
TZOFFSETFROM:-0500
TZOFFSETTO:-0400
TZNAME:EDT
DTSTART:20240310T070000
END:DAYLIGHT
BEGIN:STANDARD
TZOFFSETFROM:-0400
TZOFFSETTO:-0500
TZNAME:EST
DTSTART:20241103T060000
END:STANDARD
BEGIN:DAYLIGHT
TZOFFSETFROM:-0500
TZOFFSETTO:-0400
TZNAME:EDT
DTSTART:20250309T070000
END:DAYLIGHT
BEGIN:STANDARD
TZOFFSETFROM:-0400
TZOFFSETTO:-0500
TZNAME:EST
DTSTART:20251102T060000
END:STANDARD
BEGIN:DAYLIGHT
TZOFFSETFROM:-0500
TZOFFSETTO:-0400
TZNAME:EDT
DTSTART:20260308T070000
END:DAYLIGHT
BEGIN:STANDARD
TZOFFSETFROM:-0400
TZOFFSETTO:-0500
TZNAME:EST
DTSTART:20261101T060000
END:STANDARD
END:VTIMEZONE
BEGIN:VEVENT
DTSTART;VALUE=DATE:20250606
DTEND;VALUE=DATE:20250608
DTSTAMP:20260420T141957
CREATED:20241231T030127Z
LAST-MODIFIED:20250216T153528Z
UID:9218-1749168000-1749340799@driftmaps.com
SUMMARY:Ultimate Drifting Challenge
DESCRIPTION:« All Events\n 				\n				\n				\n				\n					\n	Ultimate Drifting Challenge				\n				\n				\n				\n					\n		\n			June 6\n\n		\n	\n	  -  \n\n	June 7\n\n	\n				\n				\n				\n				\n					\n	\n				\n				\n				\n				\n							\n							\n					\n													\n															\n								\n														\n												Rules/Classes\n					\n					This event has 2 classes: -215 hard compound (No tire TW rules) -235 Spec (No tire TW rules)  Rulebook: LINK \n				\n								\n						\n				\n				\n				\n							\n							\n					\n													\n															\n								\n														\n												Media\n					\n					View Media attending: CLICK \n				\n								\n						\n				\n				\n				\n									\n					\n						\n									Event Registration: \n					\n					\n				\n								\n				\n				\n				\n									\n					\n						\n									Book Hotel: \n					\n					\n				\n								\n				\n				\n				\n							\n							\n					\n						Instagram\n											\n				\n					\n						\n				\n				\n						\n					\n			\n						\n				\n					\n	\n\n	Categories:	\n		Competition	\n\n				\n				\n				\n				\n					Organizer Info: 				\n				\n				\n				\n					\n	\n			\n			Ultimate Drifting Challenge			\n	\n\n	\n	\n\n	Website:View Organizer Website \n\n\n\n				\n				\n					\n		\n				\n			\n						\n				\n					\n				\n				\n	\n			\n		Orange Show Speedway			\n	\n	\n	\n\n689 S E St\n	\n		\n		San Bernardino\,\n\n	CA\n\n	92408\n\n	United States\n\n\n\n\n	+ Google Map \n\n\n	\n					\n						\n	 \n\n\n	\n	 \n\n\n\n	\n\n		\n	\n				\n				\n					\n		\n					\n		\n				\n						\n					\n			\n						\n				\n					\n	\n		\n\n	\n	Add to calendar	\n		\n	\n\n		\n			\n									\n	Google Calendar\n\n									\n	iCalendar\n\n									\n	Outlook 365\n\n									\n	Outlook Live\n\n							\n		\n\n		\n	\n\n				\n				\n					\n		\n					\n		\n				\n						\n					\n			\n						\n				\n					\n	\n		\n\n				Stunt & Drift Show	\n\n\n		\n	\n		Precision Drift - Ozarks			\n\n	\n\n				\n				\n					\n		\n					\n		\n					\n		\n					\n		\n				\n		Share this:FacebookXMoreEmail
URL:https://driftmaps.com/event/ultimate-drifting-challenge-6/
LOCATION:Orange Show Speedway\, 689 S E St\, San Bernardino\, CA\, 92408\, United States
CATEGORIES:Competition
ATTACH;FMTTYPE=image/png:https://driftmaps.com/wp-content/uploads/2024/12/UDC.png
GEO:34.0881292;-117.2920432
X-APPLE-STRUCTURED-LOCATION;VALUE=URI;X-ADDRESS=Orange Show Speedway 689 S E St San Bernardino CA 92408 United States;X-APPLE-RADIUS=500;X-TITLE=689 S E St:geo:-117.2920432,34.0881292
END:VEVENT
END:VCALENDAR