BEGIN:VCALENDAR
VERSION:2.0
PRODID:-// - ECPv6.15.20//NONSGML v1.0//EN
CALSCALE:GREGORIAN
METHOD:PUBLISH
X-ORIGINAL-URL:https://driftmaps.com
X-WR-CALDESC:Events for 
REFRESH-INTERVAL;VALUE=DURATION:PT1H
X-Robots-Tag:noindex
X-PUBLISHED-TTL:PT1H
BEGIN:VTIMEZONE
TZID:America/New_York
BEGIN:DAYLIGHT
TZOFFSETFROM:-0500
TZOFFSETTO:-0400
TZNAME:EDT
DTSTART:20240310T070000
END:DAYLIGHT
BEGIN:STANDARD
TZOFFSETFROM:-0400
TZOFFSETTO:-0500
TZNAME:EST
DTSTART:20241103T060000
END:STANDARD
BEGIN:DAYLIGHT
TZOFFSETFROM:-0500
TZOFFSETTO:-0400
TZNAME:EDT
DTSTART:20250309T070000
END:DAYLIGHT
BEGIN:STANDARD
TZOFFSETFROM:-0400
TZOFFSETTO:-0500
TZNAME:EST
DTSTART:20251102T060000
END:STANDARD
BEGIN:DAYLIGHT
TZOFFSETFROM:-0500
TZOFFSETTO:-0400
TZNAME:EDT
DTSTART:20260308T070000
END:DAYLIGHT
BEGIN:STANDARD
TZOFFSETFROM:-0400
TZOFFSETTO:-0500
TZNAME:EST
DTSTART:20261101T060000
END:STANDARD
END:VTIMEZONE
BEGIN:VTIMEZONE
TZID:UTC
BEGIN:STANDARD
TZOFFSETFROM:+0000
TZOFFSETTO:+0000
TZNAME:UTC
DTSTART:20240101T000000
END:STANDARD
END:VTIMEZONE
BEGIN:VEVENT
DTSTART;VALUE=DATE:20250502
DTEND;VALUE=DATE:20250505
DTSTAMP:20260422T030829
CREATED:20250117T001144Z
LAST-MODIFIED:20250217T003706Z
UID:10000838-1746144000-1746403199@driftmaps.com
SUMMARY:Klutch Kickers Round 1 -
DESCRIPTION:« All Events\n 				\n				\n				\n				\n					\n	East 10 Pro Am				\n				\n				\n				\n					\n		\n			August 16\n\n		\n\n\n	\n				\n				\n				\n				\n					\n	\n				\n				\n				\n				\n									\n					\n						\n									Event Info: \n					\n					\n				\n								\n				\n				\n				\n									\n					\n						\n									Book Hotel: \n					\n					\n				\n								\n				\n				\n				\n									\n					\n						\n									Driftmaps Merch:\n					\n					\n				\n								\n				\n				\n						\n					\n			\n						\n				\n					\n	\n\n	Categories:	\n		Competition	\n\n				\n				\n				\n				\n					Organizer Info: 				\n				\n				\n				\n					\n	\n			\n			East 10			\n	\n\n	\n	\n\n	Website:View Organizer Website \n\n\n\n				\n				\n					\n		\n				\n			\n						\n				\n					\n				\n				\n	\n			\n		Bristol Motor Speedway			\n	\n	\n	\n\n151 Speedway Blvd\n	\n		\n		Bristol\,\n\n	TN\n\n	37620\n\n	United States\n\n\n\n\n	+ Google Map \n\n\n	\n					\n						\n	 \n\n\n	\n	 \n\n\n\n	\n\n		\n	\n				\n				\n					\n		\n					\n		\n				\n						\n					\n			\n						\n				\n					\n	\n		\n\n	\n	Add to calendar	\n		\n	\n\n		\n			\n									\n	Google Calendar\n\n									\n	iCalendar\n\n									\n	Outlook 365\n\n									\n	Outlook Live\n\n							\n		\n\n		\n	\n\n				\n				\n					\n		\n					\n		\n				\n						\n					\n			\n						\n				\n					\n	\n		\n\n				East 10 Pro Am	\n\n\n		\n	\n		Gridlife Circuit Legends
URL:https://driftmaps.com/event/klutch-kickers-round-1/
LOCATION:Midpond\, 6230 Co Rd 26\, Columbiana\, AL\, 35051\, United States
CATEGORIES:Competition
ATTACH;FMTTYPE=image/jpeg:https://driftmaps.com/wp-content/uploads/2024/12/kk-large.jpg
GEO:33.1781718;-86.6072054
X-APPLE-STRUCTURED-LOCATION;VALUE=URI;X-ADDRESS=Midpond 6230 Co Rd 26 Columbiana AL 35051 United States;X-APPLE-RADIUS=500;X-TITLE=6230 Co Rd 26:geo:-86.6072054,33.1781718
END:VEVENT
BEGIN:VEVENT
DTSTART;VALUE=DATE:20250503
DTEND;VALUE=DATE:20250504
DTSTAMP:20260422T030830
CREATED:20250113T012225Z
LAST-MODIFIED:20250113T012324Z
UID:10000816-1746230400-1746316799@driftmaps.com
SUMMARY:Daily Drift Round 1
DESCRIPTION:« All Events\n 				\n				\n				\n				\n					\n	East 10 Pro Am				\n				\n				\n				\n					\n		\n			August 16\n\n		\n\n\n	\n				\n				\n				\n				\n					\n	\n				\n				\n				\n				\n									\n					\n						\n									Event Info: \n					\n					\n				\n								\n				\n				\n				\n									\n					\n						\n									Book Hotel: \n					\n					\n				\n								\n				\n				\n				\n									\n					\n						\n									Driftmaps Merch:\n					\n					\n				\n								\n				\n				\n						\n					\n			\n						\n				\n					\n	\n\n	Categories:	\n		Competition	\n\n				\n				\n				\n				\n					Organizer Info: 				\n				\n				\n				\n					\n	\n			\n			East 10			\n	\n\n	\n	View Organizer Website \n\n\n\n				\n				\n					\n		\n				\n			\n						\n				\n					\n				\n				\n	\n			\n		Bristol Motor Speedway			\n	\n	\n	\n\n151 Speedway Blvd\n	\n		\n		Bristol\,\n\n	TN\n\n	37620\n\n	United States\n\n\n\n\n	+ Google Map \n\n\n	\n					\n						\n	 \n\n\n	\n	 \n\n\n\n	\n\n		\n	\n				\n				\n					\n		\n					\n		\n				\n						\n					\n			\n						\n				\n					\n	\n		\n\n	\n	Add to calendar	\n		\n	\n\n		\n			\n									\n	Google Calendar\n\n									\n	iCalendar\n\n									\n	Outlook 365\n\n									\n	Outlook Live\n\n							\n		\n\n		\n	\n\n				\n				\n					\n		\n					\n		\n				\n						\n					\n			\n						\n				\n					\n	\n		\n\n				East 10 Pro Am	\n\n\n		\n	\n		Gridlife Circuit Legends
URL:https://driftmaps.com/event/daily-drift-round-1/
LOCATION:USAIR Motorspors Raceway\, W5901 County Rd BE\, Shawano\, WI\, 54166\, United States
CATEGORIES:Competition
ATTACH;FMTTYPE=image/png:https://driftmaps.com/wp-content/uploads/2025/01/usair.png
GEO:44.7727701;-88.5390088
X-APPLE-STRUCTURED-LOCATION;VALUE=URI;X-ADDRESS=USAIR Motorspors Raceway W5901 County Rd BE Shawano WI 54166 United States;X-APPLE-RADIUS=500;X-TITLE=W5901 County Rd BE:geo:-88.5390088,44.7727701
END:VEVENT
BEGIN:VEVENT
DTSTART;VALUE=DATE:20250503
DTEND;VALUE=DATE:20250505
DTSTAMP:20260422T030830
CREATED:20241213T075142Z
LAST-MODIFIED:20241213T075225Z
UID:10000568-1746230400-1746403199@driftmaps.com
SUMMARY:Round 1- MB Drift
DESCRIPTION:« All Events\n 				\n				\n				\n				\n					\n	East 10 Pro Am				\n				\n				\n				\n					\n		\n			August 16\n\n		\n\n\n	\n				\n				\n				\n				\n					\n	\n				\n				\n				\n				\n									\n					\n						\n									Event Info: \n					\n					\n				\n								\n				\n				\n				\n									\n					\n						\n									Book Hotel: \n					\n					\n				\n								\n				\n				\n				\n									\n					\n						\n									Driftmaps Merch:\n					\n					\n				\n								\n				\n				\n						\n					\n			\n						\n				\n					\n	\n\n	Categories:	\n		Competition	\n\n				\n				\n				\n				\n					Organizer Info: 				\n				\n				\n				\n					\n	\n			\n			East 10			\n	\n\n	\n	View Organizer Website \n\n\n\n				\n				\n					\n		\n				\n			\n						\n				\n					\n				\n				\n	\n			\n		Bristol Motor Speedway			\n	\n	\n	\n\n151 Speedway Blvd\n	\n		\n		Bristol\,\n\n	TN\n\n	37620\n\n	United States\n\n\n\n\n	+ Google Map \n\n\n	\n					\n						\n	 \n\n\n	\n	 \n\n\n\n	\n\n		\n	\n				\n				\n					\n		\n					\n		\n				\n						\n					\n			\n						\n				\n					\n	\n		\n\n	\n	Add to calendar	\n		\n	\n\n		\n			\n									\n	Google Calendar\n\n									\n	iCalendar\n\n									\n	Outlook 365\n\n									\n	Outlook Live\n\n							\n		\n\n		\n	\n\n				\n				\n					\n		\n					\n		\n				\n						\n					\n			\n						\n				\n					\n	\n		\n\n				East 10 Pro Am	\n\n\n		\n	\n		Gridlife Circuit Legends
URL:https://driftmaps.com/event/round-1-mb-drift/
LOCATION:Rockingham Speedway\, 2152 N US Hwy 1\, rockingham\, NC\, 28379\, United States
CATEGORIES:Competition
ATTACH;FMTTYPE=image/png:https://driftmaps.com/wp-content/uploads/2024/12/mb-drift-.png
GEO:34.9761699;-79.6132304
X-APPLE-STRUCTURED-LOCATION;VALUE=URI;X-ADDRESS=Rockingham Speedway 2152 N US Hwy 1 rockingham NC 28379 United States;X-APPLE-RADIUS=500;X-TITLE=2152 N US Hwy 1:geo:-79.6132304,34.9761699
END:VEVENT
BEGIN:VEVENT
DTSTART;VALUE=DATE:20250504
DTEND;VALUE=DATE:20250505
DTSTAMP:20260422T030830
CREATED:20250113T012403Z
LAST-MODIFIED:20250113T012413Z
UID:10000817-1746316800-1746403199@driftmaps.com
SUMMARY:Daily Drift Round 2
DESCRIPTION:« All Events\n 				\n				\n				\n				\n					\n	East 10 Pro Am				\n				\n				\n				\n					\n		\n			August 16\n\n		\n\n\n	\n				\n				\n				\n				\n					\n	\n				\n				\n				\n				\n									\n					\n						\n									Event Info: \n					\n					\n				\n								\n				\n				\n				\n									\n					\n						\n									Book Hotel: \n					\n					\n				\n								\n				\n				\n				\n									\n					\n						\n									Driftmaps Merch:\n					\n					\n				\n								\n				\n				\n						\n					\n			\n						\n				\n					\n	\n\n	Categories:	\n		Competition	\n\n				\n				\n				\n				\n					Organizer Info: 				\n				\n				\n				\n					\n	\n			\n			East 10			\n	\n\n	\n	View Organizer Website \n\n\n\n				\n				\n					\n		\n				\n			\n						\n				\n					\n				\n				\n	\n			\n		Bristol Motor Speedway			\n	\n	\n	\n\n151 Speedway Blvd\n	\n		\n		Bristol\,\n\n	TN\n\n	37620\n\n	United States\n\n\n\n\n	+ Google Map \n\n\n	\n					\n						\n	 \n\n\n	\n	 \n\n\n\n	\n\n		\n	\n				\n				\n					\n		\n					\n		\n				\n						\n					\n			\n						\n				\n					\n	\n		\n\n	\n	Add to calendar	\n		\n	\n\n		\n			\n									\n	Google Calendar\n\n									\n	iCalendar\n\n									\n	Outlook 365\n\n									\n	Outlook Live\n\n							\n		\n\n		\n	\n\n				\n				\n					\n		\n					\n		\n				\n						\n					\n			\n						\n				\n					\n	\n		\n\n				East 10 Pro Am	\n\n\n		\n	\n		Gridlife Circuit Legends
URL:https://driftmaps.com/event/daily-drift-round-2/
LOCATION:USAIR Motorspors Raceway\, W5901 County Rd BE\, Shawano\, WI\, 54166\, United States
CATEGORIES:Competition
ATTACH;FMTTYPE=image/png:https://driftmaps.com/wp-content/uploads/2025/01/usair.png
GEO:44.7727701;-88.5390088
X-APPLE-STRUCTURED-LOCATION;VALUE=URI;X-ADDRESS=USAIR Motorspors Raceway W5901 County Rd BE Shawano WI 54166 United States;X-APPLE-RADIUS=500;X-TITLE=W5901 County Rd BE:geo:-88.5390088,44.7727701
END:VEVENT
BEGIN:VEVENT
DTSTART;VALUE=DATE:20250510
DTEND;VALUE=DATE:20250511
DTSTAMP:20260422T030830
CREATED:20250118T171513Z
LAST-MODIFIED:20250118T171736Z
UID:10000845-1746835200-1746921599@driftmaps.com
SUMMARY:Elevated Koncepts
DESCRIPTION:« All Events\n 				\n				\n				\n				\n					\n	East 10 Pro Am				\n				\n				\n				\n					\n		\n			August 16\n\n		\n\n\n	\n				\n				\n				\n				\n					\n	\n				\n				\n				\n				\n									\n					\n						\n									Event Info: \n					\n					\n				\n								\n				\n				\n				\n									\n					\n						\n									Book Hotel: \n					\n					\n				\n								\n				\n				\n				\n									\n					\n						\n									Driftmaps Merch:\n					\n					\n				\n								\n				\n				\n						\n					\n			\n						\n				\n					\n	\n\n	Categories:	\n		Competition	\n\n				\n				\n				\n				\n					Organizer Info: 				\n				\n				\n				\n					\n	\n			\n			East 10			\n	\n\n	\n	View Organizer Website \n\n\n\n				\n				\n					\n		\n				\n			\n						\n				\n					\n				\n				\n	\n			\n		Bristol Motor Speedway			\n	\n	\n	\n\n151 Speedway Blvd\n	\n		\n		Bristol\,\n\n	TN\n\n	37620\n\n	United States\n\n\n\n\n	+ Google Map \n\n\n	\n					\n						\n	 \n\n\n	\n	 \n\n\n\n	\n\n		\n	\n				\n				\n					\n		\n					\n		\n				\n						\n					\n			\n						\n				\n					\n	\n		\n\n	\n	Add to calendar	\n		\n	\n\n		\n			\n									\n	Google Calendar\n\n									\n	iCalendar\n\n									\n	Outlook 365\n\n									\n	Outlook Live\n\n							\n		\n\n		\n	\n\n				\n				\n					\n		\n					\n		\n				\n						\n					\n			\n						\n				\n					\n	\n		\n\n				East 10 Pro Am	\n\n\n		\n	\n		Gridlife Circuit Legends
URL:https://driftmaps.com/event/elevated-koncepts/
LOCATION:Lucas Oil Raceway\, 10267 US Hwy 136\, Indianapolis\, IN\, 46234\, United States
CATEGORIES:Competition,Drift Day
ATTACH;FMTTYPE=image/jpeg:https://driftmaps.com/wp-content/uploads/2025/01/b613a14c-3cc6-4e3f-8e1b-97b24697ac03.jpeg
GEO:39.8220362;-86.3404883
X-APPLE-STRUCTURED-LOCATION;VALUE=URI;X-ADDRESS=Lucas Oil Raceway 10267 US Hwy 136 Indianapolis IN 46234 United States;X-APPLE-RADIUS=500;X-TITLE=10267 US Hwy 136:geo:-86.3404883,39.8220362
END:VEVENT
BEGIN:VEVENT
DTSTART;VALUE=DATE:20250516
DTEND;VALUE=DATE:20250518
DTSTAMP:20260422T030830
CREATED:20241231T025754Z
LAST-MODIFIED:20250216T153556Z
UID:10000752-1747353600-1747526399@driftmaps.com
SUMMARY:Ultimate Drifting Challenge
DESCRIPTION:« All Events\n 				\n				\n				\n				\n					\n	East 10 Pro Am				\n				\n				\n				\n					\n		\n			August 16\n\n		\n\n\n	\n				\n				\n				\n				\n					\n	\n				\n				\n				\n				\n									\n					\n						\n									Event Info: \n					\n					\n				\n								\n				\n				\n				\n									\n					\n						\n									Book Hotel: \n					\n					\n				\n								\n				\n				\n				\n									\n					\n						\n									Driftmaps Merch:\n					\n					\n				\n								\n				\n				\n						\n					\n			\n						\n				\n					\n	\n\n	Categories:	\n		Competition	\n\n				\n				\n				\n				\n					Organizer Info: 				\n				\n				\n				\n					\n	\n			\n			East 10			\n	\n\n	\n	View Organizer Website \n\n\n\n				\n				\n					\n		\n				\n			\n						\n				\n					\n				\n				\n	\n			\n		Bristol Motor Speedway			\n	\n	\n	\n\n151 Speedway Blvd\n	\n		\n		Bristol\,\n\n	TN\n\n	37620\n\n	United States\n\n\n\n\n	+ Google Map \n\n\n	\n					\n						\n	 \n\n\n	\n	 \n\n\n\n	\n\n		\n	\n				\n				\n					\n		\n					\n		\n				\n						\n					\n			\n						\n				\n					\n	\n		\n\n	\n	Add to calendar	\n		\n	\n\n		\n			\n									\n	Google Calendar\n\n									\n	iCalendar\n\n									\n	Outlook 365\n\n									\n	Outlook Live\n\n							\n		\n\n		\n	\n\n				\n				\n					\n		\n					\n		\n				\n						\n					\n			\n						\n				\n					\n	\n		\n\n				East 10 Pro Am	\n\n\n		\n	\n		Gridlife Circuit Legends
URL:https://driftmaps.com/event/ultimate-drifting-challenge-5/
LOCATION:Motorplex at the Mill\, 510 W Main Street\, Emmett\, IN\, 83617\, United States
CATEGORIES:Competition
ATTACH;FMTTYPE=image/png:https://driftmaps.com/wp-content/uploads/2024/12/UDC.png
GEO:43.874876;-116.5063943
X-APPLE-STRUCTURED-LOCATION;VALUE=URI;X-ADDRESS=Motorplex at the Mill 510 W Main Street Emmett IN 83617 United States;X-APPLE-RADIUS=500;X-TITLE=510 W Main Street:geo:-116.5063943,43.874876
END:VEVENT
BEGIN:VEVENT
DTSTART;TZID=America/New_York:20250524T140000
DTEND;TZID=America/New_York:20250524T220000
DTSTAMP:20260422T030830
CREATED:20250111T231011Z
LAST-MODIFIED:20250111T231021Z
UID:10000791-1748095200-1748124000@driftmaps.com
SUMMARY:Whiskey Garage Comp Round 2
DESCRIPTION:« All Events\n 				\n				\n				\n				\n					\n	East 10 Pro Am				\n				\n				\n				\n					\n		\n			August 16\n\n		\n\n\n	\n				\n				\n				\n				\n					\n	\n				\n				\n				\n				\n									\n					\n						\n									Event Info: \n					\n					\n				\n								\n				\n				\n				\n									\n					\n						\n									Book Hotel: \n					\n					\n				\n								\n				\n				\n				\n									\n					\n						\n									Driftmaps Merch:\n					\n					\n				\n								\n				\n				\n						\n					\n			\n						\n				\n					\n	\n\n	Categories:	\n		Competition	\n\n				\n				\n				\n				\n					Organizer Info: 				\n				\n				\n				\n					\n	\n			\n			East 10			\n	\n\n	\n	View Organizer Website \n\n\n\n				\n				\n					\n		\n				\n			\n						\n				\n					\n				\n				\n	\n			\n		Bristol Motor Speedway			\n	\n	\n	\n\n151 Speedway Blvd\n	\n		\n		Bristol\,\n\n	TN\n\n	37620\n\n	United States\n\n\n\n\n	+ Google Map \n\n\n	\n					\n						\n	 \n\n\n	\n	 \n\n\n\n	\n\n		\n	\n				\n				\n					\n		\n					\n		\n				\n						\n					\n			\n						\n				\n					\n	\n		\n\n	\n	Add to calendar	\n		\n	\n\n		\n			\n									\n	Google Calendar\n\n									\n	iCalendar\n\n									\n	Outlook 365\n\n									\n	Outlook Live\n\n							\n		\n\n		\n	\n\n				\n				\n					\n		\n					\n		\n				\n						\n					\n			\n						\n				\n					\n	\n		\n\n				East 10 Pro Am	\n\n\n		\n	\n		Gridlife Circuit Legends
URL:https://driftmaps.com/event/whiskey-garage-comp-round-2/
LOCATION:Suika Circuit\, 100 Speedway Park Blvd\, Albuquerque\, NM\, 87121\, United States
CATEGORIES:Competition
ATTACH;FMTTYPE=image/jpeg:https://driftmaps.com/wp-content/uploads/2025/01/Suika-Logo-zia-scaled.jpg
ORGANIZER;CN="Dan Brockett":MAILTO:eyehate@gmail.com
GEO:35.0209955;-106.8603228
X-APPLE-STRUCTURED-LOCATION;VALUE=URI;X-ADDRESS=Suika Circuit 100 Speedway Park Blvd Albuquerque NM 87121 United States;X-APPLE-RADIUS=500;X-TITLE=100 Speedway Park Blvd:geo:-106.8603228,35.0209955
END:VEVENT
BEGIN:VEVENT
DTSTART;VALUE=DATE:20250530
DTEND;VALUE=DATE:20250601
DTSTAMP:20260422T030830
CREATED:20250111T235118Z
LAST-MODIFIED:20250111T235345Z
UID:10000805-1748563200-1748735999@driftmaps.com
SUMMARY:Drift Colorado Pro-Am  Round 1
DESCRIPTION:« All Events\n 				\n				\n				\n				\n					\n	East 10 Pro Am				\n				\n				\n				\n					\n		\n			August 16\n\n		\n\n\n	\n				\n				\n				\n				\n					\n	\n				\n				\n				\n				\n									\n					\n						\n									Event Info: \n					\n					\n				\n								\n				\n				\n				\n									\n					\n						\n									Book Hotel: \n					\n					\n				\n								\n				\n				\n				\n									\n					\n						\n									Driftmaps Merch:\n					\n					\n				\n								\n				\n				\n						\n					\n			\n						\n				\n					\n	\n\n	Categories:	\n		Competition	\n\n				\n				\n				\n				\n					Organizer Info: 				\n				\n				\n				\n					\n	\n			\n			East 10			\n	\n\n	\n	View Organizer Website \n\n\n\n				\n				\n					\n		\n				\n			\n						\n				\n					\n				\n				\n	\n			\n		Bristol Motor Speedway			\n	\n	\n	\n\n151 Speedway Blvd\n	\n		\n		Bristol\,\n\n	TN\n\n	37620\n\n	United States\n\n\n\n\n	+ Google Map \n\n\n	\n					\n						\n	 \n\n\n	\n	 \n\n\n\n	\n\n		\n	\n				\n				\n					\n		\n					\n		\n				\n						\n					\n			\n						\n				\n					\n	\n		\n\n	\n	Add to calendar	\n		\n	\n\n		\n			\n									\n	Google Calendar\n\n									\n	iCalendar\n\n									\n	Outlook 365\n\n									\n	Outlook Live\n\n							\n		\n\n		\n	\n\n				\n				\n					\n		\n					\n		\n				\n						\n					\n			\n						\n				\n					\n	\n		\n\n				East 10 Pro Am	\n\n\n		\n	\n		Gridlife Circuit Legends
URL:https://driftmaps.com/event/drift-colorado-pro-am-round-1/
LOCATION:Colorado National Speedway\, 4281 Co Rd 10\, Danoco\, CO\, 80514\, United States
CATEGORIES:Competition
ATTACH;FMTTYPE=image/webp:https://driftmaps.com/wp-content/uploads/2024/01/drift-colorado-logo.webp
GEO:40.0621974;-104.9728077
X-APPLE-STRUCTURED-LOCATION;VALUE=URI;X-ADDRESS=Colorado National Speedway 4281 Co Rd 10 Danoco CO 80514 United States;X-APPLE-RADIUS=500;X-TITLE=4281 Co Rd 10:geo:-104.9728077,40.0621974
END:VEVENT
END:VCALENDAR