BEGIN:VCALENDAR
VERSION:2.0
PRODID:-// - ECPv6.15.20//NONSGML v1.0//EN
CALSCALE:GREGORIAN
METHOD:PUBLISH
X-ORIGINAL-URL:https://driftmaps.com
X-WR-CALDESC:Events for 
REFRESH-INTERVAL;VALUE=DURATION:PT1H
X-Robots-Tag:noindex
X-PUBLISHED-TTL:PT1H
BEGIN:VTIMEZONE
TZID:America/New_York
BEGIN:DAYLIGHT
TZOFFSETFROM:-0500
TZOFFSETTO:-0400
TZNAME:EDT
DTSTART:20240310T070000
END:DAYLIGHT
BEGIN:STANDARD
TZOFFSETFROM:-0400
TZOFFSETTO:-0500
TZNAME:EST
DTSTART:20241103T060000
END:STANDARD
BEGIN:DAYLIGHT
TZOFFSETFROM:-0500
TZOFFSETTO:-0400
TZNAME:EDT
DTSTART:20250309T070000
END:DAYLIGHT
BEGIN:STANDARD
TZOFFSETFROM:-0400
TZOFFSETTO:-0500
TZNAME:EST
DTSTART:20251102T060000
END:STANDARD
BEGIN:DAYLIGHT
TZOFFSETFROM:-0500
TZOFFSETTO:-0400
TZNAME:EDT
DTSTART:20260308T070000
END:DAYLIGHT
BEGIN:STANDARD
TZOFFSETFROM:-0400
TZOFFSETTO:-0500
TZNAME:EST
DTSTART:20261101T060000
END:STANDARD
END:VTIMEZONE
BEGIN:VTIMEZONE
TZID:UTC
BEGIN:STANDARD
TZOFFSETFROM:+0000
TZOFFSETTO:+0000
TZNAME:UTC
DTSTART:20240101T000000
END:STANDARD
END:VTIMEZONE
BEGIN:VEVENT
DTSTART;VALUE=DATE:20250801
DTEND;VALUE=DATE:20250803
DTSTAMP:20260421T190820
CREATED:20241231T030254Z
LAST-MODIFIED:20250216T153420Z
UID:10000754-1754006400-1754179199@driftmaps.com
SUMMARY:Ultimate Drifting Challenge
DESCRIPTION:« All Events\n 				\n				\n				\n				\n					\n	East 10 Pro Am				\n				\n				\n				\n					\n		\n			August 16\n\n		\n\n\n	\n				\n				\n				\n				\n					\n	\n				\n				\n				\n				\n									\n					\n						\n									Event Info: \n					\n					\n				\n								\n				\n				\n				\n									\n					\n						\n									Book Hotel: \n					\n					\n				\n								\n				\n				\n				\n									\n					\n						\n									Driftmaps Merch:\n					\n					\n				\n								\n				\n				\n						\n					\n			\n						\n				\n					\n	\n\n	Categories:	\n		Competition	\n\n				\n				\n				\n				\n					Organizer Info: 				\n				\n				\n				\n					\n	\n			\n			East 10			\n	\n\n	\n	\n\n	Website:View Organizer Website \n\n\n\n				\n				\n					\n		\n				\n			\n						\n				\n					\n				\n				\n	\n			\n		Bristol Motor Speedway			\n	\n	\n	\n\n151 Speedway Blvd\n	\n		\n		Bristol\,\n\n	TN\n\n	37620\n\n	United States\n\n\n\n\n	+ Google Map \n\n\n	\n					\n						\n	 \n\n\n	\n	 \n\n\n\n	\n\n		\n	\n				\n				\n					\n		\n					\n		\n				\n						\n					\n			\n						\n				\n					\n	\n		\n\n	\n	Add to calendar	\n		\n	\n\n		\n			\n									\n	Google Calendar\n\n									\n	iCalendar\n\n									\n	Outlook 365\n\n									\n	Outlook Live\n\n							\n		\n\n		\n	\n\n				\n				\n					\n		\n					\n		\n				\n						\n					\n			\n						\n				\n					\n	\n		\n\n				East 10 Pro Am	\n\n\n		\n	\n		Gridlife Circuit Legends
URL:https://driftmaps.com/event/ultimate-drifting-challenge-7/
LOCATION:Apple Valley Raceway\, Central Road 20455\, Apple Valley\, CA\, 92307\, United States
CATEGORIES:Competition
ATTACH;FMTTYPE=image/png:https://driftmaps.com/wp-content/uploads/2024/12/UDC.png
GEO:34.6219911;-117.1688885
X-APPLE-STRUCTURED-LOCATION;VALUE=URI;X-ADDRESS=Apple Valley Raceway Central Road 20455 Apple Valley CA 92307 United States;X-APPLE-RADIUS=500;X-TITLE=Central Road 20455:geo:-117.1688885,34.6219911
END:VEVENT
BEGIN:VEVENT
DTSTART;VALUE=DATE:20250802
DTEND;VALUE=DATE:20250803
DTSTAMP:20260421T190820
CREATED:20250210T010647Z
LAST-MODIFIED:20250210T010654Z
UID:10000883-1754092800-1754179199@driftmaps.com
SUMMARY:Etown Gambler Round 3 - Road Course
DESCRIPTION:« All Events\n 				\n				\n				\n				\n					\n	East 10 Pro Am				\n				\n				\n				\n					\n		\n			August 16\n\n		\n\n\n	\n				\n				\n				\n				\n					\n	\n				\n				\n				\n				\n									\n					\n						\n									Event Info: \n					\n					\n				\n								\n				\n				\n				\n									\n					\n						\n									Book Hotel: \n					\n					\n				\n								\n				\n				\n				\n									\n					\n						\n									Driftmaps Merch:\n					\n					\n				\n								\n				\n				\n						\n					\n			\n						\n				\n					\n	\n\n	Categories:	\n		Competition	\n\n				\n				\n				\n				\n					Organizer Info: 				\n				\n				\n				\n					\n	\n			\n			East 10			\n	\n\n	\n	View Organizer Website \n\n\n\n				\n				\n					\n		\n				\n			\n						\n				\n					\n				\n				\n	\n			\n		Bristol Motor Speedway			\n	\n	\n	\n\n151 Speedway Blvd\n	\n		\n		Bristol\,\n\n	TN\n\n	37620\n\n	United States\n\n\n\n\n	+ Google Map \n\n\n	\n					\n						\n	 \n\n\n	\n	 \n\n\n\n	\n\n		\n	\n				\n				\n					\n		\n					\n		\n				\n						\n					\n			\n						\n				\n					\n	\n		\n\n	\n	Add to calendar	\n		\n	\n\n		\n			\n									\n	Google Calendar\n\n									\n	iCalendar\n\n									\n	Outlook 365\n\n									\n	Outlook Live\n\n							\n		\n\n		\n	\n\n				\n				\n					\n		\n					\n		\n				\n						\n					\n			\n						\n				\n					\n	\n		\n\n				East 10 Pro Am	\n\n\n		\n	\n		Gridlife Circuit Legends
URL:https://driftmaps.com/event/etown-gambler-round-3-road-course/
LOCATION:Old Bridge Township Raceway Park\, 230 Pension Rd\, Englishtown\, NJ\, 07726\, United States
CATEGORIES:Competition
ATTACH;FMTTYPE=image/jpeg:https://driftmaps.com/wp-content/uploads/2025/02/etown-gamber.jpeg
GEO:40.3344827;-74.3515763
X-APPLE-STRUCTURED-LOCATION;VALUE=URI;X-ADDRESS=Old Bridge Township Raceway Park 230 Pension Rd Englishtown NJ 07726 United States;X-APPLE-RADIUS=500;X-TITLE=230 Pension Rd:geo:-74.3515763,40.3344827
END:VEVENT
BEGIN:VEVENT
DTSTART;VALUE=DATE:20250809
DTEND;VALUE=DATE:20250811
DTSTAMP:20260421T190820
CREATED:20250118T172253Z
LAST-MODIFIED:20250118T172320Z
UID:10000848-1754697600-1754870399@driftmaps.com
SUMMARY:Elevated Koncepts
DESCRIPTION:« All Events\n 				\n				\n				\n				\n					\n	East 10 Pro Am				\n				\n				\n				\n					\n		\n			August 16\n\n		\n\n\n	\n				\n				\n				\n				\n					\n	\n				\n				\n				\n				\n									\n					\n						\n									Event Info: \n					\n					\n				\n								\n				\n				\n				\n									\n					\n						\n									Book Hotel: \n					\n					\n				\n								\n				\n				\n				\n									\n					\n						\n									Driftmaps Merch:\n					\n					\n				\n								\n				\n				\n						\n					\n			\n						\n				\n					\n	\n\n	Categories:	\n		Competition	\n\n				\n				\n				\n				\n					Organizer Info: 				\n				\n				\n				\n					\n	\n			\n			East 10			\n	\n\n	\n	View Organizer Website \n\n\n\n				\n				\n					\n		\n				\n			\n						\n				\n					\n				\n				\n	\n			\n		Bristol Motor Speedway			\n	\n	\n	\n\n151 Speedway Blvd\n	\n		\n		Bristol\,\n\n	TN\n\n	37620\n\n	United States\n\n\n\n\n	+ Google Map \n\n\n	\n					\n						\n	 \n\n\n	\n	 \n\n\n\n	\n\n		\n	\n				\n				\n					\n		\n					\n		\n				\n						\n					\n			\n						\n				\n					\n	\n		\n\n	\n	Add to calendar	\n		\n	\n\n		\n			\n									\n	Google Calendar\n\n									\n	iCalendar\n\n									\n	Outlook 365\n\n									\n	Outlook Live\n\n							\n		\n\n		\n	\n\n				\n				\n					\n		\n					\n		\n				\n						\n					\n			\n						\n				\n					\n	\n		\n\n				East 10 Pro Am	\n\n\n		\n	\n		Gridlife Circuit Legends
URL:https://driftmaps.com/event/elevated-koncepts-3/
LOCATION:Midpond\, 6230 Co Rd 26\, Columbiana\, AL\, 35051\, United States
CATEGORIES:Competition,Drift Day
ATTACH;FMTTYPE=image/jpeg:https://driftmaps.com/wp-content/uploads/2025/01/b613a14c-3cc6-4e3f-8e1b-97b24697ac03.jpeg
GEO:33.1781718;-86.6072054
X-APPLE-STRUCTURED-LOCATION;VALUE=URI;X-ADDRESS=Midpond 6230 Co Rd 26 Columbiana AL 35051 United States;X-APPLE-RADIUS=500;X-TITLE=6230 Co Rd 26:geo:-86.6072054,33.1781718
END:VEVENT
BEGIN:VEVENT
DTSTART;VALUE=DATE:20250815
DTEND;VALUE=DATE:20250817
DTSTAMP:20260421T190820
CREATED:20241231T030543Z
LAST-MODIFIED:20250216T153224Z
UID:10000755-1755216000-1755388799@driftmaps.com
SUMMARY:Ultimate Drifting Challenge
DESCRIPTION:« All Events\n 				\n				\n				\n				\n					\n	East 10 Pro Am				\n				\n				\n				\n					\n		\n			August 16\n\n		\n\n\n	\n				\n				\n				\n				\n					\n	\n				\n				\n				\n				\n									\n					\n						\n									Event Info: \n					\n					\n				\n								\n				\n				\n				\n									\n					\n						\n									Book Hotel: \n					\n					\n				\n								\n				\n				\n				\n									\n					\n						\n									Driftmaps Merch:\n					\n					\n				\n								\n				\n				\n						\n					\n			\n						\n				\n					\n	\n\n	Categories:	\n		Competition	\n\n				\n				\n				\n				\n					Organizer Info: 				\n				\n				\n				\n					\n	\n			\n			East 10			\n	\n\n	\n	View Organizer Website \n\n\n\n				\n				\n					\n		\n				\n			\n						\n				\n					\n				\n				\n	\n			\n		Bristol Motor Speedway			\n	\n	\n	\n\n151 Speedway Blvd\n	\n		\n		Bristol\,\n\n	TN\n\n	37620\n\n	United States\n\n\n\n\n	+ Google Map \n\n\n	\n					\n						\n	 \n\n\n	\n	 \n\n\n\n	\n\n		\n	\n				\n				\n					\n		\n					\n		\n				\n						\n					\n			\n						\n				\n					\n	\n		\n\n	\n	Add to calendar	\n		\n	\n\n		\n			\n									\n	Google Calendar\n\n									\n	iCalendar\n\n									\n	Outlook 365\n\n									\n	Outlook Live\n\n							\n		\n\n		\n	\n\n				\n				\n					\n		\n					\n		\n				\n						\n					\n			\n						\n				\n					\n	\n		\n\n				East 10 Pro Am	\n\n\n		\n	\n		Gridlife Circuit Legends
URL:https://driftmaps.com/event/ultimate-drifting-challenge-8/
LOCATION:Villans Sportland\, 1212 Middle Waitsburg Road\, Walla Walla\, WA\, 99362\, United States
CATEGORIES:Competition
ATTACH;FMTTYPE=image/png:https://driftmaps.com/wp-content/uploads/2024/12/UDC.png
GEO:46.0888749;-118.3057004
X-APPLE-STRUCTURED-LOCATION;VALUE=URI;X-ADDRESS=Villans Sportland 1212 Middle Waitsburg Road Walla Walla WA 99362 United States;X-APPLE-RADIUS=500;X-TITLE=1212 Middle Waitsburg Road:geo:-118.3057004,46.0888749
END:VEVENT
BEGIN:VEVENT
DTSTART;VALUE=DATE:20250816
DTEND;VALUE=DATE:20250818
DTSTAMP:20260421T190820
CREATED:20250111T235923Z
LAST-MODIFIED:20250111T235931Z
UID:10000808-1755302400-1755475199@driftmaps.com
SUMMARY:Drift Colorado Pro-Am  Round 2
DESCRIPTION:« All Events\n 				\n				\n				\n				\n					\n	East 10 Pro Am				\n				\n				\n				\n					\n		\n			August 16\n\n		\n\n\n	\n				\n				\n				\n				\n					\n	\n				\n				\n				\n				\n									\n					\n						\n									Event Info: \n					\n					\n				\n								\n				\n				\n				\n									\n					\n						\n									Book Hotel: \n					\n					\n				\n								\n				\n				\n				\n									\n					\n						\n									Driftmaps Merch:\n					\n					\n				\n								\n				\n				\n						\n					\n			\n						\n				\n					\n	\n\n	Categories:	\n		Competition	\n\n				\n				\n				\n				\n					Organizer Info: 				\n				\n				\n				\n					\n	\n			\n			East 10			\n	\n\n	\n	View Organizer Website \n\n\n\n				\n				\n					\n		\n				\n			\n						\n				\n					\n				\n				\n	\n			\n		Bristol Motor Speedway			\n	\n	\n	\n\n151 Speedway Blvd\n	\n		\n		Bristol\,\n\n	TN\n\n	37620\n\n	United States\n\n\n\n\n	+ Google Map \n\n\n	\n					\n						\n	 \n\n\n	\n	 \n\n\n\n	\n\n		\n	\n				\n				\n					\n		\n					\n		\n				\n						\n					\n			\n						\n				\n					\n	\n		\n\n	\n	Add to calendar	\n		\n	\n\n		\n			\n									\n	Google Calendar\n\n									\n	iCalendar\n\n									\n	Outlook 365\n\n									\n	Outlook Live\n\n							\n		\n\n		\n	\n\n				\n				\n					\n		\n					\n		\n				\n						\n					\n			\n						\n				\n					\n	\n		\n\n				East 10 Pro Am	\n\n\n		\n	\n		Gridlife Circuit Legends
URL:https://driftmaps.com/event/drift-colorado-pro-am-round-2/
LOCATION:IMI Motorsports Complex\, 5074 Summit Blvd\, Dacono\, 80514\, United States
CATEGORIES:Competition
ATTACH;FMTTYPE=image/webp:https://driftmaps.com/wp-content/uploads/2024/01/drift-colorado-logo.webp
GEO:40.040417;-104.947672
X-APPLE-STRUCTURED-LOCATION;VALUE=URI;X-ADDRESS=IMI Motorsports Complex 5074 Summit Blvd Dacono 80514 United States;X-APPLE-RADIUS=500;X-TITLE=5074 Summit Blvd:geo:-104.947672,40.040417
END:VEVENT
BEGIN:VEVENT
DTSTART;VALUE=DATE:20250816
DTEND;VALUE=DATE:20250818
DTSTAMP:20260421T190820
CREATED:20250101T170058Z
LAST-MODIFIED:20250105T213816Z
UID:10000772-1755302400-1755475199@driftmaps.com
SUMMARY:Drift Indy Street League / DIGP Round 2
DESCRIPTION:« All Events\n 				\n				\n				\n				\n					\n	East 10 Pro Am				\n				\n				\n				\n					\n		\n			August 16\n\n		\n\n\n	\n				\n				\n				\n				\n					\n	\n				\n				\n				\n				\n									\n					\n						\n									Event Info: \n					\n					\n				\n								\n				\n				\n				\n									\n					\n						\n									Book Hotel: \n					\n					\n				\n								\n				\n				\n				\n									\n					\n						\n									Driftmaps Merch:\n					\n					\n				\n								\n				\n				\n						\n					\n			\n						\n				\n					\n	\n\n	Categories:	\n		Competition	\n\n				\n				\n				\n				\n					Organizer Info: 				\n				\n				\n				\n					\n	\n			\n			East 10			\n	\n\n	\n	View Organizer Website \n\n\n\n				\n				\n					\n		\n				\n			\n						\n				\n					\n				\n				\n	\n			\n		Bristol Motor Speedway			\n	\n	\n	\n\n151 Speedway Blvd\n	\n		\n		Bristol\,\n\n	TN\n\n	37620\n\n	United States\n\n\n\n\n	+ Google Map \n\n\n	\n					\n						\n	 \n\n\n	\n	 \n\n\n\n	\n\n		\n	\n				\n				\n					\n		\n					\n		\n				\n						\n					\n			\n						\n				\n					\n	\n		\n\n	\n	Add to calendar	\n		\n	\n\n		\n			\n									\n	Google Calendar\n\n									\n	iCalendar\n\n									\n	Outlook 365\n\n									\n	Outlook Live\n\n							\n		\n\n		\n	\n\n				\n				\n					\n		\n					\n		\n				\n						\n					\n			\n						\n				\n					\n	\n		\n\n				East 10 Pro Am	\n\n\n		\n	\n		Gridlife Circuit Legends
URL:https://driftmaps.com/event/drift-indy-street-league-digp-round-2/
LOCATION:M1 Concourse\, 1 Concourse Dr\, Pontiac\, MI\, 48341\, United States
CATEGORIES:Competition
ATTACH;FMTTYPE=image/png:https://driftmaps.com/wp-content/uploads/2025/01/Drift-Indy-Grand-Prix-Logo-Full-Color.png
GEO:42.6208619;-83.2847865
X-APPLE-STRUCTURED-LOCATION;VALUE=URI;X-ADDRESS=M1 Concourse 1 Concourse Dr Pontiac MI 48341 United States;X-APPLE-RADIUS=500;X-TITLE=1 Concourse Dr:geo:-83.2847865,42.6208619
END:VEVENT
BEGIN:VEVENT
DTSTART;VALUE=DATE:20250821
DTEND;VALUE=DATE:20250825
DTSTAMP:20260421T190820
CREATED:20241215T225617Z
LAST-MODIFIED:20241215T225624Z
UID:10000622-1755734400-1756079999@driftmaps.com
SUMMARY:$5\,000 Grassroots Shootout
DESCRIPTION:« All Events\n 				\n				\n				\n				\n					\n	East 10 Pro Am				\n				\n				\n				\n					\n		\n			August 16\n\n		\n\n\n	\n				\n				\n				\n				\n					\n	\n				\n				\n				\n				\n									\n					\n						\n									Event Info: \n					\n					\n				\n								\n				\n				\n				\n									\n					\n						\n									Book Hotel: \n					\n					\n				\n								\n				\n				\n				\n									\n					\n						\n									Driftmaps Merch:\n					\n					\n				\n								\n				\n				\n						\n					\n			\n						\n				\n					\n	\n\n	Categories:	\n		Competition	\n\n				\n				\n				\n				\n					Organizer Info: 				\n				\n				\n				\n					\n	\n			\n			East 10			\n	\n\n	\n	View Organizer Website \n\n\n\n				\n				\n					\n		\n				\n			\n						\n				\n					\n				\n				\n	\n			\n		Bristol Motor Speedway			\n	\n	\n	\n\n151 Speedway Blvd\n	\n		\n		Bristol\,\n\n	TN\n\n	37620\n\n	United States\n\n\n\n\n	+ Google Map \n\n\n	\n					\n						\n	 \n\n\n	\n	 \n\n\n\n	\n\n		\n	\n				\n				\n					\n		\n					\n		\n				\n						\n					\n			\n						\n				\n					\n	\n		\n\n	\n	Add to calendar	\n		\n	\n\n		\n			\n									\n	Google Calendar\n\n									\n	iCalendar\n\n									\n	Outlook 365\n\n									\n	Outlook Live\n\n							\n		\n\n		\n	\n\n				\n				\n					\n		\n					\n		\n				\n						\n					\n			\n						\n				\n					\n	\n		\n\n				East 10 Pro Am	\n\n\n		\n	\n		Gridlife Circuit Legends
URL:https://driftmaps.com/event/5000-grassroots-shootout/
LOCATION:Interstate Raceway\, 4147 70th St S\, glyndon\, MN\, 56547\, United States
CATEGORIES:Competition
ATTACH;FMTTYPE=image/png:https://driftmaps.com/wp-content/uploads/2024/12/nd-drift.png
GEO:46.8311084;-96.6539416
X-APPLE-STRUCTURED-LOCATION;VALUE=URI;X-ADDRESS=Interstate Raceway 4147 70th St S glyndon MN 56547 United States;X-APPLE-RADIUS=500;X-TITLE=4147 70th St S:geo:-96.6539416,46.8311084
END:VEVENT
BEGIN:VEVENT
DTSTART;VALUE=DATE:20250823
DTEND;VALUE=DATE:20250824
DTSTAMP:20260421T190821
CREATED:20250113T014012Z
LAST-MODIFIED:20250113T014020Z
UID:10000830-1755907200-1755993599@driftmaps.com
SUMMARY:Daily Drift Round 5
DESCRIPTION:« All Events\n 				\n				\n				\n				\n					\n	East 10 Pro Am				\n				\n				\n				\n					\n		\n			August 16\n\n		\n\n\n	\n				\n				\n				\n				\n					\n	\n				\n				\n				\n				\n									\n					\n						\n									Event Info: \n					\n					\n				\n								\n				\n				\n				\n									\n					\n						\n									Book Hotel: \n					\n					\n				\n								\n				\n				\n				\n									\n					\n						\n									Driftmaps Merch:\n					\n					\n				\n								\n				\n				\n						\n					\n			\n						\n				\n					\n	\n\n	Categories:	\n		Competition	\n\n				\n				\n				\n				\n					Organizer Info: 				\n				\n				\n				\n					\n	\n			\n			East 10			\n	\n\n	\n	View Organizer Website \n\n\n\n				\n				\n					\n		\n				\n			\n						\n				\n					\n				\n				\n	\n			\n		Bristol Motor Speedway			\n	\n	\n	\n\n151 Speedway Blvd\n	\n		\n		Bristol\,\n\n	TN\n\n	37620\n\n	United States\n\n\n\n\n	+ Google Map \n\n\n	\n					\n						\n	 \n\n\n	\n	 \n\n\n\n	\n\n		\n	\n				\n				\n					\n		\n					\n		\n				\n						\n					\n			\n						\n				\n					\n	\n		\n\n	\n	Add to calendar	\n		\n	\n\n		\n			\n									\n	Google Calendar\n\n									\n	iCalendar\n\n									\n	Outlook 365\n\n									\n	Outlook Live\n\n							\n		\n\n		\n	\n\n				\n				\n					\n		\n					\n		\n				\n						\n					\n			\n						\n				\n					\n	\n		\n\n				East 10 Pro Am	\n\n\n		\n	\n		Gridlife Circuit Legends
URL:https://driftmaps.com/event/daily-drift-round-5/
LOCATION:USAIR Motorspors Raceway\, W5901 County Rd BE\, Shawano\, WI\, 54166\, United States
CATEGORIES:Competition
ATTACH;FMTTYPE=image/png:https://driftmaps.com/wp-content/uploads/2025/01/usair.png
GEO:44.7727701;-88.5390088
X-APPLE-STRUCTURED-LOCATION;VALUE=URI;X-ADDRESS=USAIR Motorspors Raceway W5901 County Rd BE Shawano WI 54166 United States;X-APPLE-RADIUS=500;X-TITLE=W5901 County Rd BE:geo:-88.5390088,44.7727701
END:VEVENT
BEGIN:VEVENT
DTSTART;VALUE=DATE:20250823
DTEND;VALUE=DATE:20250825
DTSTAMP:20260421T190821
CREATED:20250101T170205Z
LAST-MODIFIED:20250101T170211Z
UID:10000773-1755907200-1756079999@driftmaps.com
SUMMARY:Drift Night  + Drift Indy Teams
DESCRIPTION:« All Events\n 				\n				\n				\n				\n					\n	East 10 Pro Am				\n				\n				\n				\n					\n		\n			August 16\n\n		\n\n\n	\n				\n				\n				\n				\n					\n	\n				\n				\n				\n				\n									\n					\n						\n									Event Info: \n					\n					\n				\n								\n				\n				\n				\n									\n					\n						\n									Book Hotel: \n					\n					\n				\n								\n				\n				\n				\n									\n					\n						\n									Driftmaps Merch:\n					\n					\n				\n								\n				\n				\n						\n					\n			\n						\n				\n					\n	\n\n	Categories:	\n		Competition	\n\n				\n				\n				\n				\n					Organizer Info: 				\n				\n				\n				\n					\n	\n			\n			East 10			\n	\n\n	\n	View Organizer Website \n\n\n\n				\n				\n					\n		\n				\n			\n						\n				\n					\n				\n				\n	\n			\n		Bristol Motor Speedway			\n	\n	\n	\n\n151 Speedway Blvd\n	\n		\n		Bristol\,\n\n	TN\n\n	37620\n\n	United States\n\n\n\n\n	+ Google Map \n\n\n	\n					\n						\n	 \n\n\n	\n	 \n\n\n\n	\n\n		\n	\n				\n				\n					\n		\n					\n		\n				\n						\n					\n			\n						\n				\n					\n	\n		\n\n	\n	Add to calendar	\n		\n	\n\n		\n			\n									\n	Google Calendar\n\n									\n	iCalendar\n\n									\n	Outlook 365\n\n									\n	Outlook Live\n\n							\n		\n\n		\n	\n\n				\n				\n					\n		\n					\n		\n				\n						\n					\n			\n						\n				\n					\n	\n		\n\n				East 10 Pro Am	\n\n\n		\n	\n		Gridlife Circuit Legends
URL:https://driftmaps.com/event/drift-night-drift-indy-teams/
LOCATION:Kilkare Raceway\, 166 Dayton Xenia Rd\, Xenia\, OH\, 45385\, United States
CATEGORIES:Competition,Drift Day
ATTACH;FMTTYPE=image/jpeg:https://driftmaps.com/wp-content/uploads/2025/01/drift-indy.jpg
GEO:39.6999798;-83.9670955
X-APPLE-STRUCTURED-LOCATION;VALUE=URI;X-ADDRESS=Kilkare Raceway 166 Dayton Xenia Rd Xenia OH 45385 United States;X-APPLE-RADIUS=500;X-TITLE=166 Dayton Xenia Rd:geo:-83.9670955,39.6999798
END:VEVENT
BEGIN:VEVENT
DTSTART;VALUE=DATE:20250824
DTEND;VALUE=DATE:20250825
DTSTAMP:20260421T190821
CREATED:20250113T014116Z
LAST-MODIFIED:20250114T134605Z
UID:10000831-1755993600-1756079999@driftmaps.com
SUMMARY:Daily Drift Round 6
DESCRIPTION:« All Events\n 				\n				\n				\n				\n					\n	East 10 Pro Am				\n				\n				\n				\n					\n		\n			August 16\n\n		\n\n\n	\n				\n				\n				\n				\n					\n	\n				\n				\n				\n				\n									\n					\n						\n									Event Info: \n					\n					\n				\n								\n				\n				\n				\n									\n					\n						\n									Book Hotel: \n					\n					\n				\n								\n				\n				\n				\n									\n					\n						\n									Driftmaps Merch:\n					\n					\n				\n								\n				\n				\n						\n					\n			\n						\n				\n					\n	\n\n	Categories:	\n		Competition	\n\n				\n				\n				\n				\n					Organizer Info: 				\n				\n				\n				\n					\n	\n			\n			East 10			\n	\n\n	\n	View Organizer Website \n\n\n\n				\n				\n					\n		\n				\n			\n						\n				\n					\n				\n				\n	\n			\n		Bristol Motor Speedway			\n	\n	\n	\n\n151 Speedway Blvd\n	\n		\n		Bristol\,\n\n	TN\n\n	37620\n\n	United States\n\n\n\n\n	+ Google Map \n\n\n	\n					\n						\n	 \n\n\n	\n	 \n\n\n\n	\n\n		\n	\n				\n				\n					\n		\n					\n		\n				\n						\n					\n			\n						\n				\n					\n	\n		\n\n	\n	Add to calendar	\n		\n	\n\n		\n			\n									\n	Google Calendar\n\n									\n	iCalendar\n\n									\n	Outlook 365\n\n									\n	Outlook Live\n\n							\n		\n\n		\n	\n\n				\n				\n					\n		\n					\n		\n				\n						\n					\n			\n						\n				\n					\n	\n		\n\n				East 10 Pro Am	\n\n\n		\n	\n		Gridlife Circuit Legends
URL:https://driftmaps.com/event/daily-drift-round-6/
LOCATION:USAIR Motorspors Raceway\, W5901 County Rd BE\, Shawano\, WI\, 54166\, United States
CATEGORIES:Competition
ATTACH;FMTTYPE=image/jpeg:https://driftmaps.com/wp-content/uploads/2025/01/Messenger_creation_56D42FCC-77B2-42E4-8784-627A2D40401A.jpeg
GEO:44.7727701;-88.5390088
X-APPLE-STRUCTURED-LOCATION;VALUE=URI;X-ADDRESS=USAIR Motorspors Raceway W5901 County Rd BE Shawano WI 54166 United States;X-APPLE-RADIUS=500;X-TITLE=W5901 County Rd BE:geo:-88.5390088,44.7727701
END:VEVENT
BEGIN:VEVENT
DTSTART;VALUE=DATE:20250830
DTEND;VALUE=DATE:20250901
DTSTAMP:20260421T190821
CREATED:20241213T075524Z
LAST-MODIFIED:20241213T075529Z
UID:10000571-1756512000-1756684799@driftmaps.com
SUMMARY:Round 3- MB Drift
DESCRIPTION:« All Events\n 				\n				\n				\n				\n					\n	East 10 Pro Am				\n				\n				\n				\n					\n		\n			August 16\n\n		\n\n\n	\n				\n				\n				\n				\n					\n	\n				\n				\n				\n				\n									\n					\n						\n									Event Info: \n					\n					\n				\n								\n				\n				\n				\n									\n					\n						\n									Book Hotel: \n					\n					\n				\n								\n				\n				\n				\n									\n					\n						\n									Driftmaps Merch:\n					\n					\n				\n								\n				\n				\n						\n					\n			\n						\n				\n					\n	\n\n	Categories:	\n		Competition	\n\n				\n				\n				\n				\n					Organizer Info: 				\n				\n				\n				\n					\n	\n			\n			East 10			\n	\n\n	\n	View Organizer Website \n\n\n\n				\n				\n					\n		\n				\n			\n						\n				\n					\n				\n				\n	\n			\n		Bristol Motor Speedway			\n	\n	\n	\n\n151 Speedway Blvd\n	\n		\n		Bristol\,\n\n	TN\n\n	37620\n\n	United States\n\n\n\n\n	+ Google Map \n\n\n	\n					\n						\n	 \n\n\n	\n	 \n\n\n\n	\n\n		\n	\n				\n				\n					\n		\n					\n		\n				\n						\n					\n			\n						\n				\n					\n	\n		\n\n	\n	Add to calendar	\n		\n	\n\n		\n			\n									\n	Google Calendar\n\n									\n	iCalendar\n\n									\n	Outlook 365\n\n									\n	Outlook Live\n\n							\n		\n\n		\n	\n\n				\n				\n					\n		\n					\n		\n				\n						\n					\n			\n						\n				\n					\n	\n		\n\n				East 10 Pro Am	\n\n\n		\n	\n		Gridlife Circuit Legends
URL:https://driftmaps.com/event/round-3-mb-drift/
LOCATION:Rockingham Speedway\, 2152 N US Hwy 1\, rockingham\, NC\, 28379\, United States
CATEGORIES:Competition
ATTACH;FMTTYPE=image/png:https://driftmaps.com/wp-content/uploads/2024/12/mb-drift-.png
GEO:34.9761699;-79.6132304
X-APPLE-STRUCTURED-LOCATION;VALUE=URI;X-ADDRESS=Rockingham Speedway 2152 N US Hwy 1 rockingham NC 28379 United States;X-APPLE-RADIUS=500;X-TITLE=2152 N US Hwy 1:geo:-79.6132304,34.9761699
END:VEVENT
BEGIN:VEVENT
DTSTART;VALUE=DATE:20250830
DTEND;VALUE=DATE:20250901
DTSTAMP:20260421T190821
CREATED:20241217T031950Z
LAST-MODIFIED:20241217T032047Z
UID:10000629-1756512000-1756684799@driftmaps.com
SUMMARY:DriftFest 3
DESCRIPTION:« All Events\n 				\n				\n				\n				\n					\n	East 10 Pro Am				\n				\n				\n				\n					\n		\n			August 16\n\n		\n\n\n	\n				\n				\n				\n				\n					\n	\n				\n				\n				\n				\n									\n					\n						\n									Event Info: \n					\n					\n				\n								\n				\n				\n				\n									\n					\n						\n									Book Hotel: \n					\n					\n				\n								\n				\n				\n				\n									\n					\n						\n									Driftmaps Merch:\n					\n					\n				\n								\n				\n				\n						\n					\n			\n						\n				\n					\n	\n\n	Categories:	\n		Competition	\n\n				\n				\n				\n				\n					Organizer Info: 				\n				\n				\n				\n					\n	\n			\n			East 10			\n	\n\n	\n	View Organizer Website \n\n\n\n				\n				\n					\n		\n				\n			\n						\n				\n					\n				\n				\n	\n			\n		Bristol Motor Speedway			\n	\n	\n	\n\n151 Speedway Blvd\n	\n		\n		Bristol\,\n\n	TN\n\n	37620\n\n	United States\n\n\n\n\n	+ Google Map \n\n\n	\n					\n						\n	 \n\n\n	\n	 \n\n\n\n	\n\n		\n	\n				\n				\n					\n		\n					\n		\n				\n						\n					\n			\n						\n				\n					\n	\n		\n\n	\n	Add to calendar	\n		\n	\n\n		\n			\n									\n	Google Calendar\n\n									\n	iCalendar\n\n									\n	Outlook 365\n\n									\n	Outlook Live\n\n							\n		\n\n		\n	\n\n				\n				\n					\n		\n					\n		\n				\n						\n					\n			\n						\n				\n					\n	\n		\n\n				East 10 Pro Am	\n\n\n		\n	\n		Gridlife Circuit Legends
URL:https://driftmaps.com/event/driftfest3/
LOCATION:Jamaica Raceway\, 4th Avenue\, Jamaica\, IA\, 50128\, United States
CATEGORIES:Competition,Drift Day
ATTACH;FMTTYPE=image/jpeg:https://driftmaps.com/wp-content/uploads/2024/12/teysik-performance.jpg
GEO:41.8469758;-94.3039506
X-APPLE-STRUCTURED-LOCATION;VALUE=URI;X-ADDRESS=Jamaica Raceway 4th Avenue Jamaica IA 50128 United States;X-APPLE-RADIUS=500;X-TITLE=4th Avenue:geo:-94.3039506,41.8469758
END:VEVENT
BEGIN:VEVENT
DTSTART;VALUE=DATE:20250830
DTEND;VALUE=DATE:20250901
DTSTAMP:20260421T190821
CREATED:20250113T014216Z
LAST-MODIFIED:20250113T014224Z
UID:10000832-1756512000-1756684799@driftmaps.com
SUMMARY:Final Bout 8
DESCRIPTION:« All Events\n 				\n				\n				\n				\n					\n	East 10 Pro Am				\n				\n				\n				\n					\n		\n			August 16\n\n		\n\n\n	\n				\n				\n				\n				\n					\n	\n				\n				\n				\n				\n									\n					\n						\n									Event Info: \n					\n					\n				\n								\n				\n				\n				\n									\n					\n						\n									Book Hotel: \n					\n					\n				\n								\n				\n				\n				\n									\n					\n						\n									Driftmaps Merch:\n					\n					\n				\n								\n				\n				\n						\n					\n			\n						\n				\n					\n	\n\n	Categories:	\n		Competition	\n\n				\n				\n				\n				\n					Organizer Info: 				\n				\n				\n				\n					\n	\n			\n			East 10			\n	\n\n	\n	View Organizer Website \n\n\n\n				\n				\n					\n		\n				\n			\n						\n				\n					\n				\n				\n	\n			\n		Bristol Motor Speedway			\n	\n	\n	\n\n151 Speedway Blvd\n	\n		\n		Bristol\,\n\n	TN\n\n	37620\n\n	United States\n\n\n\n\n	+ Google Map \n\n\n	\n					\n						\n	 \n\n\n	\n	 \n\n\n\n	\n\n		\n	\n				\n				\n					\n		\n					\n		\n				\n						\n					\n			\n						\n				\n					\n	\n		\n\n	\n	Add to calendar	\n		\n	\n\n		\n			\n									\n	Google Calendar\n\n									\n	iCalendar\n\n									\n	Outlook 365\n\n									\n	Outlook Live\n\n							\n		\n\n		\n	\n\n				\n				\n					\n		\n					\n		\n				\n						\n					\n			\n						\n				\n					\n	\n		\n\n				East 10 Pro Am	\n\n\n		\n	\n		Gridlife Circuit Legends
URL:https://driftmaps.com/event/final-bout-8/
LOCATION:USAIR Motorspors Raceway\, W5901 County Rd BE\, Shawano\, WI\, 54166\, United States
CATEGORIES:Competition
ATTACH;FMTTYPE=image/webp:https://driftmaps.com/wp-content/uploads/2024/01/final-bout.webp
GEO:44.7727701;-88.5390088
X-APPLE-STRUCTURED-LOCATION;VALUE=URI;X-ADDRESS=USAIR Motorspors Raceway W5901 County Rd BE Shawano WI 54166 United States;X-APPLE-RADIUS=500;X-TITLE=W5901 County Rd BE:geo:-88.5390088,44.7727701
END:VEVENT
END:VCALENDAR