BEGIN:VCALENDAR
VERSION:2.0
PRODID:-// - ECPv6.15.20//NONSGML v1.0//EN
CALSCALE:GREGORIAN
METHOD:PUBLISH
X-ORIGINAL-URL:https://driftmaps.com
X-WR-CALDESC:Events for 
REFRESH-INTERVAL;VALUE=DURATION:PT1H
X-Robots-Tag:noindex
X-PUBLISHED-TTL:PT1H
BEGIN:VTIMEZONE
TZID:America/New_York
BEGIN:DAYLIGHT
TZOFFSETFROM:-0500
TZOFFSETTO:-0400
TZNAME:EDT
DTSTART:20240310T070000
END:DAYLIGHT
BEGIN:STANDARD
TZOFFSETFROM:-0400
TZOFFSETTO:-0500
TZNAME:EST
DTSTART:20241103T060000
END:STANDARD
BEGIN:DAYLIGHT
TZOFFSETFROM:-0500
TZOFFSETTO:-0400
TZNAME:EDT
DTSTART:20250309T070000
END:DAYLIGHT
BEGIN:STANDARD
TZOFFSETFROM:-0400
TZOFFSETTO:-0500
TZNAME:EST
DTSTART:20251102T060000
END:STANDARD
BEGIN:DAYLIGHT
TZOFFSETFROM:-0500
TZOFFSETTO:-0400
TZNAME:EDT
DTSTART:20260308T070000
END:DAYLIGHT
BEGIN:STANDARD
TZOFFSETFROM:-0400
TZOFFSETTO:-0500
TZNAME:EST
DTSTART:20261101T060000
END:STANDARD
END:VTIMEZONE
BEGIN:VEVENT
DTSTART;VALUE=DATE:20250719
DTEND;VALUE=DATE:20250721
DTSTAMP:20260422T013159
CREATED:20250111T235816Z
LAST-MODIFIED:20250111T235835Z
UID:10000807-1752883200-1753055999@driftmaps.com
SUMMARY:Drift Colorado Drift Carnival + Matsuri
DESCRIPTION:« All Events\n 				\n				\n				\n				\n					\n	East 10 Pro Am				\n				\n				\n				\n					\n		\n			August 16\n\n		\n\n\n	\n				\n				\n				\n				\n					\n	\n				\n				\n				\n				\n									\n					\n						\n									Event Info: \n					\n					\n				\n								\n				\n				\n				\n									\n					\n						\n									Book Hotel: \n					\n					\n				\n								\n				\n				\n				\n									\n					\n						\n									Driftmaps Merch:\n					\n					\n				\n								\n				\n				\n						\n					\n			\n						\n				\n					\n	\n\n	Categories:	\n		Competition	\n\n				\n				\n				\n				\n					Organizer Info: 				\n				\n				\n				\n					\n	\n			\n			East 10			\n	\n\n	\n	\n\n	Website:View Organizer Website \n\n\n\n				\n				\n					\n		\n				\n			\n						\n				\n					\n				\n				\n	\n			\n		Bristol Motor Speedway			\n	\n	\n	\n\n151 Speedway Blvd\n	\n		\n		Bristol\,\n\n	TN\n\n	37620\n\n	United States\n\n\n\n\n	+ Google Map \n\n\n	\n					\n						\n	 \n\n\n	\n	 \n\n\n\n	\n\n		\n	\n				\n				\n					\n		\n					\n		\n				\n						\n					\n			\n						\n				\n					\n	\n		\n\n	\n	Add to calendar	\n		\n	\n\n		\n			\n									\n	Google Calendar\n\n									\n	iCalendar\n\n									\n	Outlook 365\n\n									\n	Outlook Live\n\n							\n		\n\n		\n	\n\n				\n				\n					\n		\n					\n		\n				\n						\n					\n			\n						\n				\n					\n	\n		\n\n				East 10 Pro Am	\n\n\n		\n	\n		Gridlife Circuit Legends
URL:https://driftmaps.com/event/drift-colorado-drift-carnival-matsuri/
LOCATION:IMI Motorsports Complex\, 5074 Summit Blvd\, Dacono\, 80514\, United States
CATEGORIES:Competition,Drift Day
ATTACH;FMTTYPE=image/webp:https://driftmaps.com/wp-content/uploads/2024/01/drift-colorado-logo.webp
GEO:40.040417;-104.947672
X-APPLE-STRUCTURED-LOCATION;VALUE=URI;X-ADDRESS=IMI Motorsports Complex 5074 Summit Blvd Dacono 80514 United States;X-APPLE-RADIUS=500;X-TITLE=5074 Summit Blvd:geo:-104.947672,40.040417
END:VEVENT
BEGIN:VEVENT
DTSTART;TZID=America/New_York:20250719T140000
DTEND;TZID=America/New_York:20250719T220000
DTSTAMP:20260422T013159
CREATED:20250111T231248Z
LAST-MODIFIED:20250111T231255Z
UID:10000793-1752933600-1752962400@driftmaps.com
SUMMARY:Whiskey Garage Comp Round 4
DESCRIPTION:« All Events\n 				\n				\n				\n				\n					\n	East 10 Pro Am				\n				\n				\n				\n					\n		\n			August 16\n\n		\n\n\n	\n				\n				\n				\n				\n					\n	\n				\n				\n				\n				\n									\n					\n						\n									Event Info: \n					\n					\n				\n								\n				\n				\n				\n									\n					\n						\n									Book Hotel: \n					\n					\n				\n								\n				\n				\n				\n									\n					\n						\n									Driftmaps Merch:\n					\n					\n				\n								\n				\n				\n						\n					\n			\n						\n				\n					\n	\n\n	Categories:	\n		Competition	\n\n				\n				\n				\n				\n					Organizer Info: 				\n				\n				\n				\n					\n	\n			\n			East 10			\n	\n\n	\n	View Organizer Website \n\n\n\n				\n				\n					\n		\n				\n			\n						\n				\n					\n				\n				\n	\n			\n		Bristol Motor Speedway			\n	\n	\n	\n\n151 Speedway Blvd\n	\n		\n		Bristol\,\n\n	TN\n\n	37620\n\n	United States\n\n\n\n\n	+ Google Map \n\n\n	\n					\n						\n	 \n\n\n	\n	 \n\n\n\n	\n\n		\n	\n				\n				\n					\n		\n					\n		\n				\n						\n					\n			\n						\n				\n					\n	\n		\n\n	\n	Add to calendar	\n		\n	\n\n		\n			\n									\n	Google Calendar\n\n									\n	iCalendar\n\n									\n	Outlook 365\n\n									\n	Outlook Live\n\n							\n		\n\n		\n	\n\n				\n				\n					\n		\n					\n		\n				\n						\n					\n			\n						\n				\n					\n	\n		\n\n				East 10 Pro Am	\n\n\n		\n	\n		Gridlife Circuit Legends
URL:https://driftmaps.com/event/whiskey-garage-comp-round-4/
LOCATION:Suika Circuit\, 100 Speedway Park Blvd\, Albuquerque\, NM\, 87121\, United States
CATEGORIES:Competition
ATTACH;FMTTYPE=image/jpeg:https://driftmaps.com/wp-content/uploads/2025/01/Suika-Logo-zia-scaled.jpg
ORGANIZER;CN="Dan Brockett":MAILTO:eyehate@gmail.com
GEO:35.0209955;-106.8603228
X-APPLE-STRUCTURED-LOCATION;VALUE=URI;X-ADDRESS=Suika Circuit 100 Speedway Park Blvd Albuquerque NM 87121 United States;X-APPLE-RADIUS=500;X-TITLE=100 Speedway Park Blvd:geo:-106.8603228,35.0209955
END:VEVENT
END:VCALENDAR