BEGIN:VCALENDAR
VERSION:2.0
PRODID:-// - ECPv6.15.20//NONSGML v1.0//EN
CALSCALE:GREGORIAN
METHOD:PUBLISH
X-ORIGINAL-URL:https://driftmaps.com
X-WR-CALDESC:Events for 
REFRESH-INTERVAL;VALUE=DURATION:PT1H
X-Robots-Tag:noindex
X-PUBLISHED-TTL:PT1H
BEGIN:VTIMEZONE
TZID:America/New_York
BEGIN:DAYLIGHT
TZOFFSETFROM:-0500
TZOFFSETTO:-0400
TZNAME:EDT
DTSTART:20240310T070000
END:DAYLIGHT
BEGIN:STANDARD
TZOFFSETFROM:-0400
TZOFFSETTO:-0500
TZNAME:EST
DTSTART:20241103T060000
END:STANDARD
BEGIN:DAYLIGHT
TZOFFSETFROM:-0500
TZOFFSETTO:-0400
TZNAME:EDT
DTSTART:20250309T070000
END:DAYLIGHT
BEGIN:STANDARD
TZOFFSETFROM:-0400
TZOFFSETTO:-0500
TZNAME:EST
DTSTART:20251102T060000
END:STANDARD
BEGIN:DAYLIGHT
TZOFFSETFROM:-0500
TZOFFSETTO:-0400
TZNAME:EDT
DTSTART:20260308T070000
END:DAYLIGHT
BEGIN:STANDARD
TZOFFSETFROM:-0400
TZOFFSETTO:-0500
TZNAME:EST
DTSTART:20261101T060000
END:STANDARD
END:VTIMEZONE
BEGIN:VEVENT
DTSTART;VALUE=DATE:20250919
DTEND;VALUE=DATE:20250922
DTSTAMP:20260421T204523
CREATED:20250101T170607Z
LAST-MODIFIED:20250105T214024Z
UID:10000774-1758240000-1758499199@driftmaps.com
SUMMARY:No Star Bash + DIGP Round 3
DESCRIPTION:« All Events\n 				\n				\n				\n				\n					\n	East 10 Pro Am				\n				\n				\n				\n					\n		\n			August 16\n\n		\n\n\n	\n				\n				\n				\n				\n					\n	\n				\n				\n				\n				\n									\n					\n						\n									Event Info: \n					\n					\n				\n								\n				\n				\n				\n									\n					\n						\n									Book Hotel: \n					\n					\n				\n								\n				\n				\n				\n									\n					\n						\n									Driftmaps Merch:\n					\n					\n				\n								\n				\n				\n						\n					\n			\n						\n				\n					\n	\n\n	Categories:	\n		Competition	\n\n				\n				\n				\n				\n					Organizer Info: 				\n				\n				\n				\n					\n	\n			\n			East 10			\n	\n\n	\n	\n\n	Website:View Organizer Website \n\n\n\n				\n				\n					\n		\n				\n			\n						\n				\n					\n				\n				\n	\n			\n		Bristol Motor Speedway			\n	\n	\n	\n\n151 Speedway Blvd\n	\n		\n		Bristol\,\n\n	TN\n\n	37620\n\n	United States\n\n\n\n\n	+ Google Map \n\n\n	\n					\n						\n	 \n\n\n	\n	 \n\n\n\n	\n\n		\n	\n				\n				\n					\n		\n					\n		\n				\n						\n					\n			\n						\n				\n					\n	\n		\n\n	\n	Add to calendar	\n		\n	\n\n		\n			\n									\n	Google Calendar\n\n									\n	iCalendar\n\n									\n	Outlook 365\n\n									\n	Outlook Live\n\n							\n		\n\n		\n	\n\n				\n				\n					\n		\n					\n		\n				\n						\n					\n			\n						\n				\n					\n	\n		\n\n				East 10 Pro Am	\n\n\n		\n	\n		Gridlife Circuit Legends
URL:https://driftmaps.com/event/no-star-bash-digp-round-3/
LOCATION:Kilkare Raceway\, 166 Dayton Xenia Rd\, Xenia\, OH\, 45385\, United States
CATEGORIES:Competition,Drift Day
ATTACH;FMTTYPE=image/png:https://driftmaps.com/wp-content/uploads/2025/01/Drift-Indy-Grand-Prix-Logo-Full-Color.png
GEO:39.6999798;-83.9670955
X-APPLE-STRUCTURED-LOCATION;VALUE=URI;X-ADDRESS=Kilkare Raceway 166 Dayton Xenia Rd Xenia OH 45385 United States;X-APPLE-RADIUS=500;X-TITLE=166 Dayton Xenia Rd:geo:-83.9670955,39.6999798
END:VEVENT
BEGIN:VEVENT
DTSTART;VALUE=DATE:20250919
DTEND;VALUE=DATE:20250922
DTSTAMP:20260421T204523
CREATED:20250105T213342Z
LAST-MODIFIED:20250105T213349Z
UID:10000783-1758240000-1758499199@driftmaps.com
SUMMARY:CMD Round 3 Competition 10K
DESCRIPTION:« All Events\n 				\n				\n				\n				\n					\n	East 10 Pro Am				\n				\n				\n				\n					\n		\n			August 16\n\n		\n\n\n	\n				\n				\n				\n				\n					\n	\n				\n				\n				\n				\n									\n					\n						\n									Event Info: \n					\n					\n				\n								\n				\n				\n				\n									\n					\n						\n									Book Hotel: \n					\n					\n				\n								\n				\n				\n				\n									\n					\n						\n									Driftmaps Merch:\n					\n					\n				\n								\n				\n				\n						\n					\n			\n						\n				\n					\n	\n\n	Categories:	\n		Competition	\n\n				\n				\n				\n				\n					Organizer Info: 				\n				\n				\n				\n					\n	\n			\n			East 10			\n	\n\n	\n	View Organizer Website \n\n\n\n				\n				\n					\n		\n				\n			\n						\n				\n					\n				\n				\n	\n			\n		Bristol Motor Speedway			\n	\n	\n	\n\n151 Speedway Blvd\n	\n		\n		Bristol\,\n\n	TN\n\n	37620\n\n	United States\n\n\n\n\n	+ Google Map \n\n\n	\n					\n						\n	 \n\n\n	\n	 \n\n\n\n	\n\n		\n	\n				\n				\n					\n		\n					\n		\n				\n						\n					\n			\n						\n				\n					\n	\n		\n\n	\n	Add to calendar	\n		\n	\n\n		\n			\n									\n	Google Calendar\n\n									\n	iCalendar\n\n									\n	Outlook 365\n\n									\n	Outlook Live\n\n							\n		\n\n		\n	\n\n				\n				\n					\n		\n					\n		\n				\n						\n					\n			\n						\n				\n					\n	\n		\n\n				East 10 Pro Am	\n\n\n		\n	\n		Gridlife Circuit Legends
URL:https://driftmaps.com/event/cmd-round-3-competition-10k/
LOCATION:Southern National Motosports Park\, 8071 Newsome Mill Rd\, wilson county\, NC\, 27851\, United States
CATEGORIES:Competition
ATTACH;FMTTYPE=image/png:https://driftmaps.com/wp-content/uploads/2025/01/358681391_741648081299412_911854981612609025_n.png
GEO:35.611768;-78.061742
X-APPLE-STRUCTURED-LOCATION;VALUE=URI;X-ADDRESS=Southern National Motosports Park 8071 Newsome Mill Rd wilson county NC 27851 United States;X-APPLE-RADIUS=500;X-TITLE=8071 Newsome Mill Rd:geo:-78.061742,35.611768
END:VEVENT
BEGIN:VEVENT
DTSTART;VALUE=DATE:20250920
DTEND;VALUE=DATE:20250921
DTSTAMP:20260421T204523
CREATED:20241215T212423Z
LAST-MODIFIED:20241215T212439Z
UID:10000597-1758326400-1758412799@driftmaps.com
SUMMARY:Lake Erie Pro Am Round 4
DESCRIPTION:« All Events\n 				\n				\n				\n				\n					\n	East 10 Pro Am				\n				\n				\n				\n					\n		\n			August 16\n\n		\n\n\n	\n				\n				\n				\n				\n					\n	\n				\n				\n				\n				\n									\n					\n						\n									Event Info: \n					\n					\n				\n								\n				\n				\n				\n									\n					\n						\n									Book Hotel: \n					\n					\n				\n								\n				\n				\n				\n									\n					\n						\n									Driftmaps Merch:\n					\n					\n				\n								\n				\n				\n						\n					\n			\n						\n				\n					\n	\n\n	Categories:	\n		Competition	\n\n				\n				\n				\n				\n					Organizer Info: 				\n				\n				\n				\n					\n	\n			\n			East 10			\n	\n\n	\n	View Organizer Website \n\n\n\n				\n				\n					\n		\n				\n			\n						\n				\n					\n				\n				\n	\n			\n		Bristol Motor Speedway			\n	\n	\n	\n\n151 Speedway Blvd\n	\n		\n		Bristol\,\n\n	TN\n\n	37620\n\n	United States\n\n\n\n\n	+ Google Map \n\n\n	\n					\n						\n	 \n\n\n	\n	 \n\n\n\n	\n\n		\n	\n				\n				\n					\n		\n					\n		\n				\n						\n					\n			\n						\n				\n					\n	\n		\n\n	\n	Add to calendar	\n		\n	\n\n		\n			\n									\n	Google Calendar\n\n									\n	iCalendar\n\n									\n	Outlook 365\n\n									\n	Outlook Live\n\n							\n		\n\n		\n	\n\n				\n				\n					\n		\n					\n		\n				\n						\n					\n			\n						\n				\n					\n	\n		\n\n				East 10 Pro Am	\n\n\n		\n	\n		Gridlife Circuit Legends
URL:https://driftmaps.com/event/lake-erie-pro-am-round-4/
LOCATION:Lake Erie Speedway\, 10700 Delmas Dr\, erie\, PA\, 16428\, United States
CATEGORIES:Competition
ATTACH;FMTTYPE=image/png:https://driftmaps.com/wp-content/uploads/2023/12/lake-erie-speedway.png
GEO:42.1455556;-79.8288889
X-APPLE-STRUCTURED-LOCATION;VALUE=URI;X-ADDRESS=Lake Erie Speedway 10700 Delmas Dr erie PA 16428 United States;X-APPLE-RADIUS=500;X-TITLE=10700 Delmas Dr:geo:-79.8288889,42.1455556
END:VEVENT
BEGIN:VEVENT
DTSTART;VALUE=DATE:20250920
DTEND;VALUE=DATE:20250922
DTSTAMP:20260421T204523
CREATED:20241215T225826Z
LAST-MODIFIED:20241215T225835Z
UID:10000624-1758326400-1758499199@driftmaps.com
SUMMARY:Formula Drift Licensing Rounds 3-4
DESCRIPTION:« All Events\n 				\n				\n				\n				\n					\n	East 10 Pro Am				\n				\n				\n				\n					\n		\n			August 16\n\n		\n\n\n	\n				\n				\n				\n				\n					\n	\n				\n				\n				\n				\n									\n					\n						\n									Event Info: \n					\n					\n				\n								\n				\n				\n				\n									\n					\n						\n									Book Hotel: \n					\n					\n				\n								\n				\n				\n				\n									\n					\n						\n									Driftmaps Merch:\n					\n					\n				\n								\n				\n				\n						\n					\n			\n						\n				\n					\n	\n\n	Categories:	\n		Competition	\n\n				\n				\n				\n				\n					Organizer Info: 				\n				\n				\n				\n					\n	\n			\n			East 10			\n	\n\n	\n	View Organizer Website \n\n\n\n				\n				\n					\n		\n				\n			\n						\n				\n					\n				\n				\n	\n			\n		Bristol Motor Speedway			\n	\n	\n	\n\n151 Speedway Blvd\n	\n		\n		Bristol\,\n\n	TN\n\n	37620\n\n	United States\n\n\n\n\n	+ Google Map \n\n\n	\n					\n						\n	 \n\n\n	\n	 \n\n\n\n	\n\n		\n	\n				\n				\n					\n		\n					\n		\n				\n						\n					\n			\n						\n				\n					\n	\n		\n\n	\n	Add to calendar	\n		\n	\n\n		\n			\n									\n	Google Calendar\n\n									\n	iCalendar\n\n									\n	Outlook 365\n\n									\n	Outlook Live\n\n							\n		\n\n		\n	\n\n				\n				\n					\n		\n					\n		\n				\n						\n					\n			\n						\n				\n					\n	\n		\n\n				East 10 Pro Am	\n\n\n		\n	\n		Gridlife Circuit Legends
URL:https://driftmaps.com/event/formula-drift-licensing-rounds-3-4/
LOCATION:Interstate Raceway\, 4147 70th St S\, glyndon\, MN\, 56547\, United States
CATEGORIES:Competition
ATTACH;FMTTYPE=image/png:https://driftmaps.com/wp-content/uploads/2024/12/nd-drift.png
GEO:46.8311084;-96.6539416
X-APPLE-STRUCTURED-LOCATION;VALUE=URI;X-ADDRESS=Interstate Raceway 4147 70th St S glyndon MN 56547 United States;X-APPLE-RADIUS=500;X-TITLE=4147 70th St S:geo:-96.6539416,46.8311084
END:VEVENT
BEGIN:VEVENT
DTSTART;VALUE=DATE:20250920
DTEND;VALUE=DATE:20250922
DTSTAMP:20260421T204523
CREATED:20250301T125632Z
LAST-MODIFIED:20250301T125643Z
UID:10000904-1758326400-1758499199@driftmaps.com
SUMMARY:Ready Set Drift - Instinct Twin Drift Competition
DESCRIPTION:« All Events\n 				\n				\n				\n				\n					\n	East 10 Pro Am				\n				\n				\n				\n					\n		\n			August 16\n\n		\n\n\n	\n				\n				\n				\n				\n					\n	\n				\n				\n				\n				\n									\n					\n						\n									Event Info: \n					\n					\n				\n								\n				\n				\n				\n									\n					\n						\n									Book Hotel: \n					\n					\n				\n								\n				\n				\n				\n									\n					\n						\n									Driftmaps Merch:\n					\n					\n				\n								\n				\n				\n						\n					\n			\n						\n				\n					\n	\n\n	Categories:	\n		Competition	\n\n				\n				\n				\n				\n					Organizer Info: 				\n				\n				\n				\n					\n	\n			\n			East 10			\n	\n\n	\n	View Organizer Website \n\n\n\n				\n				\n					\n		\n				\n			\n						\n				\n					\n				\n				\n	\n			\n		Bristol Motor Speedway			\n	\n	\n	\n\n151 Speedway Blvd\n	\n		\n		Bristol\,\n\n	TN\n\n	37620\n\n	United States\n\n\n\n\n	+ Google Map \n\n\n	\n					\n						\n	 \n\n\n	\n	 \n\n\n\n	\n\n		\n	\n				\n				\n					\n		\n					\n		\n				\n						\n					\n			\n						\n				\n					\n	\n		\n\n	\n	Add to calendar	\n		\n	\n\n		\n			\n									\n	Google Calendar\n\n									\n	iCalendar\n\n									\n	Outlook 365\n\n									\n	Outlook Live\n\n							\n		\n\n		\n	\n\n				\n				\n					\n		\n					\n		\n				\n						\n					\n			\n						\n				\n					\n	\n		\n\n				East 10 Pro Am	\n\n\n		\n	\n		Gridlife Circuit Legends
URL:https://driftmaps.com/event/ready-set-drift-instinct-twin-drift-competition/
LOCATION:Pocono\, 1234 Long Pond Rd\, Long Pond\, PA\, 18334\, United States
CATEGORIES:Competition,Drift Day
ATTACH;FMTTYPE=image/avif:https://driftmaps.com/wp-content/uploads/2025/03/rsd.avif
GEO:41.0609233;-75.5106853
X-APPLE-STRUCTURED-LOCATION;VALUE=URI;X-ADDRESS=Pocono 1234 Long Pond Rd Long Pond PA 18334 United States;X-APPLE-RADIUS=500;X-TITLE=1234 Long Pond Rd:geo:-75.5106853,41.0609233
END:VEVENT
END:VCALENDAR