BEGIN:VCALENDAR
VERSION:2.0
PRODID:-// - ECPv6.15.20//NONSGML v1.0//EN
CALSCALE:GREGORIAN
METHOD:PUBLISH
X-ORIGINAL-URL:https://driftmaps.com
X-WR-CALDESC:Events for 
REFRESH-INTERVAL;VALUE=DURATION:PT1H
X-Robots-Tag:noindex
X-PUBLISHED-TTL:PT1H
BEGIN:VTIMEZONE
TZID:America/New_York
BEGIN:DAYLIGHT
TZOFFSETFROM:-0500
TZOFFSETTO:-0400
TZNAME:EDT
DTSTART:20250309T070000
END:DAYLIGHT
BEGIN:STANDARD
TZOFFSETFROM:-0400
TZOFFSETTO:-0500
TZNAME:EST
DTSTART:20251102T060000
END:STANDARD
BEGIN:DAYLIGHT
TZOFFSETFROM:-0500
TZOFFSETTO:-0400
TZNAME:EDT
DTSTART:20260308T070000
END:DAYLIGHT
BEGIN:STANDARD
TZOFFSETFROM:-0400
TZOFFSETTO:-0500
TZNAME:EST
DTSTART:20261101T060000
END:STANDARD
BEGIN:DAYLIGHT
TZOFFSETFROM:-0500
TZOFFSETTO:-0400
TZNAME:EDT
DTSTART:20270314T070000
END:DAYLIGHT
BEGIN:STANDARD
TZOFFSETFROM:-0400
TZOFFSETTO:-0500
TZNAME:EST
DTSTART:20271107T060000
END:STANDARD
END:VTIMEZONE
BEGIN:VEVENT
DTSTART;TZID=America/New_York:20260214T080000
DTEND;TZID=America/New_York:20260214T180000
DTSTAMP:20260421T092738
CREATED:20260125T013145Z
LAST-MODIFIED:20260125T013534Z
UID:10001218-1771056000-1771092000@driftmaps.com
SUMMARY:Tandem Hearts
DESCRIPTION:Book Hotel:\n					\n					\n				\n								\n				\n				\n				\n									\n					\n						\n									Driftmaps Merch:\n					\n					\n				\n								\n				\n				\n				\n							\n						\n				\n					 Event Info: \n							\n			\n			\n		\n\n						\n				\n				\n				\n									We’re excited to be back at Jackson Speedway for an Open Drift Day! With a reduced driver capacity\, we’re able to keep the track open for all run groups throughout the day. All driver levels are welcome\, but there will not be a donut area set up. Check out the clinic on Sunday if you’re just starting out\, want 1:1 coaching or are looking for that “private day” experience. DRIVERS: 50 driver cap\, $135 driver pass includes 1 FREE crew pass when added to your cart at checkoutSPECTATORS: $10 general admission\, 12 and under FREEDRIVERS & PASSENGERS: SA2015+ helmet and hands in the car required\, limited helmet rentals available at the merch booth for $30/day								\n				\n				\n					\n						\n				\n					 Event Schedule: \n							\n			\n			\n		\n\n						\n				\n				\n				\n									SAT 5/2 SCHEDULE  9AM – Gates Open10:30AM – Drivers Meeting11AM – Track Hot (single lap short)12PM – Spectator Gates Open\, Tech Closes\, Double Lap Short3PM – Medium or Long Course7PM – Track Cold8:30PM – Gates Close 								\n				\n				\n					\n						\n				\n					 Tech Requirements: \n							\n			\n			\n		\n\n						\n				\n				\n				\n									Tech Book available : (CLICK HERE)  PASSENGERS + DRIVERS: SA2015+ helmet and hands in the car required\, limited helmet rentals available at the merch booth for $30/day								\n				\n				\n					\n						\n				\n					 Media Registration: Registration deadline 4/27 @ 5PM \n							\n			\n			\n		\n\n						\n				\n					\n				\n				\n					Loading…				\n				\n					\n				\n					\n						\n				\n					 Driver Chat: \n							\n			\n			\n		\n\n						\n				\n					\n				\n				\n									DRIVERS ONLY CLICK HERE 								\n				\n					\n				\n					\n					\n						\n				\n				\n				\n									DRIVERS: YOU MUST ADD CREW TICKET TO CART AT TIME OF PURCHASE TO RECEIVE YOUR FREE CREW PASS 								\n				\n				\n				\n					\n	\n\n		\n		\n		\n\n		\n\n		\n\n\n\n	Tickets\n\n		\n	\n	\n		The numbers below include tickets for this event already in your cart. Clicking "Get Tickets" will allow you to edit any existing attendee information as well as change ticket quantities.	\n\n\n		\n\n	\n		\n				Driver Ticket	\n\n\n\n\n	1 Driver Ticket \nIncludes qty 1 Crew Ticket\n\n\n	\n		\n		$135.00			\n\n\n	\n\n\n	\n	 40  available\n\n\n	\n\n\n	\n						\n	Decrease ticket quantity for Driver Ticket\n	-\n				\n\n	\n		Quantity	\n	\n\n					\n	Increase ticket quantity for Driver Ticket\n	+\n			\n\n	\n		\n	\n\n\n\n	\n		\n				General Admission	\n\n\n\n\n	Qty 1 Spectator / general admission\n\n\n	\n		\n		$10.00			\n\n\n	\n\n\n	Unlimited\n	\n\n\n	\n\n\n	\n						\n	Decrease ticket quantity for General Admission\n	-\n				\n\n	\n		Quantity	\n	\n\n					\n	Increase ticket quantity for General Admission\n	+\n			\n\n	\n		\n	\n\n\n\n	\n		\n				Crew Ticket	\n\n\n\n\n	Must be added to cart when you purchase driver ticket. \n\none per driver \n\n\n	\n		\n		$0.00			\n\n\n	\n\n\n	Unlimited\n	\n\n\n	\n\n\n	\n						\n	Decrease ticket quantity for Crew Ticket\n	-\n				\n\n	\n		Quantity	\n	\n\n					\n	Increase ticket quantity for Crew Ticket\n	+\n			\n\n	\n		\n	\n\n\n		Only 1 Crew Pass per driver ticket  You need to add a driver ticket before adding crew.  \n\n	\n	\n	\n		Quantity:	\n	0\n\n\n	\n	\n		Total:	\n	\n		$0.00	\n\n\n	Get Tickets\n\n		\n				\n			\n\n\n		\n		\n	\n	\n\n	\n	\n\n	\n	\n\n\n\n			\n\n	\n\n\n				\n				\n					\n				\n				\n						\n					\n			\n						\n				\n					\n	\n\n	Categories:	\n		Drift Day	\n\n				\n				\n				\n				\n					Organizer Info: 				\n				\n				\n				\n					\n	\n			\n			Mid Michigan Drift Club			\n	\n\n	\n	\n\n	Website:View Organizer Website \n\n\n\n				\n				\n					\n		\n				\n			\n						\n				\n					\n				\n				\n	\n			\n		Jackson Speedway			\n	\n	\n	\n\n3363 Page Ave\n	\n		\n		Jackson\,\n\n	MI\n\n	49203\n\n	United States\n\n\n\n\n	+ Google Map
URL:https://driftmaps.com/event/tandem-hearts/
LOCATION:Hickory Motor Speedway\, 3130 US Hwy 70 SE\, Newton\, North Carolina\, 28658\, United States
CATEGORIES:Drift Day
ATTACH;FMTTYPE=image/png:https://driftmaps.com/wp-content/uploads/2026/01/final-flyer-ffs-Copy-color-fixed.png
ORGANIZER;CN="Foothills Drift Club":MAILTO:foothillsdrift@gmail.com
GEO:35.6958571;-81.2694342
X-APPLE-STRUCTURED-LOCATION;VALUE=URI;X-ADDRESS=Hickory Motor Speedway 3130 US Hwy 70 SE Newton North Carolina 28658 United States;X-APPLE-RADIUS=500;X-TITLE=3130 US Hwy 70 SE:geo:-81.2694342,35.6958571
END:VEVENT
BEGIN:VEVENT
DTSTART;VALUE=DATE:20260221
DTEND;VALUE=DATE:20260223
DTSTAMP:20260421T092738
CREATED:20260204T005919Z
LAST-MODIFIED:20260204T010019Z
UID:10001266-1771632000-1771804799@driftmaps.com
SUMMARY:No Good Drifting Full Tilt Boogie
DESCRIPTION:Book Hotel:\n					\n					\n				\n								\n				\n				\n				\n									\n					\n						\n									Driftmaps Merch:\n					\n					\n				\n								\n				\n				\n				\n							\n						\n				\n					 Event Info: \n							\n			\n			\n		\n\n						\n				\n				\n				\n									We’re excited to be back at Jackson Speedway for an Open Drift Day! With a reduced driver capacity\, we’re able to keep the track open for all run groups throughout the day. All driver levels are welcome\, but there will not be a donut area set up. Check out the clinic on Sunday if you’re just starting out\, want 1:1 coaching or are looking for that “private day” experience. DRIVERS: 50 driver cap\, $135 driver pass includes 1 FREE crew pass when added to your cart at checkoutSPECTATORS: $10 general admission\, 12 and under FREEDRIVERS & PASSENGERS: SA2015+ helmet and hands in the car required\, limited helmet rentals available at the merch booth for $30/day								\n				\n				\n					\n						\n				\n					 Event Schedule: \n							\n			\n			\n		\n\n						\n				\n				\n				\n									SAT 5/2 SCHEDULE  9AM – Gates Open10:30AM – Drivers Meeting11AM – Track Hot (single lap short)12PM – Spectator Gates Open\, Tech Closes\, Double Lap Short3PM – Medium or Long Course7PM – Track Cold8:30PM – Gates Close 								\n				\n				\n					\n						\n				\n					 Tech Requirements: \n							\n			\n			\n		\n\n						\n				\n				\n				\n									Tech Book available : (CLICK HERE)  PASSENGERS + DRIVERS: SA2015+ helmet and hands in the car required\, limited helmet rentals available at the merch booth for $30/day								\n				\n				\n					\n						\n				\n					 Media Registration: Registration deadline 4/27 @ 5PM \n							\n			\n			\n		\n\n						\n				\n					\n				\n				\n					Loading…				\n				\n					\n				\n					\n						\n				\n					 Driver Chat: \n							\n			\n			\n		\n\n						\n				\n					\n				\n				\n									DRIVERS ONLY CLICK HERE 								\n				\n					\n				\n					\n					\n						\n				\n				\n				\n									DRIVERS: YOU MUST ADD CREW TICKET TO CART AT TIME OF PURCHASE TO RECEIVE YOUR FREE CREW PASS 								\n				\n				\n				\n					\n	\n\n		\n		\n		\n\n		\n\n		\n\n\n\n	Tickets\n\n		\n	\n	\n		The numbers below include tickets for this event already in your cart. Clicking "Get Tickets" will allow you to edit any existing attendee information as well as change ticket quantities.	\n\n\n		\n\n	\n		\n				Driver Ticket	\n\n\n\n\n	1 Driver Ticket \nIncludes qty 1 Crew Ticket\n\n\n	\n		\n		$135.00			\n\n\n	\n\n\n	\n	 40  available\n\n\n	\n\n\n	\n					\n\n	\n		Quantity	\n	\n\n			\n\n	\n		\n	\n\n\n\n	\n		\n				General Admission	\n\n\n\n\n	Qty 1 Spectator / general admission\n\n\n	\n		\n		$10.00			\n\n\n	\n\n\n	Unlimited\n	\n\n\n	\n\n\n	\n					\n\n	\n		Quantity	\n	\n\n			\n\n	\n		\n	\n\n\n\n	\n		\n				Crew Ticket	\n\n\n\n\n	Must be added to cart when you purchase driver ticket. \n\none per driver \n\n\n	\n		\n		$0.00			\n\n\n	\n\n\n	Unlimited\n	\n\n\n	\n\n\n	\n					\n\n	\n		Quantity	\n	\n\n			\n\n	\n		\n	\n\n\n		Only 1 Crew Pass per driver ticket  You need to add a driver ticket before adding crew.  \n\n	\n	\n	\n		Quantity:	\n	0\n\n\n	\n	\n		Total:	\n	\n		$0.00	\n\n\n	Get Tickets\n\n		\n				\n			\n\n\n		\n		\n	\n	\n\n	\n	\n\n	\n	\n\n\n\n			\n\n	\n\n\n				\n				\n					\n				\n				\n						\n					\n			\n						\n				\n					\n	\n\n	Categories:	\n		Drift Day	\n\n				\n				\n				\n				\n					Organizer Info: 				\n				\n				\n				\n					\n	\n			\n			Mid Michigan Drift Club			\n	\n\n	\n	View Organizer Website \n\n\n\n				\n				\n					\n		\n				\n			\n						\n				\n					\n				\n				\n	\n			\n		Jackson Speedway			\n	\n	\n	\n\n3363 Page Ave\n	\n		\n		Jackson\,\n\n	MI\n\n	49203\n\n	United States\n\n\n\n\n	+ Google Map
URL:https://driftmaps.com/event/no-good-drifting/
LOCATION:Salem Motorsports Park\, 2593 WEST ST RD 56\, Salem\, IN\, 47167\, United States
CATEGORIES:Drift Day
ATTACH;FMTTYPE=image/jpeg:https://driftmaps.com/wp-content/uploads/2026/02/no-good-drifting-.jpg
GEO:38.6010417;-86.1353049
X-APPLE-STRUCTURED-LOCATION;VALUE=URI;X-ADDRESS=Salem Motorsports Park 2593 WEST ST RD 56 Salem IN 47167 United States;X-APPLE-RADIUS=500;X-TITLE=2593 WEST ST RD 56:geo:-86.1353049,38.6010417
END:VEVENT
END:VCALENDAR