BEGIN:VCALENDAR
VERSION:2.0
PRODID:-// - ECPv6.15.20//NONSGML v1.0//EN
CALSCALE:GREGORIAN
METHOD:PUBLISH
X-ORIGINAL-URL:https://driftmaps.com
X-WR-CALDESC:Events for 
REFRESH-INTERVAL;VALUE=DURATION:PT1H
X-Robots-Tag:noindex
X-PUBLISHED-TTL:PT1H
BEGIN:VTIMEZONE
TZID:America/New_York
BEGIN:DAYLIGHT
TZOFFSETFROM:-0500
TZOFFSETTO:-0400
TZNAME:EDT
DTSTART:20240310T070000
END:DAYLIGHT
BEGIN:STANDARD
TZOFFSETFROM:-0400
TZOFFSETTO:-0500
TZNAME:EST
DTSTART:20241103T060000
END:STANDARD
BEGIN:DAYLIGHT
TZOFFSETFROM:-0500
TZOFFSETTO:-0400
TZNAME:EDT
DTSTART:20250309T070000
END:DAYLIGHT
BEGIN:STANDARD
TZOFFSETFROM:-0400
TZOFFSETTO:-0500
TZNAME:EST
DTSTART:20251102T060000
END:STANDARD
BEGIN:DAYLIGHT
TZOFFSETFROM:-0500
TZOFFSETTO:-0400
TZNAME:EDT
DTSTART:20260308T070000
END:DAYLIGHT
BEGIN:STANDARD
TZOFFSETFROM:-0400
TZOFFSETTO:-0500
TZNAME:EST
DTSTART:20261101T060000
END:STANDARD
END:VTIMEZONE
BEGIN:VEVENT
DTSTART;VALUE=DATE:20250808
DTEND;VALUE=DATE:20250810
DTSTAMP:20260422T080501
CREATED:20250216T151534Z
LAST-MODIFIED:20250216T151540Z
UID:10000890-1754611200-1754783999@driftmaps.com
SUMMARY:LockCityDrift -  August Heatwave
DESCRIPTION:Book Hotel:\n					\n					\n				\n								\n				\n				\n				\n									\n					\n						\n									Driftmaps Merch:\n					\n					\n				\n								\n				\n				\n				\n							\n						\n				\n					 Event Info: \n							\n			\n			\n		\n\n						\n				\n				\n				\n									We’re excited to be back at Jackson Speedway for an Open Drift Day! With a reduced driver capacity\, we’re able to keep the track open for all run groups throughout the day. All driver levels are welcome\, but there will not be a donut area set up. Check out the clinic on Sunday if you’re just starting out\, want 1:1 coaching or are looking for that “private day” experience. DRIVERS: 50 driver cap\, $135 driver pass includes 1 FREE crew pass when added to your cart at checkoutSPECTATORS: $10 general admission\, 12 and under FREEDRIVERS & PASSENGERS: SA2015+ helmet and hands in the car required\, limited helmet rentals available at the merch booth for $30/day								\n				\n				\n					\n						\n				\n					 Event Schedule: \n							\n			\n			\n		\n\n						\n				\n				\n				\n									SAT 5/2 SCHEDULE  9AM – Gates Open10:30AM – Drivers Meeting11AM – Track Hot (single lap short)12PM – Spectator Gates Open\, Tech Closes\, Double Lap Short3PM – Medium or Long Course7PM – Track Cold8:30PM – Gates Close 								\n				\n				\n					\n						\n				\n					 Tech Requirements: \n							\n			\n			\n		\n\n						\n				\n				\n				\n									Tech Book available : (CLICK HERE)  PASSENGERS + DRIVERS: SA2015+ helmet and hands in the car required\, limited helmet rentals available at the merch booth for $30/day								\n				\n				\n					\n						\n				\n					 Media Registration: Registration deadline 4/27 @ 5PM \n							\n			\n			\n		\n\n						\n				\n					\n				\n				\n					Loading…				\n				\n					\n				\n					\n						\n				\n					 Driver Chat: \n							\n			\n			\n		\n\n						\n				\n					\n				\n				\n									DRIVERS ONLY CLICK HERE 								\n				\n					\n				\n					\n					\n						\n				\n				\n				\n									DRIVERS: YOU MUST ADD CREW TICKET TO CART AT TIME OF PURCHASE TO RECEIVE YOUR FREE CREW PASS 								\n				\n				\n				\n					\n	\n\n		\n		\n		\n\n		\n\n		\n\n\n\n	Tickets\n\n		\n	\n	\n		The numbers below include tickets for this event already in your cart. Clicking "Get Tickets" will allow you to edit any existing attendee information as well as change ticket quantities.	\n\n\n		\n\n	\n		\n				Driver Ticket	\n\n\n\n\n	1 Driver Ticket \nIncludes qty 1 Crew Ticket\n\n\n	\n		\n		$135.00			\n\n\n	\n\n\n	\n	 36  available\n\n\n	\n\n\n	\n						\n	Decrease ticket quantity for Driver Ticket\n	-\n				\n\n	\n		Quantity	\n	\n\n					\n	Increase ticket quantity for Driver Ticket\n	+\n			\n\n	\n		\n	\n\n\n\n	\n		\n				General Admission	\n\n\n\n\n	Qty 1 Spectator / general admission\n\n\n	\n		\n		$10.00			\n\n\n	\n\n\n	Unlimited\n	\n\n\n	\n\n\n	\n						\n	Decrease ticket quantity for General Admission\n	-\n				\n\n	\n		Quantity	\n	\n\n					\n	Increase ticket quantity for General Admission\n	+\n			\n\n	\n		\n	\n\n\n\n	\n		\n				Crew Ticket	\n\n\n\n\n	Must be added to cart when you purchase driver ticket. \n\none per driver \n\n\n	\n		\n		$0.00			\n\n\n	\n\n\n	Unlimited\n	\n\n\n	\n\n\n	\n						\n	Decrease ticket quantity for Crew Ticket\n	-\n				\n\n	\n		Quantity	\n	\n\n					\n	Increase ticket quantity for Crew Ticket\n	+\n			\n\n	\n		\n	\n\n\n		Only 1 Crew Pass per driver ticket  You need to add a driver ticket before adding crew.  \n\n	\n	\n	\n		Quantity:	\n	0\n\n\n	\n	\n		Total:	\n	\n		$0.00	\n\n\n	Get Tickets\n\n		\n				\n			\n\n\n		\n		\n	\n	\n\n	\n	\n\n	\n	\n\n\n\n			\n\n	\n\n\n				\n				\n					\n				\n				\n						\n					\n			\n						\n				\n					\n	\n\n	Categories:	\n		Drift Day	\n\n				\n				\n				\n				\n					Organizer Info: 				\n				\n				\n				\n					\n	\n			\n			Mid Michigan Drift Club			\n	\n\n	\n	\n\n	Website:View Organizer Website \n\n\n\n				\n				\n					\n		\n				\n			\n						\n				\n					\n				\n				\n	\n			\n		Jackson Speedway			\n	\n	\n	\n\n3363 Page Ave\n	\n		\n		Jackson\,\n\n	MI\n\n	49203\n\n	United States\n\n\n\n\n	+ Google Map
URL:https://driftmaps.com/event/lockcitydrift-august-heatwave/
LOCATION:Thompson Speedway Motorsports Park\, 205 E Thompson Rd\, Thompson\, CT\, United States
CATEGORIES:Drift Day
ATTACH;FMTTYPE=image/png:https://driftmaps.com/wp-content/uploads/2025/02/lockcitydrift.png
GEO:41.9846036;-71.8257009
X-APPLE-STRUCTURED-LOCATION;VALUE=URI;X-ADDRESS=Thompson Speedway Motorsports Park 205 E Thompson Rd Thompson CT United States;X-APPLE-RADIUS=500;X-TITLE=205 E Thompson Rd:geo:-71.8257009,41.9846036
END:VEVENT
BEGIN:VEVENT
DTSTART;VALUE=DATE:20250809
DTEND;VALUE=DATE:20250810
DTSTAMP:20260422T080501
CREATED:20250311T002901Z
LAST-MODIFIED:20250311T002908Z
UID:10000939-1754697600-1754783999@driftmaps.com
SUMMARY:CL- Hot Moves
DESCRIPTION:Book Hotel:\n					\n					\n				\n								\n				\n				\n				\n									\n					\n						\n									Driftmaps Merch:\n					\n					\n				\n								\n				\n				\n				\n							\n						\n				\n					 Event Info: \n							\n			\n			\n		\n\n						\n				\n				\n				\n									We’re excited to be back at Jackson Speedway for an Open Drift Day! With a reduced driver capacity\, we’re able to keep the track open for all run groups throughout the day. All driver levels are welcome\, but there will not be a donut area set up. Check out the clinic on Sunday if you’re just starting out\, want 1:1 coaching or are looking for that “private day” experience. DRIVERS: 50 driver cap\, $135 driver pass includes 1 FREE crew pass when added to your cart at checkoutSPECTATORS: $10 general admission\, 12 and under FREEDRIVERS & PASSENGERS: SA2015+ helmet and hands in the car required\, limited helmet rentals available at the merch booth for $30/day								\n				\n				\n					\n						\n				\n					 Event Schedule: \n							\n			\n			\n		\n\n						\n				\n				\n				\n									SAT 5/2 SCHEDULE  9AM – Gates Open10:30AM – Drivers Meeting11AM – Track Hot (single lap short)12PM – Spectator Gates Open\, Tech Closes\, Double Lap Short3PM – Medium or Long Course7PM – Track Cold8:30PM – Gates Close 								\n				\n				\n					\n						\n				\n					 Tech Requirements: \n							\n			\n			\n		\n\n						\n				\n				\n				\n									Tech Book available : (CLICK HERE)  PASSENGERS + DRIVERS: SA2015+ helmet and hands in the car required\, limited helmet rentals available at the merch booth for $30/day								\n				\n				\n					\n						\n				\n					 Media Registration: Registration deadline 4/27 @ 5PM \n							\n			\n			\n		\n\n						\n				\n					\n				\n				\n					Loading…				\n				\n					\n				\n					\n						\n				\n					 Driver Chat: \n							\n			\n			\n		\n\n						\n				\n					\n				\n				\n									DRIVERS ONLY CLICK HERE 								\n				\n					\n				\n					\n					\n						\n				\n				\n				\n									DRIVERS: YOU MUST ADD CREW TICKET TO CART AT TIME OF PURCHASE TO RECEIVE YOUR FREE CREW PASS 								\n				\n				\n				\n					\n	\n\n		\n		\n		\n\n		\n\n		\n\n\n\n	Tickets\n\n		\n	\n	\n		The numbers below include tickets for this event already in your cart. Clicking "Get Tickets" will allow you to edit any existing attendee information as well as change ticket quantities.	\n\n\n		\n\n	\n		\n				Driver Ticket	\n\n\n\n\n	1 Driver Ticket \nIncludes qty 1 Crew Ticket\n\n\n	\n		\n		$135.00			\n\n\n	\n\n\n	\n	 36  available\n\n\n	\n\n\n	\n					\n\n	\n		Quantity	\n	\n\n			\n\n	\n		\n	\n\n\n\n	\n		\n				General Admission	\n\n\n\n\n	Qty 1 Spectator / general admission\n\n\n	\n		\n		$10.00			\n\n\n	\n\n\n	Unlimited\n	\n\n\n	\n\n\n	\n					\n\n	\n		Quantity	\n	\n\n			\n\n	\n		\n	\n\n\n\n	\n		\n				Crew Ticket	\n\n\n\n\n	Must be added to cart when you purchase driver ticket. \n\none per driver \n\n\n	\n		\n		$0.00			\n\n\n	\n\n\n	Unlimited\n	\n\n\n	\n\n\n	\n					\n\n	\n		Quantity	\n	\n\n			\n\n	\n		\n	\n\n\n		Only 1 Crew Pass per driver ticket  You need to add a driver ticket before adding crew.  \n\n	\n	\n	\n		Quantity:	\n	0\n\n\n	\n	\n		Total:	\n	\n		$0.00	\n\n\n	Get Tickets\n\n		\n				\n			\n\n\n		\n		\n	\n	\n\n	\n	\n\n	\n	\n\n\n\n			\n\n	\n\n\n				\n				\n					\n				\n				\n						\n					\n			\n						\n				\n					\n	\n\n	Categories:	\n		Drift Day	\n\n				\n				\n				\n				\n					Organizer Info: 				\n				\n				\n				\n					\n	\n			\n			Mid Michigan Drift Club			\n	\n\n	\n	View Organizer Website \n\n\n\n				\n				\n					\n		\n				\n			\n						\n				\n					\n				\n				\n	\n			\n		Jackson Speedway			\n	\n	\n	\n\n3363 Page Ave\n	\n		\n		Jackson\,\n\n	MI\n\n	49203\n\n	United States\n\n\n\n\n	+ Google Map
URL:https://driftmaps.com/event/cl-hot-moves/
LOCATION:Old Bridge Township Raceway Park\, 230 Pension Rd\, Englishtown\, NJ\, 07726\, United States
CATEGORIES:Drift Day
ATTACH;FMTTYPE=image/jpeg:https://driftmaps.com/wp-content/uploads/2025/03/CL.jpg
GEO:40.3344827;-74.3515763
X-APPLE-STRUCTURED-LOCATION;VALUE=URI;X-ADDRESS=Old Bridge Township Raceway Park 230 Pension Rd Englishtown NJ 07726 United States;X-APPLE-RADIUS=500;X-TITLE=230 Pension Rd:geo:-74.3515763,40.3344827
END:VEVENT
BEGIN:VEVENT
DTSTART;VALUE=DATE:20250809
DTEND;VALUE=DATE:20250811
DTSTAMP:20260422T080501
CREATED:20241226T142530Z
LAST-MODIFIED:20250810T124450Z
UID:10000716-1754697600-1754870399@driftmaps.com
SUMMARY:Nightshift
DESCRIPTION:Book Hotel:\n					\n					\n				\n								\n				\n				\n				\n									\n					\n						\n									Driftmaps Merch:\n					\n					\n				\n								\n				\n				\n				\n							\n						\n				\n					 Event Info: \n							\n			\n			\n		\n\n						\n				\n				\n				\n									We’re excited to be back at Jackson Speedway for an Open Drift Day! With a reduced driver capacity\, we’re able to keep the track open for all run groups throughout the day. All driver levels are welcome\, but there will not be a donut area set up. Check out the clinic on Sunday if you’re just starting out\, want 1:1 coaching or are looking for that “private day” experience. DRIVERS: 50 driver cap\, $135 driver pass includes 1 FREE crew pass when added to your cart at checkoutSPECTATORS: $10 general admission\, 12 and under FREEDRIVERS & PASSENGERS: SA2015+ helmet and hands in the car required\, limited helmet rentals available at the merch booth for $30/day								\n				\n				\n					\n						\n				\n					 Event Schedule: \n							\n			\n			\n		\n\n						\n				\n				\n				\n									SAT 5/2 SCHEDULE  9AM – Gates Open10:30AM – Drivers Meeting11AM – Track Hot (single lap short)12PM – Spectator Gates Open\, Tech Closes\, Double Lap Short3PM – Medium or Long Course7PM – Track Cold8:30PM – Gates Close 								\n				\n				\n					\n						\n				\n					 Tech Requirements: \n							\n			\n			\n		\n\n						\n				\n				\n				\n									Tech Book available : (CLICK HERE)  PASSENGERS + DRIVERS: SA2015+ helmet and hands in the car required\, limited helmet rentals available at the merch booth for $30/day								\n				\n				\n					\n						\n				\n					 Media Registration: Registration deadline 4/27 @ 5PM \n							\n			\n			\n		\n\n						\n				\n					\n				\n				\n					Loading…				\n				\n					\n				\n					\n						\n				\n					 Driver Chat: \n							\n			\n			\n		\n\n						\n				\n					\n				\n				\n									DRIVERS ONLY CLICK HERE 								\n				\n					\n				\n					\n					\n						\n				\n				\n				\n									DRIVERS: YOU MUST ADD CREW TICKET TO CART AT TIME OF PURCHASE TO RECEIVE YOUR FREE CREW PASS 								\n				\n				\n				\n					\n	\n\n		\n		\n		\n\n		\n\n		\n\n\n\n	Tickets\n\n		\n	\n	\n		The numbers below include tickets for this event already in your cart. Clicking "Get Tickets" will allow you to edit any existing attendee information as well as change ticket quantities.	\n\n\n		\n\n	\n		\n				Driver Ticket	\n\n\n\n\n	1 Driver Ticket \nIncludes qty 1 Crew Ticket\n\n\n	\n		\n		$135.00			\n\n\n	\n\n\n	\n	 36  available\n\n\n	\n\n\n	\n					\n\n	\n		Quantity	\n	\n\n			\n\n	\n		\n	\n\n\n\n	\n		\n				General Admission	\n\n\n\n\n	Qty 1 Spectator / general admission\n\n\n	\n		\n		$10.00			\n\n\n	\n\n\n	Unlimited\n	\n\n\n	\n\n\n	\n					\n\n	\n		Quantity	\n	\n\n			\n\n	\n		\n	\n\n\n\n	\n		\n				Crew Ticket	\n\n\n\n\n	Must be added to cart when you purchase driver ticket. \n\none per driver \n\n\n	\n		\n		$0.00			\n\n\n	\n\n\n	Unlimited\n	\n\n\n	\n\n\n	\n					\n\n	\n		Quantity	\n	\n\n			\n\n	\n		\n	\n\n\n		Only 1 Crew Pass per driver ticket  You need to add a driver ticket before adding crew.  \n\n	\n	\n	\n		Quantity:	\n	0\n\n\n	\n	\n		Total:	\n	\n		$0.00	\n\n\n	Get Tickets\n\n		\n				\n			\n\n\n		\n		\n	\n	\n\n	\n	\n\n	\n	\n\n\n\n			\n\n	\n\n\n				\n				\n					\n				\n				\n						\n					\n			\n						\n				\n					\n	\n\n	Categories:	\n		Drift Day	\n\n				\n				\n				\n				\n					Organizer Info: 				\n				\n				\n				\n					\n	\n			\n			Mid Michigan Drift Club			\n	\n\n	\n	View Organizer Website \n\n\n\n				\n				\n					\n		\n				\n			\n						\n				\n					\n				\n				\n	\n			\n		Jackson Speedway			\n	\n	\n	\n\n3363 Page Ave\n	\n		\n		Jackson\,\n\n	MI\n\n	49203\n\n	United States\n\n\n\n\n	+ Google Map
URL:https://driftmaps.com/event/mmdc809/
LOCATION:Jackson Speedway\, 3363 Page Ave\, Jackson\, MI\, 49203\, United States
CATEGORIES:Drift Day
ATTACH;FMTTYPE=image/jpeg:https://driftmaps.com/wp-content/uploads/2024/12/3837c98d-03bf-47b4-8f76-26a2d4e6d6bb.jpeg
ORGANIZER;CN="Mid Michigan Drift Club":MAILTO:midmichigandriftclub@gmail.com
GEO:42.235441;-84.3597912
X-APPLE-STRUCTURED-LOCATION;VALUE=URI;X-ADDRESS=Jackson Speedway 3363 Page Ave Jackson MI 49203 United States;X-APPLE-RADIUS=500;X-TITLE=3363 Page Ave:geo:-84.3597912,42.235441
END:VEVENT
BEGIN:VEVENT
DTSTART;VALUE=DATE:20250809
DTEND;VALUE=DATE:20250811
DTSTAMP:20260422T080501
CREATED:20250113T013759Z
LAST-MODIFIED:20250113T013814Z
UID:10000828-1754697600-1754870399@driftmaps.com
SUMMARY:Club Fr Drift Day
DESCRIPTION:Book Hotel:\n					\n					\n				\n								\n				\n				\n				\n									\n					\n						\n									Driftmaps Merch:\n					\n					\n				\n								\n				\n				\n				\n							\n						\n				\n					 Event Info: \n							\n			\n			\n		\n\n						\n				\n				\n				\n									We’re excited to be back at Jackson Speedway for an Open Drift Day! With a reduced driver capacity\, we’re able to keep the track open for all run groups throughout the day. All driver levels are welcome\, but there will not be a donut area set up. Check out the clinic on Sunday if you’re just starting out\, want 1:1 coaching or are looking for that “private day” experience. DRIVERS: 50 driver cap\, $135 driver pass includes 1 FREE crew pass when added to your cart at checkoutSPECTATORS: $10 general admission\, 12 and under FREEDRIVERS & PASSENGERS: SA2015+ helmet and hands in the car required\, limited helmet rentals available at the merch booth for $30/day								\n				\n				\n					\n						\n				\n					 Event Schedule: \n							\n			\n			\n		\n\n						\n				\n				\n				\n									SAT 5/2 SCHEDULE  9AM – Gates Open10:30AM – Drivers Meeting11AM – Track Hot (single lap short)12PM – Spectator Gates Open\, Tech Closes\, Double Lap Short3PM – Medium or Long Course7PM – Track Cold8:30PM – Gates Close 								\n				\n				\n					\n						\n				\n					 Tech Requirements: \n							\n			\n			\n		\n\n						\n				\n				\n				\n									Tech Book available : (CLICK HERE)  PASSENGERS + DRIVERS: SA2015+ helmet and hands in the car required\, limited helmet rentals available at the merch booth for $30/day								\n				\n				\n					\n						\n				\n					 Media Registration: Registration deadline 4/27 @ 5PM \n							\n			\n			\n		\n\n						\n				\n					\n				\n				\n					Loading…				\n				\n					\n				\n					\n						\n				\n					 Driver Chat: \n							\n			\n			\n		\n\n						\n				\n					\n				\n				\n									DRIVERS ONLY CLICK HERE 								\n				\n					\n				\n					\n					\n						\n				\n				\n				\n									DRIVERS: YOU MUST ADD CREW TICKET TO CART AT TIME OF PURCHASE TO RECEIVE YOUR FREE CREW PASS 								\n				\n				\n				\n					\n	\n\n		\n		\n		\n\n		\n\n		\n\n\n\n	Tickets\n\n		\n	\n	\n		The numbers below include tickets for this event already in your cart. Clicking "Get Tickets" will allow you to edit any existing attendee information as well as change ticket quantities.	\n\n\n		\n\n	\n		\n				Driver Ticket	\n\n\n\n\n	1 Driver Ticket \nIncludes qty 1 Crew Ticket\n\n\n	\n		\n		$135.00			\n\n\n	\n\n\n	\n	 36  available\n\n\n	\n\n\n	\n					\n\n	\n		Quantity	\n	\n\n			\n\n	\n		\n	\n\n\n\n	\n		\n				General Admission	\n\n\n\n\n	Qty 1 Spectator / general admission\n\n\n	\n		\n		$10.00			\n\n\n	\n\n\n	Unlimited\n	\n\n\n	\n\n\n	\n					\n\n	\n		Quantity	\n	\n\n			\n\n	\n		\n	\n\n\n\n	\n		\n				Crew Ticket	\n\n\n\n\n	Must be added to cart when you purchase driver ticket. \n\none per driver \n\n\n	\n		\n		$0.00			\n\n\n	\n\n\n	Unlimited\n	\n\n\n	\n\n\n	\n					\n\n	\n		Quantity	\n	\n\n			\n\n	\n		\n	\n\n\n		Only 1 Crew Pass per driver ticket  You need to add a driver ticket before adding crew.  \n\n	\n	\n	\n		Quantity:	\n	0\n\n\n	\n	\n		Total:	\n	\n		$0.00	\n\n\n	Get Tickets\n\n		\n				\n			\n\n\n		\n		\n	\n	\n\n	\n	\n\n	\n	\n\n\n\n			\n\n	\n\n\n				\n				\n					\n				\n				\n						\n					\n			\n						\n				\n					\n	\n\n	Categories:	\n		Drift Day	\n\n				\n				\n				\n				\n					Organizer Info: 				\n				\n				\n				\n					\n	\n			\n			Mid Michigan Drift Club			\n	\n\n	\n	View Organizer Website \n\n\n\n				\n				\n					\n		\n				\n			\n						\n				\n					\n				\n				\n	\n			\n		Jackson Speedway			\n	\n	\n	\n\n3363 Page Ave\n	\n		\n		Jackson\,\n\n	MI\n\n	49203\n\n	United States\n\n\n\n\n	+ Google Map
URL:https://driftmaps.com/event/club-fr-drift-day-4/
LOCATION:USAIR Motorspors Raceway\, W5901 County Rd BE\, Shawano\, WI\, 54166\, United States
CATEGORIES:Drift Day
ATTACH;FMTTYPE=image/png:https://driftmaps.com/wp-content/uploads/2025/01/usair.png
GEO:44.7727701;-88.5390088
X-APPLE-STRUCTURED-LOCATION;VALUE=URI;X-ADDRESS=USAIR Motorspors Raceway W5901 County Rd BE Shawano WI 54166 United States;X-APPLE-RADIUS=500;X-TITLE=W5901 County Rd BE:geo:-88.5390088,44.7727701
END:VEVENT
BEGIN:VEVENT
DTSTART;VALUE=DATE:20250809
DTEND;VALUE=DATE:20250811
DTSTAMP:20260422T080502
CREATED:20250118T172253Z
LAST-MODIFIED:20250118T172320Z
UID:10000848-1754697600-1754870399@driftmaps.com
SUMMARY:Elevated Koncepts
DESCRIPTION:Book Hotel:\n					\n					\n				\n								\n				\n				\n				\n									\n					\n						\n									Driftmaps Merch:\n					\n					\n				\n								\n				\n				\n				\n							\n						\n				\n					 Event Info: \n							\n			\n			\n		\n\n						\n				\n				\n				\n									We’re excited to be back at Jackson Speedway for an Open Drift Day! With a reduced driver capacity\, we’re able to keep the track open for all run groups throughout the day. All driver levels are welcome\, but there will not be a donut area set up. Check out the clinic on Sunday if you’re just starting out\, want 1:1 coaching or are looking for that “private day” experience. DRIVERS: 50 driver cap\, $135 driver pass includes 1 FREE crew pass when added to your cart at checkoutSPECTATORS: $10 general admission\, 12 and under FREEDRIVERS & PASSENGERS: SA2015+ helmet and hands in the car required\, limited helmet rentals available at the merch booth for $30/day								\n				\n				\n					\n						\n				\n					 Event Schedule: \n							\n			\n			\n		\n\n						\n				\n				\n				\n									SAT 5/2 SCHEDULE  9AM – Gates Open10:30AM – Drivers Meeting11AM – Track Hot (single lap short)12PM – Spectator Gates Open\, Tech Closes\, Double Lap Short3PM – Medium or Long Course7PM – Track Cold8:30PM – Gates Close 								\n				\n				\n					\n						\n				\n					 Tech Requirements: \n							\n			\n			\n		\n\n						\n				\n				\n				\n									Tech Book available : (CLICK HERE)  PASSENGERS + DRIVERS: SA2015+ helmet and hands in the car required\, limited helmet rentals available at the merch booth for $30/day								\n				\n				\n					\n						\n				\n					 Media Registration: Registration deadline 4/27 @ 5PM \n							\n			\n			\n		\n\n						\n				\n					\n				\n				\n					Loading…				\n				\n					\n				\n					\n						\n				\n					 Driver Chat: \n							\n			\n			\n		\n\n						\n				\n					\n				\n				\n									DRIVERS ONLY CLICK HERE 								\n				\n					\n				\n					\n					\n						\n				\n				\n				\n									DRIVERS: YOU MUST ADD CREW TICKET TO CART AT TIME OF PURCHASE TO RECEIVE YOUR FREE CREW PASS 								\n				\n				\n				\n					\n	\n\n		\n		\n		\n\n		\n\n		\n\n\n\n	Tickets\n\n		\n	\n	\n		The numbers below include tickets for this event already in your cart. Clicking "Get Tickets" will allow you to edit any existing attendee information as well as change ticket quantities.	\n\n\n		\n\n	\n		\n				Driver Ticket	\n\n\n\n\n	1 Driver Ticket \nIncludes qty 1 Crew Ticket\n\n\n	\n		\n		$135.00			\n\n\n	\n\n\n	\n	 36  available\n\n\n	\n\n\n	\n					\n\n	\n		Quantity	\n	\n\n			\n\n	\n		\n	\n\n\n\n	\n		\n				General Admission	\n\n\n\n\n	Qty 1 Spectator / general admission\n\n\n	\n		\n		$10.00			\n\n\n	\n\n\n	Unlimited\n	\n\n\n	\n\n\n	\n					\n\n	\n		Quantity	\n	\n\n			\n\n	\n		\n	\n\n\n\n	\n		\n				Crew Ticket	\n\n\n\n\n	Must be added to cart when you purchase driver ticket. \n\none per driver \n\n\n	\n		\n		$0.00			\n\n\n	\n\n\n	Unlimited\n	\n\n\n	\n\n\n	\n					\n\n	\n		Quantity	\n	\n\n			\n\n	\n		\n	\n\n\n		Only 1 Crew Pass per driver ticket  You need to add a driver ticket before adding crew.  \n\n	\n	\n	\n		Quantity:	\n	0\n\n\n	\n	\n		Total:	\n	\n		$0.00	\n\n\n	Get Tickets\n\n		\n				\n			\n\n\n		\n		\n	\n	\n\n	\n	\n\n	\n	\n\n\n\n			\n\n	\n\n\n				\n				\n					\n				\n				\n						\n					\n			\n						\n				\n					\n	\n\n	Categories:	\n		Drift Day	\n\n				\n				\n				\n				\n					Organizer Info: 				\n				\n				\n				\n					\n	\n			\n			Mid Michigan Drift Club			\n	\n\n	\n	View Organizer Website \n\n\n\n				\n				\n					\n		\n				\n			\n						\n				\n					\n				\n				\n	\n			\n		Jackson Speedway			\n	\n	\n	\n\n3363 Page Ave\n	\n		\n		Jackson\,\n\n	MI\n\n	49203\n\n	United States\n\n\n\n\n	+ Google Map
URL:https://driftmaps.com/event/elevated-koncepts-3/
LOCATION:Midpond\, 6230 Co Rd 26\, Columbiana\, AL\, 35051\, United States
CATEGORIES:Competition,Drift Day
ATTACH;FMTTYPE=image/jpeg:https://driftmaps.com/wp-content/uploads/2025/01/b613a14c-3cc6-4e3f-8e1b-97b24697ac03.jpeg
GEO:33.1781718;-86.6072054
X-APPLE-STRUCTURED-LOCATION;VALUE=URI;X-ADDRESS=Midpond 6230 Co Rd 26 Columbiana AL 35051 United States;X-APPLE-RADIUS=500;X-TITLE=6230 Co Rd 26:geo:-86.6072054,33.1781718
END:VEVENT
END:VCALENDAR