BEGIN:VCALENDAR
VERSION:2.0
PRODID:-// - ECPv6.15.20//NONSGML v1.0//EN
CALSCALE:GREGORIAN
METHOD:PUBLISH
X-ORIGINAL-URL:https://driftmaps.com
X-WR-CALDESC:Events for 
REFRESH-INTERVAL;VALUE=DURATION:PT1H
X-Robots-Tag:noindex
X-PUBLISHED-TTL:PT1H
BEGIN:VTIMEZONE
TZID:America/New_York
BEGIN:DAYLIGHT
TZOFFSETFROM:-0500
TZOFFSETTO:-0400
TZNAME:EDT
DTSTART:20240310T070000
END:DAYLIGHT
BEGIN:STANDARD
TZOFFSETFROM:-0400
TZOFFSETTO:-0500
TZNAME:EST
DTSTART:20241103T060000
END:STANDARD
BEGIN:DAYLIGHT
TZOFFSETFROM:-0500
TZOFFSETTO:-0400
TZNAME:EDT
DTSTART:20250309T070000
END:DAYLIGHT
BEGIN:STANDARD
TZOFFSETFROM:-0400
TZOFFSETTO:-0500
TZNAME:EST
DTSTART:20251102T060000
END:STANDARD
BEGIN:DAYLIGHT
TZOFFSETFROM:-0500
TZOFFSETTO:-0400
TZNAME:EDT
DTSTART:20260308T070000
END:DAYLIGHT
BEGIN:STANDARD
TZOFFSETFROM:-0400
TZOFFSETTO:-0500
TZNAME:EST
DTSTART:20261101T060000
END:STANDARD
END:VTIMEZONE
BEGIN:VTIMEZONE
TZID:UTC
BEGIN:STANDARD
TZOFFSETFROM:+0000
TZOFFSETTO:+0000
TZNAME:UTC
DTSTART:20240101T000000
END:STANDARD
END:VTIMEZONE
BEGIN:VEVENT
DTSTART;VALUE=DATE:20250815
DTEND;VALUE=DATE:20250818
DTSTAMP:20260422T080203
CREATED:20250208T142554Z
LAST-MODIFIED:20250208T144521Z
UID:10000863-1755216000-1755475199@driftmaps.com
SUMMARY:Drift Evergreen Sinister Bash
DESCRIPTION:Book Hotel:\n					\n					\n				\n								\n				\n				\n				\n									\n					\n						\n									Driftmaps Merch:\n					\n					\n				\n								\n				\n				\n				\n							\n						\n				\n					 Event Info: \n							\n			\n			\n		\n\n						\n				\n				\n				\n									We’re excited to be back at Jackson Speedway for an Open Drift Day! With a reduced driver capacity\, we’re able to keep the track open for all run groups throughout the day. All driver levels are welcome\, but there will not be a donut area set up. Check out the clinic on Sunday if you’re just starting out\, want 1:1 coaching or are looking for that “private day” experience. DRIVERS: 50 driver cap\, $135 driver pass includes 1 FREE crew pass when added to your cart at checkoutSPECTATORS: $10 general admission\, 12 and under FREEDRIVERS & PASSENGERS: SA2015+ helmet and hands in the car required\, limited helmet rentals available at the merch booth for $30/day								\n				\n				\n					\n						\n				\n					 Event Schedule: \n							\n			\n			\n		\n\n						\n				\n				\n				\n									SAT 5/2 SCHEDULE  9AM – Gates Open10:30AM – Drivers Meeting11AM – Track Hot (single lap short)12PM – Spectator Gates Open\, Tech Closes\, Double Lap Short3PM – Medium or Long Course7PM – Track Cold8:30PM – Gates Close 								\n				\n				\n					\n						\n				\n					 Tech Requirements: \n							\n			\n			\n		\n\n						\n				\n				\n				\n									Tech Book available : (CLICK HERE)  PASSENGERS + DRIVERS: SA2015+ helmet and hands in the car required\, limited helmet rentals available at the merch booth for $30/day								\n				\n				\n					\n						\n				\n					 Media Registration: Registration deadline 4/27 @ 5PM \n							\n			\n			\n		\n\n						\n				\n					\n				\n				\n					Loading…				\n				\n					\n				\n					\n						\n				\n					 Driver Chat: \n							\n			\n			\n		\n\n						\n				\n					\n				\n				\n									DRIVERS ONLY CLICK HERE 								\n				\n					\n				\n					\n					\n						\n				\n				\n				\n									DRIVERS: YOU MUST ADD CREW TICKET TO CART AT TIME OF PURCHASE TO RECEIVE YOUR FREE CREW PASS 								\n				\n				\n				\n					\n	\n\n		\n		\n		\n\n		\n\n		\n\n\n\n	Tickets\n\n		\n	\n	\n		The numbers below include tickets for this event already in your cart. Clicking "Get Tickets" will allow you to edit any existing attendee information as well as change ticket quantities.	\n\n\n		\n\n	\n		\n				Driver Ticket	\n\n\n\n\n	1 Driver Ticket \nIncludes qty 1 Crew Ticket\n\n\n	\n		\n		$135.00			\n\n\n	\n\n\n	\n	 36  available\n\n\n	\n\n\n	\n						\n	Decrease ticket quantity for Driver Ticket\n	-\n				\n\n	\n		Quantity	\n	\n\n					\n	Increase ticket quantity for Driver Ticket\n	+\n			\n\n	\n		\n	\n\n\n\n	\n		\n				General Admission	\n\n\n\n\n	Qty 1 Spectator / general admission\n\n\n	\n		\n		$10.00			\n\n\n	\n\n\n	Unlimited\n	\n\n\n	\n\n\n	\n						\n	Decrease ticket quantity for General Admission\n	-\n				\n\n	\n		Quantity	\n	\n\n					\n	Increase ticket quantity for General Admission\n	+\n			\n\n	\n		\n	\n\n\n\n	\n		\n				Crew Ticket	\n\n\n\n\n	Must be added to cart when you purchase driver ticket. \n\none per driver \n\n\n	\n		\n		$0.00			\n\n\n	\n\n\n	Unlimited\n	\n\n\n	\n\n\n	\n						\n	Decrease ticket quantity for Crew Ticket\n	-\n				\n\n	\n		Quantity	\n	\n\n					\n	Increase ticket quantity for Crew Ticket\n	+\n			\n\n	\n		\n	\n\n\n		Only 1 Crew Pass per driver ticket  You need to add a driver ticket before adding crew.  \n\n	\n	\n	\n		Quantity:	\n	0\n\n\n	\n	\n		Total:	\n	\n		$0.00	\n\n\n	Get Tickets\n\n		\n				\n			\n\n\n		\n		\n	\n	\n\n	\n	\n\n	\n	\n\n\n\n			\n\n	\n\n\n				\n				\n					\n				\n				\n						\n					\n			\n						\n				\n					\n	\n\n	Categories:	\n		Drift Day	\n\n				\n				\n				\n				\n					Organizer Info: 				\n				\n				\n				\n					\n	\n			\n			Mid Michigan Drift Club			\n	\n\n	\n	\n\n	Website:View Organizer Website \n\n\n\n				\n				\n					\n		\n				\n			\n						\n				\n					\n				\n				\n	\n			\n		Jackson Speedway			\n	\n	\n	\n\n3363 Page Ave\n	\n		\n		Jackson\,\n\n	MI\n\n	49203\n\n	United States\n\n\n\n\n	+ Google Map
URL:https://driftmaps.com/event/drift-evergreen-sinister-bash/
LOCATION:Evergreen Raceway\, 183 Mill Mountain Rd\, Drums\, PA\, 18222\, United States
CATEGORIES:Drift Day
ATTACH;FMTTYPE=application/pdf:https://driftmaps.com/wp-content/uploads/2025/02/DritftEvergreen-2.pdf
GEO:41.0254026;-76.000847
X-APPLE-STRUCTURED-LOCATION;VALUE=URI;X-ADDRESS=Evergreen Raceway 183 Mill Mountain Rd Drums PA 18222 United States;X-APPLE-RADIUS=500;X-TITLE=183 Mill Mountain Rd:geo:-76.000847,41.0254026
END:VEVENT
BEGIN:VEVENT
DTSTART;VALUE=DATE:20250816
DTEND;VALUE=DATE:20250818
DTSTAMP:20260422T080204
CREATED:20241209T072058Z
LAST-MODIFIED:20241209T072103Z
UID:10000549-1755302400-1755475199@driftmaps.com
SUMMARY:DLC Pool Party '25 - Driven Luck Circuit
DESCRIPTION:Book Hotel:\n					\n					\n				\n								\n				\n				\n				\n									\n					\n						\n									Driftmaps Merch:\n					\n					\n				\n								\n				\n				\n				\n							\n						\n				\n					 Event Info: \n							\n			\n			\n		\n\n						\n				\n				\n				\n									We’re excited to be back at Jackson Speedway for an Open Drift Day! With a reduced driver capacity\, we’re able to keep the track open for all run groups throughout the day. All driver levels are welcome\, but there will not be a donut area set up. Check out the clinic on Sunday if you’re just starting out\, want 1:1 coaching or are looking for that “private day” experience. DRIVERS: 50 driver cap\, $135 driver pass includes 1 FREE crew pass when added to your cart at checkoutSPECTATORS: $10 general admission\, 12 and under FREEDRIVERS & PASSENGERS: SA2015+ helmet and hands in the car required\, limited helmet rentals available at the merch booth for $30/day								\n				\n				\n					\n						\n				\n					 Event Schedule: \n							\n			\n			\n		\n\n						\n				\n				\n				\n									SAT 5/2 SCHEDULE  9AM – Gates Open10:30AM – Drivers Meeting11AM – Track Hot (single lap short)12PM – Spectator Gates Open\, Tech Closes\, Double Lap Short3PM – Medium or Long Course7PM – Track Cold8:30PM – Gates Close 								\n				\n				\n					\n						\n				\n					 Tech Requirements: \n							\n			\n			\n		\n\n						\n				\n				\n				\n									Tech Book available : (CLICK HERE)  PASSENGERS + DRIVERS: SA2015+ helmet and hands in the car required\, limited helmet rentals available at the merch booth for $30/day								\n				\n				\n					\n						\n				\n					 Media Registration: Registration deadline 4/27 @ 5PM \n							\n			\n			\n		\n\n						\n				\n					\n				\n				\n					Loading…				\n				\n					\n				\n					\n						\n				\n					 Driver Chat: \n							\n			\n			\n		\n\n						\n				\n					\n				\n				\n									DRIVERS ONLY CLICK HERE 								\n				\n					\n				\n					\n					\n						\n				\n				\n				\n									DRIVERS: YOU MUST ADD CREW TICKET TO CART AT TIME OF PURCHASE TO RECEIVE YOUR FREE CREW PASS 								\n				\n				\n				\n					\n	\n\n		\n		\n		\n\n		\n\n		\n\n\n\n	Tickets\n\n		\n	\n	\n		The numbers below include tickets for this event already in your cart. Clicking "Get Tickets" will allow you to edit any existing attendee information as well as change ticket quantities.	\n\n\n		\n\n	\n		\n				Driver Ticket	\n\n\n\n\n	1 Driver Ticket \nIncludes qty 1 Crew Ticket\n\n\n	\n		\n		$135.00			\n\n\n	\n\n\n	\n	 36  available\n\n\n	\n\n\n	\n					\n\n	\n		Quantity	\n	\n\n			\n\n	\n		\n	\n\n\n\n	\n		\n				General Admission	\n\n\n\n\n	Qty 1 Spectator / general admission\n\n\n	\n		\n		$10.00			\n\n\n	\n\n\n	Unlimited\n	\n\n\n	\n\n\n	\n					\n\n	\n		Quantity	\n	\n\n			\n\n	\n		\n	\n\n\n\n	\n		\n				Crew Ticket	\n\n\n\n\n	Must be added to cart when you purchase driver ticket. \n\none per driver \n\n\n	\n		\n		$0.00			\n\n\n	\n\n\n	Unlimited\n	\n\n\n	\n\n\n	\n					\n\n	\n		Quantity	\n	\n\n			\n\n	\n		\n	\n\n\n		Only 1 Crew Pass per driver ticket  You need to add a driver ticket before adding crew.  \n\n	\n	\n	\n		Quantity:	\n	0\n\n\n	\n	\n		Total:	\n	\n		$0.00	\n\n\n	Get Tickets\n\n		\n				\n			\n\n\n		\n		\n	\n	\n\n	\n	\n\n	\n	\n\n\n\n			\n\n	\n\n\n				\n				\n					\n				\n				\n						\n					\n			\n						\n				\n					\n	\n\n	Categories:	\n		Drift Day	\n\n				\n				\n				\n				\n					Organizer Info: 				\n				\n				\n				\n					\n	\n			\n			Mid Michigan Drift Club			\n	\n\n	\n	View Organizer Website \n\n\n\n				\n				\n					\n		\n				\n			\n						\n				\n					\n				\n				\n	\n			\n		Jackson Speedway			\n	\n	\n	\n\n3363 Page Ave\n	\n		\n		Jackson\,\n\n	MI\n\n	49203\n\n	United States\n\n\n\n\n	+ Google Map
URL:https://driftmaps.com/event/dlc-pool-party-25-driven-luck-circuit/
LOCATION:Driven Luck Circuit\, 550 brewers point court\, bryant\, AL\, 35958\, United States
CATEGORIES:Drift Day
ATTACH;FMTTYPE=image/jpeg:https://driftmaps.com/wp-content/uploads/2024/12/driven-luck-circuit-e1733710185643.jpg
GEO:34.8945654;-85.6614894
X-APPLE-STRUCTURED-LOCATION;VALUE=URI;X-ADDRESS=Driven Luck Circuit 550 brewers point court bryant AL 35958 United States;X-APPLE-RADIUS=500;X-TITLE=550 brewers point court:geo:-85.6614894,34.8945654
END:VEVENT
BEGIN:VEVENT
DTSTART;VALUE=DATE:20250816
DTEND;VALUE=DATE:20250819
DTSTAMP:20260422T080204
CREATED:20241215T222342Z
LAST-MODIFIED:20241229T012147Z
UID:10000611-1755302400-1755561599@driftmaps.com
SUMMARY:Peachez N Creme
DESCRIPTION:Book Hotel:\n					\n					\n				\n								\n				\n				\n				\n									\n					\n						\n									Driftmaps Merch:\n					\n					\n				\n								\n				\n				\n				\n							\n						\n				\n					 Event Info: \n							\n			\n			\n		\n\n						\n				\n				\n				\n									We’re excited to be back at Jackson Speedway for an Open Drift Day! With a reduced driver capacity\, we’re able to keep the track open for all run groups throughout the day. All driver levels are welcome\, but there will not be a donut area set up. Check out the clinic on Sunday if you’re just starting out\, want 1:1 coaching or are looking for that “private day” experience. DRIVERS: 50 driver cap\, $135 driver pass includes 1 FREE crew pass when added to your cart at checkoutSPECTATORS: $10 general admission\, 12 and under FREEDRIVERS & PASSENGERS: SA2015+ helmet and hands in the car required\, limited helmet rentals available at the merch booth for $30/day								\n				\n				\n					\n						\n				\n					 Event Schedule: \n							\n			\n			\n		\n\n						\n				\n				\n				\n									SAT 5/2 SCHEDULE  9AM – Gates Open10:30AM – Drivers Meeting11AM – Track Hot (single lap short)12PM – Spectator Gates Open\, Tech Closes\, Double Lap Short3PM – Medium or Long Course7PM – Track Cold8:30PM – Gates Close 								\n				\n				\n					\n						\n				\n					 Tech Requirements: \n							\n			\n			\n		\n\n						\n				\n				\n				\n									Tech Book available : (CLICK HERE)  PASSENGERS + DRIVERS: SA2015+ helmet and hands in the car required\, limited helmet rentals available at the merch booth for $30/day								\n				\n				\n					\n						\n				\n					 Media Registration: Registration deadline 4/27 @ 5PM \n							\n			\n			\n		\n\n						\n				\n					\n				\n				\n					Loading…				\n				\n					\n				\n					\n						\n				\n					 Driver Chat: \n							\n			\n			\n		\n\n						\n				\n					\n				\n				\n									DRIVERS ONLY CLICK HERE 								\n				\n					\n				\n					\n					\n						\n				\n				\n				\n									DRIVERS: YOU MUST ADD CREW TICKET TO CART AT TIME OF PURCHASE TO RECEIVE YOUR FREE CREW PASS 								\n				\n				\n				\n					\n	\n\n		\n		\n		\n\n		\n\n		\n\n\n\n	Tickets\n\n		\n	\n	\n		The numbers below include tickets for this event already in your cart. Clicking "Get Tickets" will allow you to edit any existing attendee information as well as change ticket quantities.	\n\n\n		\n\n	\n		\n				Driver Ticket	\n\n\n\n\n	1 Driver Ticket \nIncludes qty 1 Crew Ticket\n\n\n	\n		\n		$135.00			\n\n\n	\n\n\n	\n	 36  available\n\n\n	\n\n\n	\n					\n\n	\n		Quantity	\n	\n\n			\n\n	\n		\n	\n\n\n\n	\n		\n				General Admission	\n\n\n\n\n	Qty 1 Spectator / general admission\n\n\n	\n		\n		$10.00			\n\n\n	\n\n\n	Unlimited\n	\n\n\n	\n\n\n	\n					\n\n	\n		Quantity	\n	\n\n			\n\n	\n		\n	\n\n\n\n	\n		\n				Crew Ticket	\n\n\n\n\n	Must be added to cart when you purchase driver ticket. \n\none per driver \n\n\n	\n		\n		$0.00			\n\n\n	\n\n\n	Unlimited\n	\n\n\n	\n\n\n	\n					\n\n	\n		Quantity	\n	\n\n			\n\n	\n		\n	\n\n\n		Only 1 Crew Pass per driver ticket  You need to add a driver ticket before adding crew.  \n\n	\n	\n	\n		Quantity:	\n	0\n\n\n	\n	\n		Total:	\n	\n		$0.00	\n\n\n	Get Tickets\n\n		\n				\n			\n\n\n		\n		\n	\n	\n\n	\n	\n\n	\n	\n\n\n\n			\n\n	\n\n\n				\n				\n					\n				\n				\n						\n					\n			\n						\n				\n					\n	\n\n	Categories:	\n		Drift Day	\n\n				\n				\n				\n				\n					Organizer Info: 				\n				\n				\n				\n					\n	\n			\n			Mid Michigan Drift Club			\n	\n\n	\n	View Organizer Website \n\n\n\n				\n				\n					\n		\n				\n			\n						\n				\n					\n				\n				\n	\n			\n		Jackson Speedway			\n	\n	\n	\n\n3363 Page Ave\n	\n		\n		Jackson\,\n\n	MI\n\n	49203\n\n	United States\n\n\n\n\n	+ Google Map
URL:https://driftmaps.com/event/peachez-n-creme/
LOCATION:Piedmont Dragway\, 6752 Holts Store Rd\, Julian\, NC\, 27283\, United States
CATEGORIES:Drift Day
ATTACH;FMTTYPE=image/png:https://driftmaps.com/wp-content/uploads/2024/12/PIEDMONT-01.png
GEO:35.9950278;-79.5915674
X-APPLE-STRUCTURED-LOCATION;VALUE=URI;X-ADDRESS=Piedmont Dragway 6752 Holts Store Rd Julian NC 27283 United States;X-APPLE-RADIUS=500;X-TITLE=6752 Holts Store Rd:geo:-79.5915674,35.9950278
END:VEVENT
BEGIN:VEVENT
DTSTART;VALUE=DATE:20250817
DTEND;VALUE=DATE:20250818
DTSTAMP:20260422T080204
CREATED:20241209T074654Z
LAST-MODIFIED:20241209T074656Z
UID:10000562-1755388800-1755475199@driftmaps.com
SUMMARY:Cars\, Coffee\, Drift
DESCRIPTION:Book Hotel:\n					\n					\n				\n								\n				\n				\n				\n									\n					\n						\n									Driftmaps Merch:\n					\n					\n				\n								\n				\n				\n				\n							\n						\n				\n					 Event Info: \n							\n			\n			\n		\n\n						\n				\n				\n				\n									We’re excited to be back at Jackson Speedway for an Open Drift Day! With a reduced driver capacity\, we’re able to keep the track open for all run groups throughout the day. All driver levels are welcome\, but there will not be a donut area set up. Check out the clinic on Sunday if you’re just starting out\, want 1:1 coaching or are looking for that “private day” experience. DRIVERS: 50 driver cap\, $135 driver pass includes 1 FREE crew pass when added to your cart at checkoutSPECTATORS: $10 general admission\, 12 and under FREEDRIVERS & PASSENGERS: SA2015+ helmet and hands in the car required\, limited helmet rentals available at the merch booth for $30/day								\n				\n				\n					\n						\n				\n					 Event Schedule: \n							\n			\n			\n		\n\n						\n				\n				\n				\n									SAT 5/2 SCHEDULE  9AM – Gates Open10:30AM – Drivers Meeting11AM – Track Hot (single lap short)12PM – Spectator Gates Open\, Tech Closes\, Double Lap Short3PM – Medium or Long Course7PM – Track Cold8:30PM – Gates Close 								\n				\n				\n					\n						\n				\n					 Tech Requirements: \n							\n			\n			\n		\n\n						\n				\n				\n				\n									Tech Book available : (CLICK HERE)  PASSENGERS + DRIVERS: SA2015+ helmet and hands in the car required\, limited helmet rentals available at the merch booth for $30/day								\n				\n				\n					\n						\n				\n					 Media Registration: Registration deadline 4/27 @ 5PM \n							\n			\n			\n		\n\n						\n				\n					\n				\n				\n					Loading…				\n				\n					\n				\n					\n						\n				\n					 Driver Chat: \n							\n			\n			\n		\n\n						\n				\n					\n				\n				\n									DRIVERS ONLY CLICK HERE 								\n				\n					\n				\n					\n					\n						\n				\n				\n				\n									DRIVERS: YOU MUST ADD CREW TICKET TO CART AT TIME OF PURCHASE TO RECEIVE YOUR FREE CREW PASS 								\n				\n				\n				\n					\n	\n\n		\n		\n		\n\n		\n\n		\n\n\n\n	Tickets\n\n		\n	\n	\n		The numbers below include tickets for this event already in your cart. Clicking "Get Tickets" will allow you to edit any existing attendee information as well as change ticket quantities.	\n\n\n		\n\n	\n		\n				Driver Ticket	\n\n\n\n\n	1 Driver Ticket \nIncludes qty 1 Crew Ticket\n\n\n	\n		\n		$135.00			\n\n\n	\n\n\n	\n	 36  available\n\n\n	\n\n\n	\n					\n\n	\n		Quantity	\n	\n\n			\n\n	\n		\n	\n\n\n\n	\n		\n				General Admission	\n\n\n\n\n	Qty 1 Spectator / general admission\n\n\n	\n		\n		$10.00			\n\n\n	\n\n\n	Unlimited\n	\n\n\n	\n\n\n	\n					\n\n	\n		Quantity	\n	\n\n			\n\n	\n		\n	\n\n\n\n	\n		\n				Crew Ticket	\n\n\n\n\n	Must be added to cart when you purchase driver ticket. \n\none per driver \n\n\n	\n		\n		$0.00			\n\n\n	\n\n\n	Unlimited\n	\n\n\n	\n\n\n	\n					\n\n	\n		Quantity	\n	\n\n			\n\n	\n		\n	\n\n\n		Only 1 Crew Pass per driver ticket  You need to add a driver ticket before adding crew.  \n\n	\n	\n	\n		Quantity:	\n	0\n\n\n	\n	\n		Total:	\n	\n		$0.00	\n\n\n	Get Tickets\n\n		\n				\n			\n\n\n		\n		\n	\n	\n\n	\n	\n\n	\n	\n\n\n\n			\n\n	\n\n\n				\n				\n					\n				\n				\n						\n					\n			\n						\n				\n					\n	\n\n	Categories:	\n		Drift Day	\n\n				\n				\n				\n				\n					Organizer Info: 				\n				\n				\n				\n					\n	\n			\n			Mid Michigan Drift Club			\n	\n\n	\n	View Organizer Website \n\n\n\n				\n				\n					\n		\n				\n			\n						\n				\n					\n				\n				\n	\n			\n		Jackson Speedway			\n	\n	\n	\n\n3363 Page Ave\n	\n		\n		Jackson\,\n\n	MI\n\n	49203\n\n	United States\n\n\n\n\n	+ Google Map
URL:https://driftmaps.com/event/cars-coffee-drift/
LOCATION:Orlando Speed World\, 19164 E Colonial D\, Orlando\, FL\, 32820\, United States
CATEGORIES:Drift Day
ATTACH;FMTTYPE=image/jpeg:https://driftmaps.com/wp-content/uploads/2024/01/OSW-Drift-e1733713607662.jpg
GEO:28.5433319;-81.0937138
X-APPLE-STRUCTURED-LOCATION;VALUE=URI;X-ADDRESS=Orlando Speed World 19164 E Colonial D Orlando FL 32820 United States;X-APPLE-RADIUS=500;X-TITLE=19164 E Colonial D:geo:-81.0937138,28.5433319
END:VEVENT
BEGIN:VEVENT
DTSTART;VALUE=DATE:20250817
DTEND;VALUE=DATE:20250818
DTSTAMP:20260422T080205
CREATED:20250311T002014Z
LAST-MODIFIED:20250311T002021Z
UID:10000930-1755388800-1755475199@driftmaps.com
SUMMARY:CL2 - Drift Day
DESCRIPTION:Book Hotel:\n					\n					\n				\n								\n				\n				\n				\n									\n					\n						\n									Driftmaps Merch:\n					\n					\n				\n								\n				\n				\n				\n							\n						\n				\n					 Event Info: \n							\n			\n			\n		\n\n						\n				\n				\n				\n									We’re excited to be back at Jackson Speedway for an Open Drift Day! With a reduced driver capacity\, we’re able to keep the track open for all run groups throughout the day. All driver levels are welcome\, but there will not be a donut area set up. Check out the clinic on Sunday if you’re just starting out\, want 1:1 coaching or are looking for that “private day” experience. DRIVERS: 50 driver cap\, $135 driver pass includes 1 FREE crew pass when added to your cart at checkoutSPECTATORS: $10 general admission\, 12 and under FREEDRIVERS & PASSENGERS: SA2015+ helmet and hands in the car required\, limited helmet rentals available at the merch booth for $30/day								\n				\n				\n					\n						\n				\n					 Event Schedule: \n							\n			\n			\n		\n\n						\n				\n				\n				\n									SAT 5/2 SCHEDULE  9AM – Gates Open10:30AM – Drivers Meeting11AM – Track Hot (single lap short)12PM – Spectator Gates Open\, Tech Closes\, Double Lap Short3PM – Medium or Long Course7PM – Track Cold8:30PM – Gates Close 								\n				\n				\n					\n						\n				\n					 Tech Requirements: \n							\n			\n			\n		\n\n						\n				\n				\n				\n									Tech Book available : (CLICK HERE)  PASSENGERS + DRIVERS: SA2015+ helmet and hands in the car required\, limited helmet rentals available at the merch booth for $30/day								\n				\n				\n					\n						\n				\n					 Media Registration: Registration deadline 4/27 @ 5PM \n							\n			\n			\n		\n\n						\n				\n					\n				\n				\n					Loading…				\n				\n					\n				\n					\n						\n				\n					 Driver Chat: \n							\n			\n			\n		\n\n						\n				\n					\n				\n				\n									DRIVERS ONLY CLICK HERE 								\n				\n					\n				\n					\n					\n						\n				\n				\n				\n									DRIVERS: YOU MUST ADD CREW TICKET TO CART AT TIME OF PURCHASE TO RECEIVE YOUR FREE CREW PASS 								\n				\n				\n				\n					\n	\n\n		\n		\n		\n\n		\n\n		\n\n\n\n	Tickets\n\n		\n	\n	\n		The numbers below include tickets for this event already in your cart. Clicking "Get Tickets" will allow you to edit any existing attendee information as well as change ticket quantities.	\n\n\n		\n\n	\n		\n				Driver Ticket	\n\n\n\n\n	1 Driver Ticket \nIncludes qty 1 Crew Ticket\n\n\n	\n		\n		$135.00			\n\n\n	\n\n\n	\n	 36  available\n\n\n	\n\n\n	\n					\n\n	\n		Quantity	\n	\n\n			\n\n	\n		\n	\n\n\n\n	\n		\n				General Admission	\n\n\n\n\n	Qty 1 Spectator / general admission\n\n\n	\n		\n		$10.00			\n\n\n	\n\n\n	Unlimited\n	\n\n\n	\n\n\n	\n					\n\n	\n		Quantity	\n	\n\n			\n\n	\n		\n	\n\n\n\n	\n		\n				Crew Ticket	\n\n\n\n\n	Must be added to cart when you purchase driver ticket. \n\none per driver \n\n\n	\n		\n		$0.00			\n\n\n	\n\n\n	Unlimited\n	\n\n\n	\n\n\n	\n					\n\n	\n		Quantity	\n	\n\n			\n\n	\n		\n	\n\n\n		Only 1 Crew Pass per driver ticket  You need to add a driver ticket before adding crew.  \n\n	\n	\n	\n		Quantity:	\n	0\n\n\n	\n	\n		Total:	\n	\n		$0.00	\n\n\n	Get Tickets\n\n		\n				\n			\n\n\n		\n		\n	\n	\n\n	\n	\n\n	\n	\n\n\n\n			\n\n	\n\n\n				\n				\n					\n				\n				\n						\n					\n			\n						\n				\n					\n	\n\n	Categories:	\n		Drift Day	\n\n				\n				\n				\n				\n					Organizer Info: 				\n				\n				\n				\n					\n	\n			\n			Mid Michigan Drift Club			\n	\n\n	\n	View Organizer Website \n\n\n\n				\n				\n					\n		\n				\n			\n						\n				\n					\n				\n				\n	\n			\n		Jackson Speedway			\n	\n	\n	\n\n3363 Page Ave\n	\n		\n		Jackson\,\n\n	MI\n\n	49203\n\n	United States\n\n\n\n\n	+ Google Map
URL:https://driftmaps.com/event/cl2-drift-day-8/
LOCATION:Pittrace\, 201 Penndale Road\, Wampum\, PA\, 16157\, United States
CATEGORIES:Drift Day,Skidpad
ATTACH;FMTTYPE=image/jpeg:https://driftmaps.com/wp-content/uploads/2025/03/CL2.jpg
GEO:40.846838;-80.345671
X-APPLE-STRUCTURED-LOCATION;VALUE=URI;X-ADDRESS=Pittrace 201 Penndale Road Wampum PA 16157 United States;X-APPLE-RADIUS=500;X-TITLE=201 Penndale Road:geo:-80.345671,40.846838
END:VEVENT
BEGIN:VEVENT
DTSTART;VALUE=DATE:20250817
DTEND;VALUE=DATE:20250818
DTSTAMP:20260422T080205
CREATED:20250311T002059Z
LAST-MODIFIED:20250311T002104Z
UID:10000931-1755388800-1755475199@driftmaps.com
SUMMARY:CL2 - Drift Day
DESCRIPTION:Book Hotel:\n					\n					\n				\n								\n				\n				\n				\n									\n					\n						\n									Driftmaps Merch:\n					\n					\n				\n								\n				\n				\n				\n							\n						\n				\n					 Event Info: \n							\n			\n			\n		\n\n						\n				\n				\n				\n									We’re excited to be back at Jackson Speedway for an Open Drift Day! With a reduced driver capacity\, we’re able to keep the track open for all run groups throughout the day. All driver levels are welcome\, but there will not be a donut area set up. Check out the clinic on Sunday if you’re just starting out\, want 1:1 coaching or are looking for that “private day” experience. DRIVERS: 50 driver cap\, $135 driver pass includes 1 FREE crew pass when added to your cart at checkoutSPECTATORS: $10 general admission\, 12 and under FREEDRIVERS & PASSENGERS: SA2015+ helmet and hands in the car required\, limited helmet rentals available at the merch booth for $30/day								\n				\n				\n					\n						\n				\n					 Event Schedule: \n							\n			\n			\n		\n\n						\n				\n				\n				\n									SAT 5/2 SCHEDULE  9AM – Gates Open10:30AM – Drivers Meeting11AM – Track Hot (single lap short)12PM – Spectator Gates Open\, Tech Closes\, Double Lap Short3PM – Medium or Long Course7PM – Track Cold8:30PM – Gates Close 								\n				\n				\n					\n						\n				\n					 Tech Requirements: \n							\n			\n			\n		\n\n						\n				\n				\n				\n									Tech Book available : (CLICK HERE)  PASSENGERS + DRIVERS: SA2015+ helmet and hands in the car required\, limited helmet rentals available at the merch booth for $30/day								\n				\n				\n					\n						\n				\n					 Media Registration: Registration deadline 4/27 @ 5PM \n							\n			\n			\n		\n\n						\n				\n					\n				\n				\n					Loading…				\n				\n					\n				\n					\n						\n				\n					 Driver Chat: \n							\n			\n			\n		\n\n						\n				\n					\n				\n				\n									DRIVERS ONLY CLICK HERE 								\n				\n					\n				\n					\n					\n						\n				\n				\n				\n									DRIVERS: YOU MUST ADD CREW TICKET TO CART AT TIME OF PURCHASE TO RECEIVE YOUR FREE CREW PASS 								\n				\n				\n				\n					\n	\n\n		\n		\n		\n\n		\n\n		\n\n\n\n	Tickets\n\n		\n	\n	\n		The numbers below include tickets for this event already in your cart. Clicking "Get Tickets" will allow you to edit any existing attendee information as well as change ticket quantities.	\n\n\n		\n\n	\n		\n				Driver Ticket	\n\n\n\n\n	1 Driver Ticket \nIncludes qty 1 Crew Ticket\n\n\n	\n		\n		$135.00			\n\n\n	\n\n\n	\n	 36  available\n\n\n	\n\n\n	\n					\n\n	\n		Quantity	\n	\n\n			\n\n	\n		\n	\n\n\n\n	\n		\n				General Admission	\n\n\n\n\n	Qty 1 Spectator / general admission\n\n\n	\n		\n		$10.00			\n\n\n	\n\n\n	Unlimited\n	\n\n\n	\n\n\n	\n					\n\n	\n		Quantity	\n	\n\n			\n\n	\n		\n	\n\n\n\n	\n		\n				Crew Ticket	\n\n\n\n\n	Must be added to cart when you purchase driver ticket. \n\none per driver \n\n\n	\n		\n		$0.00			\n\n\n	\n\n\n	Unlimited\n	\n\n\n	\n\n\n	\n					\n\n	\n		Quantity	\n	\n\n			\n\n	\n		\n	\n\n\n		Only 1 Crew Pass per driver ticket  You need to add a driver ticket before adding crew.  \n\n	\n	\n	\n		Quantity:	\n	0\n\n\n	\n	\n		Total:	\n	\n		$0.00	\n\n\n	Get Tickets\n\n		\n				\n			\n\n\n		\n		\n	\n	\n\n	\n	\n\n	\n	\n\n\n\n			\n\n	\n\n\n				\n				\n					\n				\n				\n						\n					\n			\n						\n				\n					\n	\n\n	Categories:	\n		Drift Day	\n\n				\n				\n				\n				\n					Organizer Info: 				\n				\n				\n				\n					\n	\n			\n			Mid Michigan Drift Club			\n	\n\n	\n	View Organizer Website \n\n\n\n				\n				\n					\n		\n				\n			\n						\n				\n					\n				\n				\n	\n			\n		Jackson Speedway			\n	\n	\n	\n\n3363 Page Ave\n	\n		\n		Jackson\,\n\n	MI\n\n	49203\n\n	United States\n\n\n\n\n	+ Google Map
URL:https://driftmaps.com/event/cl2-drift-day-9/
LOCATION:Pittrace\, 201 Penndale Road\, Wampum\, PA\, 16157\, United States
CATEGORIES:Drift Day,Skidpad
ATTACH;FMTTYPE=image/jpeg:https://driftmaps.com/wp-content/uploads/2025/03/CL2.jpg
GEO:40.846838;-80.345671
X-APPLE-STRUCTURED-LOCATION;VALUE=URI;X-ADDRESS=Pittrace 201 Penndale Road Wampum PA 16157 United States;X-APPLE-RADIUS=500;X-TITLE=201 Penndale Road:geo:-80.345671,40.846838
END:VEVENT
END:VCALENDAR