BEGIN:VCALENDAR
VERSION:2.0
PRODID:-// - ECPv6.15.20//NONSGML v1.0//EN
CALSCALE:GREGORIAN
METHOD:PUBLISH
X-ORIGINAL-URL:https://driftmaps.com
X-WR-CALDESC:Events for 
REFRESH-INTERVAL;VALUE=DURATION:PT1H
X-Robots-Tag:noindex
X-PUBLISHED-TTL:PT1H
BEGIN:VTIMEZONE
TZID:America/New_York
BEGIN:DAYLIGHT
TZOFFSETFROM:-0500
TZOFFSETTO:-0400
TZNAME:EDT
DTSTART:20240310T070000
END:DAYLIGHT
BEGIN:STANDARD
TZOFFSETFROM:-0400
TZOFFSETTO:-0500
TZNAME:EST
DTSTART:20241103T060000
END:STANDARD
BEGIN:DAYLIGHT
TZOFFSETFROM:-0500
TZOFFSETTO:-0400
TZNAME:EDT
DTSTART:20250309T070000
END:DAYLIGHT
BEGIN:STANDARD
TZOFFSETFROM:-0400
TZOFFSETTO:-0500
TZNAME:EST
DTSTART:20251102T060000
END:STANDARD
BEGIN:DAYLIGHT
TZOFFSETFROM:-0500
TZOFFSETTO:-0400
TZNAME:EDT
DTSTART:20260308T070000
END:DAYLIGHT
BEGIN:STANDARD
TZOFFSETFROM:-0400
TZOFFSETTO:-0500
TZNAME:EST
DTSTART:20261101T060000
END:STANDARD
END:VTIMEZONE
BEGIN:VEVENT
DTSTART;VALUE=DATE:20251122
DTEND;VALUE=DATE:20251123
DTSTAMP:20260424T130027
CREATED:20250210T002558Z
LAST-MODIFIED:20250210T002621Z
UID:10000879-1763769600-1763855999@driftmaps.com
SUMMARY:Driftsgiving
DESCRIPTION:Book Hotel:\n					\n					\n				\n								\n				\n				\n				\n									\n					\n						\n									Driftmaps Merch:\n					\n					\n				\n								\n				\n				\n				\n							\n						\n				\n					 Event Info: \n							\n			\n			\n		\n\n						\n				\n				\n				\n									We’re excited to be back at Jackson Speedway for an Open Drift Day! With a reduced driver capacity\, we’re able to keep the track open for all run groups throughout the day. All driver levels are welcome\, but there will not be a donut area set up. Check out the clinic on Sunday if you’re just starting out\, want 1:1 coaching or are looking for that “private day” experience. DRIVERS: 50 driver cap\, $135 driver pass includes 1 FREE crew pass when added to your cart at checkoutSPECTATORS: $10 general admission\, 12 and under FREEDRIVERS & PASSENGERS: SA2015+ helmet and hands in the car required\, limited helmet rentals available at the merch booth for $30/day								\n				\n				\n					\n						\n				\n					 Event Schedule: \n							\n			\n			\n		\n\n						\n				\n				\n				\n									SAT 5/2 SCHEDULE  9AM – Gates Open10:30AM – Drivers Meeting11AM – Track Hot (single lap short)12PM – Spectator Gates Open\, Tech Closes\, Double Lap Short3PM – Medium or Long Course7PM – Track Cold8:30PM – Gates Close 								\n				\n				\n					\n						\n				\n					 Tech Requirements: \n							\n			\n			\n		\n\n						\n				\n				\n				\n									Tech Book available : (CLICK HERE)  PASSENGERS + DRIVERS: SA2015+ helmet and hands in the car required\, limited helmet rentals available at the merch booth for $30/day								\n				\n				\n					\n						\n				\n					 Media Registration: Registration deadline 4/27 @ 5PM \n							\n			\n			\n		\n\n						\n				\n					\n				\n				\n					Loading…				\n				\n					\n				\n					\n						\n				\n					 Driver Chat: \n							\n			\n			\n		\n\n						\n				\n					\n				\n				\n									DRIVERS ONLY CLICK HERE 								\n				\n					\n				\n					\n					\n						\n				\n				\n				\n									DRIVERS: YOU MUST ADD CREW TICKET TO CART AT TIME OF PURCHASE TO RECEIVE YOUR FREE CREW PASS 								\n				\n				\n				\n					\n	\n\n		\n		\n		\n\n		\n\n		\n\n\n\n	Tickets\n\n		\n	\n	\n		The numbers below include tickets for this event already in your cart. Clicking "Get Tickets" will allow you to edit any existing attendee information as well as change ticket quantities.	\n\n\n		\n\n	\n		\n				Driver Ticket	\n\n\n\n\n	1 Driver Ticket \nIncludes qty 1 Crew Ticket\n\n\n	\n		\n		$135.00			\n\n\n	\n\n\n	\n	 28  available\n\n\n	\n\n\n	\n						\n	Decrease ticket quantity for Driver Ticket\n	-\n				\n\n	\n		Quantity	\n	\n\n					\n	Increase ticket quantity for Driver Ticket\n	+\n			\n\n	\n		\n	\n\n\n\n	\n		\n				General Admission	\n\n\n\n\n	Qty 1 Spectator / general admission\n\n\n	\n		\n		$10.00			\n\n\n	\n\n\n	Unlimited\n	\n\n\n	\n\n\n	\n						\n	Decrease ticket quantity for General Admission\n	-\n				\n\n	\n		Quantity	\n	\n\n					\n	Increase ticket quantity for General Admission\n	+\n			\n\n	\n		\n	\n\n\n\n	\n		\n				Crew Ticket	\n\n\n\n\n	Must be added to cart when you purchase driver ticket. \n\none per driver \n\n\n	\n		\n		$0.00			\n\n\n	\n\n\n	Unlimited\n	\n\n\n	\n\n\n	\n						\n	Decrease ticket quantity for Crew Ticket\n	-\n				\n\n	\n		Quantity	\n	\n\n					\n	Increase ticket quantity for Crew Ticket\n	+\n			\n\n	\n		\n	\n\n\n		Only 1 Crew Pass per driver ticket  You need to add a driver ticket before adding crew.  \n\n	\n	\n	\n		Quantity:	\n	0\n\n\n	\n	\n		Total:	\n	\n		$0.00	\n\n\n	Get Tickets\n\n		\n				\n			\n\n\n		\n		\n	\n	\n\n	\n	\n\n	\n	\n\n\n\n			\n\n	\n\n\n				\n				\n					\n				\n				\n						\n					\n			\n						\n				\n					\n	\n\n	Categories:	\n		Drift Day	\n\n				\n				\n				\n				\n					Organizer Info: 				\n				\n				\n				\n					\n	\n			\n			Mid Michigan Drift Club			\n	\n\n	\n	\n\n	Website:View Organizer Website \n\n\n\n				\n				\n					\n		\n				\n			\n						\n				\n					\n				\n				\n	\n			\n		Jackson Speedway			\n	\n	\n	\n\n3363 Page Ave\n	\n		\n		Jackson\,\n\n	MI\n\n	49203\n\n	United States\n\n\n\n\n	+ Google Map
URL:https://driftmaps.com/event/driftsgiving/
LOCATION:Drift Corpus\, 5302 leopard st.\, Corpus christi\, TX\, 78408\, United States
CATEGORIES:Drift Day
ATTACH;FMTTYPE=image/jpeg:https://driftmaps.com/wp-content/uploads/2025/01/IMG_8727-scaled.jpeg
ORGANIZER;CN="Drift Corpus":MAILTO:Driftcorpus@gmail.com
GEO:27.801177;-97.45842
X-APPLE-STRUCTURED-LOCATION;VALUE=URI;X-ADDRESS=Drift Corpus 5302 leopard st. Corpus christi TX 78408 United States;X-APPLE-RADIUS=500;X-TITLE=5302 leopard st.:geo:-97.45842,27.801177
END:VEVENT
BEGIN:VEVENT
DTSTART;VALUE=DATE:20251122
DTEND;VALUE=DATE:20251123
DTSTAMP:20260424T130028
CREATED:20241226T145739Z
LAST-MODIFIED:20241226T145749Z
UID:10000733-1763769600-1763855999@driftmaps.com
SUMMARY:Slideways at the Zoo
DESCRIPTION:Book Hotel:\n					\n					\n				\n								\n				\n				\n				\n									\n					\n						\n									Driftmaps Merch:\n					\n					\n				\n								\n				\n				\n				\n							\n						\n				\n					 Event Info: \n							\n			\n			\n		\n\n						\n				\n				\n				\n									We’re excited to be back at Jackson Speedway for an Open Drift Day! With a reduced driver capacity\, we’re able to keep the track open for all run groups throughout the day. All driver levels are welcome\, but there will not be a donut area set up. Check out the clinic on Sunday if you’re just starting out\, want 1:1 coaching or are looking for that “private day” experience. DRIVERS: 50 driver cap\, $135 driver pass includes 1 FREE crew pass when added to your cart at checkoutSPECTATORS: $10 general admission\, 12 and under FREEDRIVERS & PASSENGERS: SA2015+ helmet and hands in the car required\, limited helmet rentals available at the merch booth for $30/day								\n				\n				\n					\n						\n				\n					 Event Schedule: \n							\n			\n			\n		\n\n						\n				\n				\n				\n									SAT 5/2 SCHEDULE  9AM – Gates Open10:30AM – Drivers Meeting11AM – Track Hot (single lap short)12PM – Spectator Gates Open\, Tech Closes\, Double Lap Short3PM – Medium or Long Course7PM – Track Cold8:30PM – Gates Close 								\n				\n				\n					\n						\n				\n					 Tech Requirements: \n							\n			\n			\n		\n\n						\n				\n				\n				\n									Tech Book available : (CLICK HERE)  PASSENGERS + DRIVERS: SA2015+ helmet and hands in the car required\, limited helmet rentals available at the merch booth for $30/day								\n				\n				\n					\n						\n				\n					 Media Registration: Registration deadline 4/27 @ 5PM \n							\n			\n			\n		\n\n						\n				\n					\n				\n				\n					Loading…				\n				\n					\n				\n					\n						\n				\n					 Driver Chat: \n							\n			\n			\n		\n\n						\n				\n					\n				\n				\n									DRIVERS ONLY CLICK HERE 								\n				\n					\n				\n					\n					\n						\n				\n				\n				\n									DRIVERS: YOU MUST ADD CREW TICKET TO CART AT TIME OF PURCHASE TO RECEIVE YOUR FREE CREW PASS 								\n				\n				\n				\n					\n	\n\n		\n		\n		\n\n		\n\n		\n\n\n\n	Tickets\n\n		\n	\n	\n		The numbers below include tickets for this event already in your cart. Clicking "Get Tickets" will allow you to edit any existing attendee information as well as change ticket quantities.	\n\n\n		\n\n	\n		\n				Driver Ticket	\n\n\n\n\n	1 Driver Ticket \nIncludes qty 1 Crew Ticket\n\n\n	\n		\n		$135.00			\n\n\n	\n\n\n	\n	 28  available\n\n\n	\n\n\n	\n					\n\n	\n		Quantity	\n	\n\n			\n\n	\n		\n	\n\n\n\n	\n		\n				General Admission	\n\n\n\n\n	Qty 1 Spectator / general admission\n\n\n	\n		\n		$10.00			\n\n\n	\n\n\n	Unlimited\n	\n\n\n	\n\n\n	\n					\n\n	\n		Quantity	\n	\n\n			\n\n	\n		\n	\n\n\n\n	\n		\n				Crew Ticket	\n\n\n\n\n	Must be added to cart when you purchase driver ticket. \n\none per driver \n\n\n	\n		\n		$0.00			\n\n\n	\n\n\n	Unlimited\n	\n\n\n	\n\n\n	\n					\n\n	\n		Quantity	\n	\n\n			\n\n	\n		\n	\n\n\n		Only 1 Crew Pass per driver ticket  You need to add a driver ticket before adding crew.  \n\n	\n	\n	\n		Quantity:	\n	0\n\n\n	\n	\n		Total:	\n	\n		$0.00	\n\n\n	Get Tickets\n\n		\n				\n			\n\n\n		\n		\n	\n	\n\n	\n	\n\n	\n	\n\n\n\n			\n\n	\n\n\n				\n				\n					\n				\n				\n						\n					\n			\n						\n				\n					\n	\n\n	Categories:	\n		Drift Day	\n\n				\n				\n				\n				\n					Organizer Info: 				\n				\n				\n				\n					\n	\n			\n			Mid Michigan Drift Club			\n	\n\n	\n	View Organizer Website \n\n\n\n				\n				\n					\n		\n				\n			\n						\n				\n					\n				\n				\n	\n			\n		Jackson Speedway			\n	\n	\n	\n\n3363 Page Ave\n	\n		\n		Jackson\,\n\n	MI\n\n	49203\n\n	United States\n\n\n\n\n	+ Google Map
URL:https://driftmaps.com/event/slideways-at-the-zoo-15/
LOCATION:Kalamazoo Speedway\, 7656 Ravine Rd\, Kalamazoo\, MI\, 49009\, United States
CATEGORIES:Drift Day
ATTACH;FMTTYPE=image/jpeg:https://driftmaps.com/wp-content/uploads/2024/12/kzoo.jpg
GEO:42.371216;-85.6766652
X-APPLE-STRUCTURED-LOCATION;VALUE=URI;X-ADDRESS=Kalamazoo Speedway 7656 Ravine Rd Kalamazoo MI 49009 United States;X-APPLE-RADIUS=500;X-TITLE=7656 Ravine Rd:geo:-85.6766652,42.371216
END:VEVENT
BEGIN:VEVENT
DTSTART;VALUE=DATE:20251122
DTEND;VALUE=DATE:20251123
DTSTAMP:20260424T130028
CREATED:20250216T151752Z
LAST-MODIFIED:20250216T151800Z
UID:10000893-1763769600-1763855999@driftmaps.com
SUMMARY:LockCityDrift - Falls Finest
DESCRIPTION:Book Hotel:\n					\n					\n				\n								\n				\n				\n				\n									\n					\n						\n									Driftmaps Merch:\n					\n					\n				\n								\n				\n				\n				\n							\n						\n				\n					 Event Info: \n							\n			\n			\n		\n\n						\n				\n				\n				\n									We’re excited to be back at Jackson Speedway for an Open Drift Day! With a reduced driver capacity\, we’re able to keep the track open for all run groups throughout the day. All driver levels are welcome\, but there will not be a donut area set up. Check out the clinic on Sunday if you’re just starting out\, want 1:1 coaching or are looking for that “private day” experience. DRIVERS: 50 driver cap\, $135 driver pass includes 1 FREE crew pass when added to your cart at checkoutSPECTATORS: $10 general admission\, 12 and under FREEDRIVERS & PASSENGERS: SA2015+ helmet and hands in the car required\, limited helmet rentals available at the merch booth for $30/day								\n				\n				\n					\n						\n				\n					 Event Schedule: \n							\n			\n			\n		\n\n						\n				\n				\n				\n									SAT 5/2 SCHEDULE  9AM – Gates Open10:30AM – Drivers Meeting11AM – Track Hot (single lap short)12PM – Spectator Gates Open\, Tech Closes\, Double Lap Short3PM – Medium or Long Course7PM – Track Cold8:30PM – Gates Close 								\n				\n				\n					\n						\n				\n					 Tech Requirements: \n							\n			\n			\n		\n\n						\n				\n				\n				\n									Tech Book available : (CLICK HERE)  PASSENGERS + DRIVERS: SA2015+ helmet and hands in the car required\, limited helmet rentals available at the merch booth for $30/day								\n				\n				\n					\n						\n				\n					 Media Registration: Registration deadline 4/27 @ 5PM \n							\n			\n			\n		\n\n						\n				\n					\n				\n				\n					Loading…				\n				\n					\n				\n					\n						\n				\n					 Driver Chat: \n							\n			\n			\n		\n\n						\n				\n					\n				\n				\n									DRIVERS ONLY CLICK HERE 								\n				\n					\n				\n					\n					\n						\n				\n				\n				\n									DRIVERS: YOU MUST ADD CREW TICKET TO CART AT TIME OF PURCHASE TO RECEIVE YOUR FREE CREW PASS 								\n				\n				\n				\n					\n	\n\n		\n		\n		\n\n		\n\n		\n\n\n\n	Tickets\n\n		\n	\n	\n		The numbers below include tickets for this event already in your cart. Clicking "Get Tickets" will allow you to edit any existing attendee information as well as change ticket quantities.	\n\n\n		\n\n	\n		\n				Driver Ticket	\n\n\n\n\n	1 Driver Ticket \nIncludes qty 1 Crew Ticket\n\n\n	\n		\n		$135.00			\n\n\n	\n\n\n	\n	 28  available\n\n\n	\n\n\n	\n					\n\n	\n		Quantity	\n	\n\n			\n\n	\n		\n	\n\n\n\n	\n		\n				General Admission	\n\n\n\n\n	Qty 1 Spectator / general admission\n\n\n	\n		\n		$10.00			\n\n\n	\n\n\n	Unlimited\n	\n\n\n	\n\n\n	\n					\n\n	\n		Quantity	\n	\n\n			\n\n	\n		\n	\n\n\n\n	\n		\n				Crew Ticket	\n\n\n\n\n	Must be added to cart when you purchase driver ticket. \n\none per driver \n\n\n	\n		\n		$0.00			\n\n\n	\n\n\n	Unlimited\n	\n\n\n	\n\n\n	\n					\n\n	\n		Quantity	\n	\n\n			\n\n	\n		\n	\n\n\n		Only 1 Crew Pass per driver ticket  You need to add a driver ticket before adding crew.  \n\n	\n	\n	\n		Quantity:	\n	0\n\n\n	\n	\n		Total:	\n	\n		$0.00	\n\n\n	Get Tickets\n\n		\n				\n			\n\n\n		\n		\n	\n	\n\n	\n	\n\n	\n	\n\n\n\n			\n\n	\n\n\n				\n				\n					\n				\n				\n						\n					\n			\n						\n				\n					\n	\n\n	Categories:	\n		Drift Day	\n\n				\n				\n				\n				\n					Organizer Info: 				\n				\n				\n				\n					\n	\n			\n			Mid Michigan Drift Club			\n	\n\n	\n	View Organizer Website \n\n\n\n				\n				\n					\n		\n				\n			\n						\n				\n					\n				\n				\n	\n			\n		Jackson Speedway			\n	\n	\n	\n\n3363 Page Ave\n	\n		\n		Jackson\,\n\n	MI\n\n	49203\n\n	United States\n\n\n\n\n	+ Google Map
URL:https://driftmaps.com/event/lockcitydrift-falls-finest/
LOCATION:Thompson Speedway Motorsports Park\, 205 E Thompson Rd\, Thompson\, CT\, United States
CATEGORIES:Drift Day
ATTACH;FMTTYPE=image/png:https://driftmaps.com/wp-content/uploads/2025/02/lockcitydrift.png
GEO:41.9846036;-71.8257009
X-APPLE-STRUCTURED-LOCATION;VALUE=URI;X-ADDRESS=Thompson Speedway Motorsports Park 205 E Thompson Rd Thompson CT United States;X-APPLE-RADIUS=500;X-TITLE=205 E Thompson Rd:geo:-71.8257009,41.9846036
END:VEVENT
BEGIN:VEVENT
DTSTART;VALUE=DATE:20251122
DTEND;VALUE=DATE:20251123
DTSTAMP:20260424T130028
CREATED:20250311T003355Z
LAST-MODIFIED:20250311T003413Z
UID:10000945-1763769600-1763855999@driftmaps.com
SUMMARY:CL- Stuffed Moves
DESCRIPTION:Book Hotel:\n					\n					\n				\n								\n				\n				\n				\n									\n					\n						\n									Driftmaps Merch:\n					\n					\n				\n								\n				\n				\n				\n							\n						\n				\n					 Event Info: \n							\n			\n			\n		\n\n						\n				\n				\n				\n									We’re excited to be back at Jackson Speedway for an Open Drift Day! With a reduced driver capacity\, we’re able to keep the track open for all run groups throughout the day. All driver levels are welcome\, but there will not be a donut area set up. Check out the clinic on Sunday if you’re just starting out\, want 1:1 coaching or are looking for that “private day” experience. DRIVERS: 50 driver cap\, $135 driver pass includes 1 FREE crew pass when added to your cart at checkoutSPECTATORS: $10 general admission\, 12 and under FREEDRIVERS & PASSENGERS: SA2015+ helmet and hands in the car required\, limited helmet rentals available at the merch booth for $30/day								\n				\n				\n					\n						\n				\n					 Event Schedule: \n							\n			\n			\n		\n\n						\n				\n				\n				\n									SAT 5/2 SCHEDULE  9AM – Gates Open10:30AM – Drivers Meeting11AM – Track Hot (single lap short)12PM – Spectator Gates Open\, Tech Closes\, Double Lap Short3PM – Medium or Long Course7PM – Track Cold8:30PM – Gates Close 								\n				\n				\n					\n						\n				\n					 Tech Requirements: \n							\n			\n			\n		\n\n						\n				\n				\n				\n									Tech Book available : (CLICK HERE)  PASSENGERS + DRIVERS: SA2015+ helmet and hands in the car required\, limited helmet rentals available at the merch booth for $30/day								\n				\n				\n					\n						\n				\n					 Media Registration: Registration deadline 4/27 @ 5PM \n							\n			\n			\n		\n\n						\n				\n					\n				\n				\n					Loading…				\n				\n					\n				\n					\n						\n				\n					 Driver Chat: \n							\n			\n			\n		\n\n						\n				\n					\n				\n				\n									DRIVERS ONLY CLICK HERE 								\n				\n					\n				\n					\n					\n						\n				\n				\n				\n									DRIVERS: YOU MUST ADD CREW TICKET TO CART AT TIME OF PURCHASE TO RECEIVE YOUR FREE CREW PASS 								\n				\n				\n				\n					\n	\n\n		\n		\n		\n\n		\n\n		\n\n\n\n	Tickets\n\n		\n	\n	\n		The numbers below include tickets for this event already in your cart. Clicking "Get Tickets" will allow you to edit any existing attendee information as well as change ticket quantities.	\n\n\n		\n\n	\n		\n				Driver Ticket	\n\n\n\n\n	1 Driver Ticket \nIncludes qty 1 Crew Ticket\n\n\n	\n		\n		$135.00			\n\n\n	\n\n\n	\n	 28  available\n\n\n	\n\n\n	\n					\n\n	\n		Quantity	\n	\n\n			\n\n	\n		\n	\n\n\n\n	\n		\n				General Admission	\n\n\n\n\n	Qty 1 Spectator / general admission\n\n\n	\n		\n		$10.00			\n\n\n	\n\n\n	Unlimited\n	\n\n\n	\n\n\n	\n					\n\n	\n		Quantity	\n	\n\n			\n\n	\n		\n	\n\n\n\n	\n		\n				Crew Ticket	\n\n\n\n\n	Must be added to cart when you purchase driver ticket. \n\none per driver \n\n\n	\n		\n		$0.00			\n\n\n	\n\n\n	Unlimited\n	\n\n\n	\n\n\n	\n					\n\n	\n		Quantity	\n	\n\n			\n\n	\n		\n	\n\n\n		Only 1 Crew Pass per driver ticket  You need to add a driver ticket before adding crew.  \n\n	\n	\n	\n		Quantity:	\n	0\n\n\n	\n	\n		Total:	\n	\n		$0.00	\n\n\n	Get Tickets\n\n		\n				\n			\n\n\n		\n		\n	\n	\n\n	\n	\n\n	\n	\n\n\n\n			\n\n	\n\n\n				\n				\n					\n				\n				\n						\n					\n			\n						\n				\n					\n	\n\n	Categories:	\n		Drift Day	\n\n				\n				\n				\n				\n					Organizer Info: 				\n				\n				\n				\n					\n	\n			\n			Mid Michigan Drift Club			\n	\n\n	\n	View Organizer Website \n\n\n\n				\n				\n					\n		\n				\n			\n						\n				\n					\n				\n				\n	\n			\n		Jackson Speedway			\n	\n	\n	\n\n3363 Page Ave\n	\n		\n		Jackson\,\n\n	MI\n\n	49203\n\n	United States\n\n\n\n\n	+ Google Map
URL:https://driftmaps.com/event/cl-stuffed-moves/
LOCATION:Old Bridge Township Raceway Park\, 230 Pension Rd\, Englishtown\, NJ\, 07726\, United States
CATEGORIES:Drift Day
ATTACH;FMTTYPE=image/jpeg:https://driftmaps.com/wp-content/uploads/2025/03/CL.jpg
GEO:40.3344827;-74.3515763
X-APPLE-STRUCTURED-LOCATION;VALUE=URI;X-ADDRESS=Old Bridge Township Raceway Park 230 Pension Rd Englishtown NJ 07726 United States;X-APPLE-RADIUS=500;X-TITLE=230 Pension Rd:geo:-74.3515763,40.3344827
END:VEVENT
END:VCALENDAR