BEGIN:VCALENDAR
VERSION:2.0
PRODID:-// - ECPv6.15.20//NONSGML v1.0//EN
CALSCALE:GREGORIAN
METHOD:PUBLISH
X-ORIGINAL-URL:https://driftmaps.com
X-WR-CALDESC:Events for 
REFRESH-INTERVAL;VALUE=DURATION:PT1H
X-Robots-Tag:noindex
X-PUBLISHED-TTL:PT1H
BEGIN:VTIMEZONE
TZID:America/New_York
BEGIN:DAYLIGHT
TZOFFSETFROM:-0500
TZOFFSETTO:-0400
TZNAME:EDT
DTSTART:20240310T070000
END:DAYLIGHT
BEGIN:STANDARD
TZOFFSETFROM:-0400
TZOFFSETTO:-0500
TZNAME:EST
DTSTART:20241103T060000
END:STANDARD
BEGIN:DAYLIGHT
TZOFFSETFROM:-0500
TZOFFSETTO:-0400
TZNAME:EDT
DTSTART:20250309T070000
END:DAYLIGHT
BEGIN:STANDARD
TZOFFSETFROM:-0400
TZOFFSETTO:-0500
TZNAME:EST
DTSTART:20251102T060000
END:STANDARD
BEGIN:DAYLIGHT
TZOFFSETFROM:-0500
TZOFFSETTO:-0400
TZNAME:EDT
DTSTART:20260308T070000
END:DAYLIGHT
BEGIN:STANDARD
TZOFFSETFROM:-0400
TZOFFSETTO:-0500
TZNAME:EST
DTSTART:20261101T060000
END:STANDARD
BEGIN:DAYLIGHT
TZOFFSETFROM:-0500
TZOFFSETTO:-0400
TZNAME:EDT
DTSTART:20270314T070000
END:DAYLIGHT
BEGIN:STANDARD
TZOFFSETFROM:-0400
TZOFFSETTO:-0500
TZNAME:EST
DTSTART:20271107T060000
END:STANDARD
END:VTIMEZONE
BEGIN:VEVENT
DTSTART;TZID=America/New_York:20260419T130000
DTEND;TZID=America/New_York:20260419T170000
DTSTAMP:20260421T092608
CREATED:20260402T231122Z
LAST-MODIFIED:20260402T231246Z
UID:10001360-1776603600-1776618000@driftmaps.com
SUMMARY:Autobahn Skid Pad Half Day
DESCRIPTION:« All Events\n 				\n				\n				\n				\n					\n	Autobahn Skid Pad Half Day				\n				\n				\n				\n					\n		\n			September 13\n\n	\n\n	  @  \n\n\n1:00 pm\n\n		\n\n\n\n	\n	  -  \n\n5:00 pm\n\n\n\n	\n				\n				\n				\n				\n					\n	\n				\n				\n				\n				\n									Want to drift your own car in a safe environment?  We are hosting an open drifting event on the skid pad at the Autobahn Country Club in Joliet\, IL on September 13\, 2026.  Only 20 drifter tickets will be available for this event so you will get a lot of seat time with minimal waiting.  This is a half day event that will start at 1:00pm and go until 5pm.  Plan to arrive at Autobahn around noon to make sure you have enough time to get through the front gate and find the skid pad before the safety talk at 1:00pm. Spectators and crew are welcome\, but we are required to charge for spectators now.  You will be able to buy spectator tickets in advance\, but there is an Autobahn limit.  We will let you know once spectator tickets are sold out.    								\n				\n				\n				\n									\n					\n						\n									Event Info: \n					\n					\n				\n								\n				\n				\n				\n									\n					\n						\n									Book Hotel: \n					\n					\n				\n								\n				\n				\n				\n									\n					\n						\n									Driftmaps Merch:\n					\n					\n				\n								\n				\n				\n						\n					\n			\n						\n				\n					\n	\n\n	Categories:	\n		Drift Day\, Skidpad	\n\n				\n				\n				\n				\n					Organizer Info: 				\n				\n				\n				\n					\n	\n			\n			Hero Cars			\n	\n\n	\n	\n\n	Website:View Organizer Website \n\n\n\n				\n				\n					\n		\n				\n			\n						\n				\n					\n				\n				\n	\n			\n		Autobahn Country Club			\n	\n	\n	\n\n3795 Centerpoint Way\n	\n		\n		Joliet\,\n\n\n	60436\n\n	United States\n\n\n\n\n	+ Google Map \n\n\n	\n					\n						\n	 \n\n\n	\n	View Venue Website \n\n\n\n	\n\n		\n	\n				\n				\n					\n		\n					\n		\n				\n						\n					\n			\n						\n				\n					\n	\n		\n\n	\n	Add to calendar	\n		\n	\n\n		\n			\n									\n	Google Calendar\n\n									\n	iCalendar\n\n									\n	Outlook 365\n\n									\n	Outlook Live\n\n							\n		\n\n		\n	\n\n				\n				\n					\n		\n					\n		\n				\n						\n					\n			\n						\n				\n					\n	\n		\n\n				East 10	\n\n\n		\n	\n		Quaker City Motorsports Park
URL:https://driftmaps.com/event/autobahn-skid-pad-half-day/
LOCATION:Autobahn Country Club\, 3795 Centerpoint Way\, Joliet\, 60436\, United States
CATEGORIES:Drift Day,Skidpad
ATTACH;FMTTYPE=image/webp:https://driftmaps.com/wp-content/uploads/2026/02/hero-cars-.webp
GEO:41.4548959;-88.119503
X-APPLE-STRUCTURED-LOCATION;VALUE=URI;X-ADDRESS=Autobahn Country Club 3795 Centerpoint Way Joliet 60436 United States;X-APPLE-RADIUS=500;X-TITLE=3795 Centerpoint Way:geo:-88.119503,41.4548959
END:VEVENT
BEGIN:VEVENT
DTSTART;VALUE=DATE:20251026
DTEND;VALUE=DATE:20251027
DTSTAMP:20260421T092608
CREATED:20250311T002227Z
LAST-MODIFIED:20250311T002235Z
UID:10000933-1761436800-1761523199@driftmaps.com
SUMMARY:CL2 - Drift Day
DESCRIPTION:« All Events\n 				\n				\n				\n				\n					\n	Autobahn Skid Pad Half Day				\n				\n				\n				\n					\n		\n			September 13\n\n	\n\n	  @  \n\n\n1:00 pm\n\n		\n\n\n\n	\n	  -  \n\n5:00 pm\n\n\n\n	\n				\n				\n				\n				\n					\n	\n				\n				\n				\n				\n									Want to drift your own car in a safe environment?  We are hosting an open drifting event on the skid pad at the Autobahn Country Club in Joliet\, IL on September 13\, 2026.  Only 20 drifter tickets will be available for this event so you will get a lot of seat time with minimal waiting.  This is a half day event that will start at 1:00pm and go until 5pm.  Plan to arrive at Autobahn around noon to make sure you have enough time to get through the front gate and find the skid pad before the safety talk at 1:00pm. Spectators and crew are welcome\, but we are required to charge for spectators now.  You will be able to buy spectator tickets in advance\, but there is an Autobahn limit.  We will let you know once spectator tickets are sold out.    								\n				\n				\n				\n									\n					\n						\n									Event Info: \n					\n					\n				\n								\n				\n				\n				\n									\n					\n						\n									Book Hotel: \n					\n					\n				\n								\n				\n				\n				\n									\n					\n						\n									Driftmaps Merch:\n					\n					\n				\n								\n				\n				\n						\n					\n			\n						\n				\n					\n	\n\n	Categories:	\n		Drift Day\, Skidpad	\n\n				\n				\n				\n				\n					Organizer Info: 				\n				\n				\n				\n					\n	\n			\n			Hero Cars			\n	\n\n	\n	View Organizer Website \n\n\n\n				\n				\n					\n		\n				\n			\n						\n				\n					\n				\n				\n	\n			\n		Autobahn Country Club			\n	\n	\n	\n\n3795 Centerpoint Way\n	\n		\n		Joliet\,\n\n\n	60436\n\n	United States\n\n\n\n\n	+ Google Map \n\n\n	\n					\n						\n	 \n\n\n	\n	View Venue Website \n\n\n\n	\n\n		\n	\n				\n				\n					\n		\n					\n		\n				\n						\n					\n			\n						\n				\n					\n	\n		\n\n	\n	Add to calendar	\n		\n	\n\n		\n			\n									\n	Google Calendar\n\n									\n	iCalendar\n\n									\n	Outlook 365\n\n									\n	Outlook Live\n\n							\n		\n\n		\n	\n\n				\n				\n					\n		\n					\n		\n				\n						\n					\n			\n						\n				\n					\n	\n		\n\n				East 10	\n\n\n		\n	\n		Quaker City Motorsports Park
URL:https://driftmaps.com/event/cl2-drift-day-11/
LOCATION:Pittrace\, 201 Penndale Road\, Wampum\, PA\, 16157\, United States
CATEGORIES:Drift Day,Skidpad
ATTACH;FMTTYPE=image/jpeg:https://driftmaps.com/wp-content/uploads/2025/03/CL2.jpg
GEO:40.846838;-80.345671
X-APPLE-STRUCTURED-LOCATION;VALUE=URI;X-ADDRESS=Pittrace 201 Penndale Road Wampum PA 16157 United States;X-APPLE-RADIUS=500;X-TITLE=201 Penndale Road:geo:-80.345671,40.846838
END:VEVENT
BEGIN:VEVENT
DTSTART;VALUE=DATE:20250914
DTEND;VALUE=DATE:20250915
DTSTAMP:20260421T092608
CREATED:20250311T002145Z
LAST-MODIFIED:20250311T002151Z
UID:10000932-1757808000-1757894399@driftmaps.com
SUMMARY:CL2 - Drift Day
DESCRIPTION:« All Events\n 				\n				\n				\n				\n					\n	Autobahn Skid Pad Half Day				\n				\n				\n				\n					\n		\n			September 13\n\n	\n\n	  @  \n\n\n1:00 pm\n\n		\n\n\n\n	\n	  -  \n\n5:00 pm\n\n\n\n	\n				\n				\n				\n				\n					\n	\n				\n				\n				\n				\n									Want to drift your own car in a safe environment?  We are hosting an open drifting event on the skid pad at the Autobahn Country Club in Joliet\, IL on September 13\, 2026.  Only 20 drifter tickets will be available for this event so you will get a lot of seat time with minimal waiting.  This is a half day event that will start at 1:00pm and go until 5pm.  Plan to arrive at Autobahn around noon to make sure you have enough time to get through the front gate and find the skid pad before the safety talk at 1:00pm. Spectators and crew are welcome\, but we are required to charge for spectators now.  You will be able to buy spectator tickets in advance\, but there is an Autobahn limit.  We will let you know once spectator tickets are sold out.    								\n				\n				\n				\n									\n					\n						\n									Event Info: \n					\n					\n				\n								\n				\n				\n				\n									\n					\n						\n									Book Hotel: \n					\n					\n				\n								\n				\n				\n				\n									\n					\n						\n									Driftmaps Merch:\n					\n					\n				\n								\n				\n				\n						\n					\n			\n						\n				\n					\n	\n\n	Categories:	\n		Drift Day\, Skidpad	\n\n				\n				\n				\n				\n					Organizer Info: 				\n				\n				\n				\n					\n	\n			\n			Hero Cars			\n	\n\n	\n	View Organizer Website \n\n\n\n				\n				\n					\n		\n				\n			\n						\n				\n					\n				\n				\n	\n			\n		Autobahn Country Club			\n	\n	\n	\n\n3795 Centerpoint Way\n	\n		\n		Joliet\,\n\n\n	60436\n\n	United States\n\n\n\n\n	+ Google Map \n\n\n	\n					\n						\n	 \n\n\n	\n	View Venue Website \n\n\n\n	\n\n		\n	\n				\n				\n					\n		\n					\n		\n				\n						\n					\n			\n						\n				\n					\n	\n		\n\n	\n	Add to calendar	\n		\n	\n\n		\n			\n									\n	Google Calendar\n\n									\n	iCalendar\n\n									\n	Outlook 365\n\n									\n	Outlook Live\n\n							\n		\n\n		\n	\n\n				\n				\n					\n		\n					\n		\n				\n						\n					\n			\n						\n				\n					\n	\n		\n\n				East 10	\n\n\n		\n	\n		Quaker City Motorsports Park
URL:https://driftmaps.com/event/cl2-drift-day-10/
LOCATION:Pittrace\, 201 Penndale Road\, Wampum\, PA\, 16157\, United States
CATEGORIES:Drift Day,Skidpad
ATTACH;FMTTYPE=image/jpeg:https://driftmaps.com/wp-content/uploads/2025/03/CL2.jpg
GEO:40.846838;-80.345671
X-APPLE-STRUCTURED-LOCATION;VALUE=URI;X-ADDRESS=Pittrace 201 Penndale Road Wampum PA 16157 United States;X-APPLE-RADIUS=500;X-TITLE=201 Penndale Road:geo:-80.345671,40.846838
END:VEVENT
BEGIN:VEVENT
DTSTART;VALUE=DATE:20250817
DTEND;VALUE=DATE:20250818
DTSTAMP:20260421T092608
CREATED:20250311T002059Z
LAST-MODIFIED:20250311T002104Z
UID:10000931-1755388800-1755475199@driftmaps.com
SUMMARY:CL2 - Drift Day
DESCRIPTION:« All Events\n 				\n				\n				\n				\n					\n	Autobahn Skid Pad Half Day				\n				\n				\n				\n					\n		\n			September 13\n\n	\n\n	  @  \n\n\n1:00 pm\n\n		\n\n\n\n	\n	  -  \n\n5:00 pm\n\n\n\n	\n				\n				\n				\n				\n					\n	\n				\n				\n				\n				\n									Want to drift your own car in a safe environment?  We are hosting an open drifting event on the skid pad at the Autobahn Country Club in Joliet\, IL on September 13\, 2026.  Only 20 drifter tickets will be available for this event so you will get a lot of seat time with minimal waiting.  This is a half day event that will start at 1:00pm and go until 5pm.  Plan to arrive at Autobahn around noon to make sure you have enough time to get through the front gate and find the skid pad before the safety talk at 1:00pm. Spectators and crew are welcome\, but we are required to charge for spectators now.  You will be able to buy spectator tickets in advance\, but there is an Autobahn limit.  We will let you know once spectator tickets are sold out.    								\n				\n				\n				\n									\n					\n						\n									Event Info: \n					\n					\n				\n								\n				\n				\n				\n									\n					\n						\n									Book Hotel: \n					\n					\n				\n								\n				\n				\n				\n									\n					\n						\n									Driftmaps Merch:\n					\n					\n				\n								\n				\n				\n						\n					\n			\n						\n				\n					\n	\n\n	Categories:	\n		Drift Day\, Skidpad	\n\n				\n				\n				\n				\n					Organizer Info: 				\n				\n				\n				\n					\n	\n			\n			Hero Cars			\n	\n\n	\n	View Organizer Website \n\n\n\n				\n				\n					\n		\n				\n			\n						\n				\n					\n				\n				\n	\n			\n		Autobahn Country Club			\n	\n	\n	\n\n3795 Centerpoint Way\n	\n		\n		Joliet\,\n\n\n	60436\n\n	United States\n\n\n\n\n	+ Google Map \n\n\n	\n					\n						\n	 \n\n\n	\n	View Venue Website \n\n\n\n	\n\n		\n	\n				\n				\n					\n		\n					\n		\n				\n						\n					\n			\n						\n				\n					\n	\n		\n\n	\n	Add to calendar	\n		\n	\n\n		\n			\n									\n	Google Calendar\n\n									\n	iCalendar\n\n									\n	Outlook 365\n\n									\n	Outlook Live\n\n							\n		\n\n		\n	\n\n				\n				\n					\n		\n					\n		\n				\n						\n					\n			\n						\n				\n					\n	\n		\n\n				East 10	\n\n\n		\n	\n		Quaker City Motorsports Park
URL:https://driftmaps.com/event/cl2-drift-day-9/
LOCATION:Pittrace\, 201 Penndale Road\, Wampum\, PA\, 16157\, United States
CATEGORIES:Drift Day,Skidpad
ATTACH;FMTTYPE=image/jpeg:https://driftmaps.com/wp-content/uploads/2025/03/CL2.jpg
GEO:40.846838;-80.345671
X-APPLE-STRUCTURED-LOCATION;VALUE=URI;X-ADDRESS=Pittrace 201 Penndale Road Wampum PA 16157 United States;X-APPLE-RADIUS=500;X-TITLE=201 Penndale Road:geo:-80.345671,40.846838
END:VEVENT
BEGIN:VEVENT
DTSTART;VALUE=DATE:20250817
DTEND;VALUE=DATE:20250818
DTSTAMP:20260421T092608
CREATED:20250311T002014Z
LAST-MODIFIED:20250311T002021Z
UID:10000930-1755388800-1755475199@driftmaps.com
SUMMARY:CL2 - Drift Day
DESCRIPTION:« All Events\n 				\n				\n				\n				\n					\n	Autobahn Skid Pad Half Day				\n				\n				\n				\n					\n		\n			September 13\n\n	\n\n	  @  \n\n\n1:00 pm\n\n		\n\n\n\n	\n	  -  \n\n5:00 pm\n\n\n\n	\n				\n				\n				\n				\n					\n	\n				\n				\n				\n				\n									Want to drift your own car in a safe environment?  We are hosting an open drifting event on the skid pad at the Autobahn Country Club in Joliet\, IL on September 13\, 2026.  Only 20 drifter tickets will be available for this event so you will get a lot of seat time with minimal waiting.  This is a half day event that will start at 1:00pm and go until 5pm.  Plan to arrive at Autobahn around noon to make sure you have enough time to get through the front gate and find the skid pad before the safety talk at 1:00pm. Spectators and crew are welcome\, but we are required to charge for spectators now.  You will be able to buy spectator tickets in advance\, but there is an Autobahn limit.  We will let you know once spectator tickets are sold out.    								\n				\n				\n				\n									\n					\n						\n									Event Info: \n					\n					\n				\n								\n				\n				\n				\n									\n					\n						\n									Book Hotel: \n					\n					\n				\n								\n				\n				\n				\n									\n					\n						\n									Driftmaps Merch:\n					\n					\n				\n								\n				\n				\n						\n					\n			\n						\n				\n					\n	\n\n	Categories:	\n		Drift Day\, Skidpad	\n\n				\n				\n				\n				\n					Organizer Info: 				\n				\n				\n				\n					\n	\n			\n			Hero Cars			\n	\n\n	\n	View Organizer Website \n\n\n\n				\n				\n					\n		\n				\n			\n						\n				\n					\n				\n				\n	\n			\n		Autobahn Country Club			\n	\n	\n	\n\n3795 Centerpoint Way\n	\n		\n		Joliet\,\n\n\n	60436\n\n	United States\n\n\n\n\n	+ Google Map \n\n\n	\n					\n						\n	 \n\n\n	\n	View Venue Website \n\n\n\n	\n\n		\n	\n				\n				\n					\n		\n					\n		\n				\n						\n					\n			\n						\n				\n					\n	\n		\n\n	\n	Add to calendar	\n		\n	\n\n		\n			\n									\n	Google Calendar\n\n									\n	iCalendar\n\n									\n	Outlook 365\n\n									\n	Outlook Live\n\n							\n		\n\n		\n	\n\n				\n				\n					\n		\n					\n		\n				\n						\n					\n			\n						\n				\n					\n	\n		\n\n				East 10	\n\n\n		\n	\n		Quaker City Motorsports Park
URL:https://driftmaps.com/event/cl2-drift-day-8/
LOCATION:Pittrace\, 201 Penndale Road\, Wampum\, PA\, 16157\, United States
CATEGORIES:Drift Day,Skidpad
ATTACH;FMTTYPE=image/jpeg:https://driftmaps.com/wp-content/uploads/2025/03/CL2.jpg
GEO:40.846838;-80.345671
X-APPLE-STRUCTURED-LOCATION;VALUE=URI;X-ADDRESS=Pittrace 201 Penndale Road Wampum PA 16157 United States;X-APPLE-RADIUS=500;X-TITLE=201 Penndale Road:geo:-80.345671,40.846838
END:VEVENT
BEGIN:VEVENT
DTSTART;VALUE=DATE:20250719
DTEND;VALUE=DATE:20250721
DTSTAMP:20260421T092608
CREATED:20250311T001915Z
LAST-MODIFIED:20250311T001928Z
UID:10000929-1752883200-1753055999@driftmaps.com
SUMMARY:CL2 - Summer Bash
DESCRIPTION:« All Events\n 				\n				\n				\n				\n					\n	Autobahn Skid Pad Half Day				\n				\n				\n				\n					\n		\n			September 13\n\n	\n\n	  @  \n\n\n1:00 pm\n\n		\n\n\n\n	\n	  -  \n\n5:00 pm\n\n\n\n	\n				\n				\n				\n				\n					\n	\n				\n				\n				\n				\n									Want to drift your own car in a safe environment?  We are hosting an open drifting event on the skid pad at the Autobahn Country Club in Joliet\, IL on September 13\, 2026.  Only 20 drifter tickets will be available for this event so you will get a lot of seat time with minimal waiting.  This is a half day event that will start at 1:00pm and go until 5pm.  Plan to arrive at Autobahn around noon to make sure you have enough time to get through the front gate and find the skid pad before the safety talk at 1:00pm. Spectators and crew are welcome\, but we are required to charge for spectators now.  You will be able to buy spectator tickets in advance\, but there is an Autobahn limit.  We will let you know once spectator tickets are sold out.    								\n				\n				\n				\n									\n					\n						\n									Event Info: \n					\n					\n				\n								\n				\n				\n				\n									\n					\n						\n									Book Hotel: \n					\n					\n				\n								\n				\n				\n				\n									\n					\n						\n									Driftmaps Merch:\n					\n					\n				\n								\n				\n				\n						\n					\n			\n						\n				\n					\n	\n\n	Categories:	\n		Drift Day\, Skidpad	\n\n				\n				\n				\n				\n					Organizer Info: 				\n				\n				\n				\n					\n	\n			\n			Hero Cars			\n	\n\n	\n	View Organizer Website \n\n\n\n				\n				\n					\n		\n				\n			\n						\n				\n					\n				\n				\n	\n			\n		Autobahn Country Club			\n	\n	\n	\n\n3795 Centerpoint Way\n	\n		\n		Joliet\,\n\n\n	60436\n\n	United States\n\n\n\n\n	+ Google Map \n\n\n	\n					\n						\n	 \n\n\n	\n	View Venue Website \n\n\n\n	\n\n		\n	\n				\n				\n					\n		\n					\n		\n				\n						\n					\n			\n						\n				\n					\n	\n		\n\n	\n	Add to calendar	\n		\n	\n\n		\n			\n									\n	Google Calendar\n\n									\n	iCalendar\n\n									\n	Outlook 365\n\n									\n	Outlook Live\n\n							\n		\n\n		\n	\n\n				\n				\n					\n		\n					\n		\n				\n						\n					\n			\n						\n				\n					\n	\n		\n\n				East 10	\n\n\n		\n	\n		Quaker City Motorsports Park
URL:https://driftmaps.com/event/cl2-summer-bash/
LOCATION:Pittrace\, 201 Penndale Road\, Wampum\, PA\, 16157\, United States
CATEGORIES:Drift Day,Skidpad
ATTACH;FMTTYPE=image/jpeg:https://driftmaps.com/wp-content/uploads/2025/03/CL2.jpg
GEO:40.846838;-80.345671
X-APPLE-STRUCTURED-LOCATION;VALUE=URI;X-ADDRESS=Pittrace 201 Penndale Road Wampum PA 16157 United States;X-APPLE-RADIUS=500;X-TITLE=201 Penndale Road:geo:-80.345671,40.846838
END:VEVENT
BEGIN:VEVENT
DTSTART;VALUE=DATE:20250601
DTEND;VALUE=DATE:20250602
DTSTAMP:20260421T092609
CREATED:20250311T001828Z
LAST-MODIFIED:20250311T001835Z
UID:10000928-1748736000-1748822399@driftmaps.com
SUMMARY:CL2 - Drift Day
DESCRIPTION:« All Events\n 				\n				\n				\n				\n					\n	Autobahn Skid Pad Half Day				\n				\n				\n				\n					\n		\n			September 13\n\n	\n\n	  @  \n\n\n1:00 pm\n\n		\n\n\n\n	\n	  -  \n\n5:00 pm\n\n\n\n	\n				\n				\n				\n				\n					\n	\n				\n				\n				\n				\n									Want to drift your own car in a safe environment?  We are hosting an open drifting event on the skid pad at the Autobahn Country Club in Joliet\, IL on September 13\, 2026.  Only 20 drifter tickets will be available for this event so you will get a lot of seat time with minimal waiting.  This is a half day event that will start at 1:00pm and go until 5pm.  Plan to arrive at Autobahn around noon to make sure you have enough time to get through the front gate and find the skid pad before the safety talk at 1:00pm. Spectators and crew are welcome\, but we are required to charge for spectators now.  You will be able to buy spectator tickets in advance\, but there is an Autobahn limit.  We will let you know once spectator tickets are sold out.    								\n				\n				\n				\n									\n					\n						\n									Event Info: \n					\n					\n				\n								\n				\n				\n				\n									\n					\n						\n									Book Hotel: \n					\n					\n				\n								\n				\n				\n				\n									\n					\n						\n									Driftmaps Merch:\n					\n					\n				\n								\n				\n				\n						\n					\n			\n						\n				\n					\n	\n\n	Categories:	\n		Drift Day\, Skidpad	\n\n				\n				\n				\n				\n					Organizer Info: 				\n				\n				\n				\n					\n	\n			\n			Hero Cars			\n	\n\n	\n	View Organizer Website \n\n\n\n				\n				\n					\n		\n				\n			\n						\n				\n					\n				\n				\n	\n			\n		Autobahn Country Club			\n	\n	\n	\n\n3795 Centerpoint Way\n	\n		\n		Joliet\,\n\n\n	60436\n\n	United States\n\n\n\n\n	+ Google Map \n\n\n	\n					\n						\n	 \n\n\n	\n	View Venue Website \n\n\n\n	\n\n		\n	\n				\n				\n					\n		\n					\n		\n				\n						\n					\n			\n						\n				\n					\n	\n		\n\n	\n	Add to calendar	\n		\n	\n\n		\n			\n									\n	Google Calendar\n\n									\n	iCalendar\n\n									\n	Outlook 365\n\n									\n	Outlook Live\n\n							\n		\n\n		\n	\n\n				\n				\n					\n		\n					\n		\n				\n						\n					\n			\n						\n				\n					\n	\n		\n\n				East 10	\n\n\n		\n	\n		Quaker City Motorsports Park
URL:https://driftmaps.com/event/cl2-drift-day-7/
LOCATION:Pittrace\, 201 Penndale Road\, Wampum\, PA\, 16157\, United States
CATEGORIES:Drift Day,Skidpad
ATTACH;FMTTYPE=image/jpeg:https://driftmaps.com/wp-content/uploads/2025/03/CL2.jpg
GEO:40.846838;-80.345671
X-APPLE-STRUCTURED-LOCATION;VALUE=URI;X-ADDRESS=Pittrace 201 Penndale Road Wampum PA 16157 United States;X-APPLE-RADIUS=500;X-TITLE=201 Penndale Road:geo:-80.345671,40.846838
END:VEVENT
BEGIN:VEVENT
DTSTART;VALUE=DATE:20250518
DTEND;VALUE=DATE:20250519
DTSTAMP:20260421T092609
CREATED:20250311T001749Z
LAST-MODIFIED:20250311T001756Z
UID:10000927-1747526400-1747612799@driftmaps.com
SUMMARY:CL2 - Drift Day
DESCRIPTION:« All Events\n 				\n				\n				\n				\n					\n	Autobahn Skid Pad Half Day				\n				\n				\n				\n					\n		\n			September 13\n\n	\n\n	  @  \n\n\n1:00 pm\n\n		\n\n\n\n	\n	  -  \n\n5:00 pm\n\n\n\n	\n				\n				\n				\n				\n					\n	\n				\n				\n				\n				\n									Want to drift your own car in a safe environment?  We are hosting an open drifting event on the skid pad at the Autobahn Country Club in Joliet\, IL on September 13\, 2026.  Only 20 drifter tickets will be available for this event so you will get a lot of seat time with minimal waiting.  This is a half day event that will start at 1:00pm and go until 5pm.  Plan to arrive at Autobahn around noon to make sure you have enough time to get through the front gate and find the skid pad before the safety talk at 1:00pm. Spectators and crew are welcome\, but we are required to charge for spectators now.  You will be able to buy spectator tickets in advance\, but there is an Autobahn limit.  We will let you know once spectator tickets are sold out.    								\n				\n				\n				\n									\n					\n						\n									Event Info: \n					\n					\n				\n								\n				\n				\n				\n									\n					\n						\n									Book Hotel: \n					\n					\n				\n								\n				\n				\n				\n									\n					\n						\n									Driftmaps Merch:\n					\n					\n				\n								\n				\n				\n						\n					\n			\n						\n				\n					\n	\n\n	Categories:	\n		Drift Day\, Skidpad	\n\n				\n				\n				\n				\n					Organizer Info: 				\n				\n				\n				\n					\n	\n			\n			Hero Cars			\n	\n\n	\n	View Organizer Website \n\n\n\n				\n				\n					\n		\n				\n			\n						\n				\n					\n				\n				\n	\n			\n		Autobahn Country Club			\n	\n	\n	\n\n3795 Centerpoint Way\n	\n		\n		Joliet\,\n\n\n	60436\n\n	United States\n\n\n\n\n	+ Google Map \n\n\n	\n					\n						\n	 \n\n\n	\n	View Venue Website \n\n\n\n	\n\n		\n	\n				\n				\n					\n		\n					\n		\n				\n						\n					\n			\n						\n				\n					\n	\n		\n\n	\n	Add to calendar	\n		\n	\n\n		\n			\n									\n	Google Calendar\n\n									\n	iCalendar\n\n									\n	Outlook 365\n\n									\n	Outlook Live\n\n							\n		\n\n		\n	\n\n				\n				\n					\n		\n					\n		\n				\n						\n					\n			\n						\n				\n					\n	\n		\n\n				East 10	\n\n\n		\n	\n		Quaker City Motorsports Park
URL:https://driftmaps.com/event/cl2-drift-day-6/
LOCATION:Pittrace\, 201 Penndale Road\, Wampum\, PA\, 16157\, United States
CATEGORIES:Drift Day,Skidpad
ATTACH;FMTTYPE=image/jpeg:https://driftmaps.com/wp-content/uploads/2025/03/CL2.jpg
GEO:40.846838;-80.345671
X-APPLE-STRUCTURED-LOCATION;VALUE=URI;X-ADDRESS=Pittrace 201 Penndale Road Wampum PA 16157 United States;X-APPLE-RADIUS=500;X-TITLE=201 Penndale Road:geo:-80.345671,40.846838
END:VEVENT
END:VCALENDAR