BEGIN:VCALENDAR
VERSION:2.0
PRODID:-// - ECPv6.15.20//NONSGML v1.0//EN
CALSCALE:GREGORIAN
METHOD:PUBLISH
X-ORIGINAL-URL:https://driftmaps.com
X-WR-CALDESC:Events for 
REFRESH-INTERVAL;VALUE=DURATION:PT1H
X-Robots-Tag:noindex
X-PUBLISHED-TTL:PT1H
BEGIN:VTIMEZONE
TZID:America/New_York
BEGIN:DAYLIGHT
TZOFFSETFROM:-0500
TZOFFSETTO:-0400
TZNAME:EDT
DTSTART:20250309T070000
END:DAYLIGHT
BEGIN:STANDARD
TZOFFSETFROM:-0400
TZOFFSETTO:-0500
TZNAME:EST
DTSTART:20251102T060000
END:STANDARD
BEGIN:DAYLIGHT
TZOFFSETFROM:-0500
TZOFFSETTO:-0400
TZNAME:EDT
DTSTART:20260308T070000
END:DAYLIGHT
BEGIN:STANDARD
TZOFFSETFROM:-0400
TZOFFSETTO:-0500
TZNAME:EST
DTSTART:20261101T060000
END:STANDARD
BEGIN:DAYLIGHT
TZOFFSETFROM:-0500
TZOFFSETTO:-0400
TZNAME:EDT
DTSTART:20270314T070000
END:DAYLIGHT
BEGIN:STANDARD
TZOFFSETFROM:-0400
TZOFFSETTO:-0500
TZNAME:EST
DTSTART:20271107T060000
END:STANDARD
END:VTIMEZONE
BEGIN:VEVENT
DTSTART;VALUE=DATE:20260516
DTEND;VALUE=DATE:20260517
DTSTAMP:20260421T091943
CREATED:20260125T012025Z
LAST-MODIFIED:20260125T012339Z
UID:10001217-1778889600-1778975999@driftmaps.com
SUMMARY:Quaker City Motorsports Park
DESCRIPTION:« All Events\n 				\n				\n				\n				\n					\n	East 10 – Pro Am				\n				\n				\n				\n					\n		\n			April 18\n\n		\n	\n	  -  \n\n	April 19\n\n	\n				\n				\n				\n				\n					\n	\n				\n				\n				\n				\n									\n					\n						\n									Event Info: \n					\n					\n				\n								\n				\n				\n				\n									\n					\n						\n									Book Hotel: \n					\n					\n				\n								\n				\n				\n				\n									\n					\n						\n									Driftmaps Merch:\n					\n					\n				\n								\n				\n				\n						\n					\n			\n						\n				\n					\n	\n\n	Categories:	\n		Competition\, Drift Day	\n\n				\n				\n				\n				\n					Organizer Info: 				\n				\n				\n				\n					\n	\n			\n			East 10			\n	\n\n	\n	\n\n	Website:View Organizer Website \n\n\n\n				\n				\n					\n		\n				\n			\n						\n				\n					\n				\n				\n	\n			\n		Bristol Motor Speedway			\n	\n	\n	\n\n151 Speedway Blvd\n	\n		\n		Bristol\,\n\n	TN\n\n	37620\n\n	United States\n\n\n\n\n	+ Google Map \n\n\n	\n					\n						\n	 \n\n\n	\n	 \n\n\n\n	\n\n		\n	\n				\n				\n					\n		\n					\n		\n				\n						\n					\n			\n						\n				\n					\n	\n		\n\n	\n	Add to calendar	\n		\n	\n\n		\n			\n									\n	Google Calendar\n\n									\n	iCalendar\n\n									\n	Outlook 365\n\n									\n	Outlook Live\n\n							\n		\n\n		\n	\n\n				\n				\n					\n		\n					\n		\n				\n						\n					\n			\n						\n				\n					\n	\n		\n\n				Gridlife South Carolina	\n\n\n		\n	\n		Autobahn Skid Pad Half Day
URL:https://driftmaps.com/event/quaker-city-motorsports-park/
LOCATION:Quaker City Motorsports Park\, 10225 W S Range Rd\, Salem\, 44460\, United States
ATTACH;FMTTYPE=image/jpeg:https://driftmaps.com/wp-content/uploads/2025/12/IMG_9081.jpeg
GEO:40.9442468;-80.8402357
X-APPLE-STRUCTURED-LOCATION;VALUE=URI;X-ADDRESS=Quaker City Motorsports Park 10225 W S Range Rd Salem 44460 United States;X-APPLE-RADIUS=500;X-TITLE=10225 W S Range Rd:geo:-80.8402357,40.9442468
END:VEVENT
BEGIN:VEVENT
DTSTART;VALUE=DATE:20260516
DTEND;VALUE=DATE:20260518
DTSTAMP:20260421T091943
CREATED:20260125T230320Z
LAST-MODIFIED:20260125T230338Z
UID:10001256-1778889600-1779062399@driftmaps.com
SUMMARY:Club FR - Drift Day 109
DESCRIPTION:« All Events\n 				\n				\n				\n				\n					\n	East 10 – Pro Am				\n				\n				\n				\n					\n		\n			April 18\n\n		\n	\n	  -  \n\n	April 19\n\n	\n				\n				\n				\n				\n					\n	\n				\n				\n				\n				\n									\n					\n						\n									Event Info: \n					\n					\n				\n								\n				\n				\n				\n									\n					\n						\n									Book Hotel: \n					\n					\n				\n								\n				\n				\n				\n									\n					\n						\n									Driftmaps Merch:\n					\n					\n				\n								\n				\n				\n						\n					\n			\n						\n				\n					\n	\n\n	Categories:	\n		Competition\, Drift Day	\n\n				\n				\n				\n				\n					Organizer Info: 				\n				\n				\n				\n					\n	\n			\n			East 10			\n	\n\n	\n	View Organizer Website \n\n\n\n				\n				\n					\n		\n				\n			\n						\n				\n					\n				\n				\n	\n			\n		Bristol Motor Speedway			\n	\n	\n	\n\n151 Speedway Blvd\n	\n		\n		Bristol\,\n\n	TN\n\n	37620\n\n	United States\n\n\n\n\n	+ Google Map \n\n\n	\n					\n						\n	 \n\n\n	\n	 \n\n\n\n	\n\n		\n	\n				\n				\n					\n		\n					\n		\n				\n						\n					\n			\n						\n				\n					\n	\n		\n\n	\n	Add to calendar	\n		\n	\n\n		\n			\n									\n	Google Calendar\n\n									\n	iCalendar\n\n									\n	Outlook 365\n\n									\n	Outlook Live\n\n							\n		\n\n		\n	\n\n				\n				\n					\n		\n					\n		\n				\n						\n					\n			\n						\n				\n					\n	\n		\n\n				Gridlife South Carolina	\n\n\n		\n	\n		Autobahn Skid Pad Half Day
URL:https://driftmaps.com/event/club-fr-drift-day-109/
LOCATION:Road America\, N 7390 WI-67\, Plymouth\, 53073\, United States
CATEGORIES:Drift Day
ATTACH;FMTTYPE=image/jpeg:https://driftmaps.com/wp-content/uploads/2026/01/club-fr-.jpg
GEO:43.80426;-87.98715
X-APPLE-STRUCTURED-LOCATION;VALUE=URI;X-ADDRESS=Road America N 7390 WI-67 Plymouth 53073 United States;X-APPLE-RADIUS=500;X-TITLE=N 7390 WI-67:geo:-87.98715,43.80426
END:VEVENT
BEGIN:VEVENT
DTSTART;TZID=America/New_York:20260516T100000
DTEND;TZID=America/New_York:20260517T183000
DTSTAMP:20260421T091943
CREATED:20260402T230124Z
LAST-MODIFIED:20260402T230211Z
UID:10001330-1778925600-1779042600@driftmaps.com
SUMMARY:Down Bad Drift Spring Kickoff!
DESCRIPTION:« All Events\n 				\n				\n				\n				\n					\n	East 10 – Pro Am				\n				\n				\n				\n					\n		\n			April 18\n\n		\n	\n	  -  \n\n	April 19\n\n	\n				\n				\n				\n				\n					\n	\n				\n				\n				\n				\n									\n					\n						\n									Event Info: \n					\n					\n				\n								\n				\n				\n				\n									\n					\n						\n									Book Hotel: \n					\n					\n				\n								\n				\n				\n				\n									\n					\n						\n									Driftmaps Merch:\n					\n					\n				\n								\n				\n				\n						\n					\n			\n						\n				\n					\n	\n\n	Categories:	\n		Competition\, Drift Day	\n\n				\n				\n				\n				\n					Organizer Info: 				\n				\n				\n				\n					\n	\n			\n			East 10			\n	\n\n	\n	View Organizer Website \n\n\n\n				\n				\n					\n		\n				\n			\n						\n				\n					\n				\n				\n	\n			\n		Bristol Motor Speedway			\n	\n	\n	\n\n151 Speedway Blvd\n	\n		\n		Bristol\,\n\n	TN\n\n	37620\n\n	United States\n\n\n\n\n	+ Google Map \n\n\n	\n					\n						\n	 \n\n\n	\n	 \n\n\n\n	\n\n		\n	\n				\n				\n					\n		\n					\n		\n				\n						\n					\n			\n						\n				\n					\n	\n		\n\n	\n	Add to calendar	\n		\n	\n\n		\n			\n									\n	Google Calendar\n\n									\n	iCalendar\n\n									\n	Outlook 365\n\n									\n	Outlook Live\n\n							\n		\n\n		\n	\n\n				\n				\n					\n		\n					\n		\n				\n						\n					\n			\n						\n				\n					\n	\n		\n\n				Gridlife South Carolina	\n\n\n		\n	\n		Autobahn Skid Pad Half Day
URL:https://driftmaps.com/event/down-bad-drift-spring-kickoff/
LOCATION:salem speedway\, 2729 IN-56 West\, Salem\, IN\, 47167\, United States
CATEGORIES:Drift Day,Festival
ATTACH;FMTTYPE=image/jpeg:https://driftmaps.com/wp-content/uploads/2026/02/SpringFlyer.jpg
ORGANIZER;CN="Down Bad Drift":MAILTO:downbadapparelbrand@gmail.com
GEO:38.6000611;-86.1384663
X-APPLE-STRUCTURED-LOCATION;VALUE=URI;X-ADDRESS=salem speedway 2729 IN-56 West Salem IN 47167 United States;X-APPLE-RADIUS=500;X-TITLE=2729 IN-56 West:geo:-86.1384663,38.6000611
END:VEVENT
END:VCALENDAR