BEGIN:VCALENDAR
VERSION:2.0
PRODID:-// - ECPv6.15.20//NONSGML v1.0//EN
CALSCALE:GREGORIAN
METHOD:PUBLISH
X-ORIGINAL-URL:https://driftmaps.com
X-WR-CALDESC:Events for 
REFRESH-INTERVAL;VALUE=DURATION:PT1H
X-Robots-Tag:noindex
X-PUBLISHED-TTL:PT1H
BEGIN:VTIMEZONE
TZID:America/New_York
BEGIN:DAYLIGHT
TZOFFSETFROM:-0500
TZOFFSETTO:-0400
TZNAME:EDT
DTSTART:20240310T070000
END:DAYLIGHT
BEGIN:STANDARD
TZOFFSETFROM:-0400
TZOFFSETTO:-0500
TZNAME:EST
DTSTART:20241103T060000
END:STANDARD
BEGIN:DAYLIGHT
TZOFFSETFROM:-0500
TZOFFSETTO:-0400
TZNAME:EDT
DTSTART:20250309T070000
END:DAYLIGHT
BEGIN:STANDARD
TZOFFSETFROM:-0400
TZOFFSETTO:-0500
TZNAME:EST
DTSTART:20251102T060000
END:STANDARD
BEGIN:DAYLIGHT
TZOFFSETFROM:-0500
TZOFFSETTO:-0400
TZNAME:EDT
DTSTART:20260308T070000
END:DAYLIGHT
BEGIN:STANDARD
TZOFFSETFROM:-0400
TZOFFSETTO:-0500
TZNAME:EST
DTSTART:20261101T060000
END:STANDARD
END:VTIMEZONE
BEGIN:VEVENT
DTSTART;VALUE=DATE:20251018
DTEND;VALUE=DATE:20251019
DTSTAMP:20260421T092716
CREATED:20250903T165948Z
LAST-MODIFIED:20250903T170006Z
UID:10001174-1760745600-1760831999@driftmaps.com
SUMMARY:COSMIC DRIFT - THAT DUDE IN BLUE
DESCRIPTION:« All Events\n \n\n	COSMIC DRIFT – THAT DUDE IN BLUE\n			October 18\n	\n					\n									Event Info:\n					 \n\n	Categories:\n		Drift Day\, Festival	 \nOrganizer Info: \n\n			\n			That Dude In Blue			\n	\nView Organizer Website \n\n			\n		Lanier Raceway			\n	\n\nWinder Highway 5301\n		\n		Braselton\,\n	GA\n	30517\n	United States\n\n\n	+ Google Map \n\n					\n						\n	 \n\n	View Venue Website \n	\n\n	\n	Add to calendar	\n		\n	\n \n\n\n	Google Calendar\n\n\n	iCalendar\n\n\n	Outlook 365\n\n\n	Outlook Live\n\n\n\n\n\n\n				Fall Ladies Drift Day	\n\n\n	\n		Stunt & Drift Show
URL:https://driftmaps.com/event/cosmic-drift-that-dude-in-blue/
LOCATION:Lanier Raceway\, Winder Highway 5301\, Braselton\, GA\, 30517\, United States
CATEGORIES:Drift Day,Festival
ATTACH;FMTTYPE=image/webp:https://driftmaps.com/wp-content/uploads/2025/09/tdib-.webp
GEO:34.154508;-83.812005
X-APPLE-STRUCTURED-LOCATION;VALUE=URI;X-ADDRESS=Lanier Raceway Winder Highway 5301 Braselton GA 30517 United States;X-APPLE-RADIUS=500;X-TITLE=Winder Highway 5301:geo:-83.812005,34.154508
END:VEVENT
END:VCALENDAR