BEGIN:VCALENDAR
VERSION:2.0
PRODID:-// - ECPv6.15.20//NONSGML v1.0//EN
CALSCALE:GREGORIAN
METHOD:PUBLISH
X-ORIGINAL-URL:https://driftmaps.com
X-WR-CALDESC:Events for 
REFRESH-INTERVAL;VALUE=DURATION:PT1H
X-Robots-Tag:noindex
X-PUBLISHED-TTL:PT1H
BEGIN:VTIMEZONE
TZID:America/New_York
BEGIN:DAYLIGHT
TZOFFSETFROM:-0500
TZOFFSETTO:-0400
TZNAME:EDT
DTSTART:20240310T070000
END:DAYLIGHT
BEGIN:STANDARD
TZOFFSETFROM:-0400
TZOFFSETTO:-0500
TZNAME:EST
DTSTART:20241103T060000
END:STANDARD
BEGIN:DAYLIGHT
TZOFFSETFROM:-0500
TZOFFSETTO:-0400
TZNAME:EDT
DTSTART:20250309T070000
END:DAYLIGHT
BEGIN:STANDARD
TZOFFSETFROM:-0400
TZOFFSETTO:-0500
TZNAME:EST
DTSTART:20251102T060000
END:STANDARD
BEGIN:DAYLIGHT
TZOFFSETFROM:-0500
TZOFFSETTO:-0400
TZNAME:EDT
DTSTART:20260308T070000
END:DAYLIGHT
BEGIN:STANDARD
TZOFFSETFROM:-0400
TZOFFSETTO:-0500
TZNAME:EST
DTSTART:20261101T060000
END:STANDARD
END:VTIMEZONE
BEGIN:VEVENT
DTSTART;VALUE=DATE:20250801
DTEND;VALUE=DATE:20250803
DTSTAMP:20260421T112726
CREATED:20241231T030254Z
LAST-MODIFIED:20250216T153420Z
UID:10000754-1754006400-1754179199@driftmaps.com
SUMMARY:Ultimate Drifting Challenge
DESCRIPTION:« All Events\n \n\n	Ultimate Drifting Challenge\n			August 1\n	  –\n	August 2\n	\n															\n								\n												Rules/Classes \nThis event has 2 classes: \n-215 hard compound (No tire TW rules) \n-235 Spec (No tire TW rules)  \nRulebook: LINK \n															\n								\n												Media \nView Media attending: CLICK \n					\n									Event Registration:\n					\n					\n									Book Hotel:\n					\n					\n						Instagram\n											 \n\n	Categories:\n		Competition	 \nOrganizer Info: \n\n			\n			Ultimate Drifting Challenge			\n	\nView Organizer Website \n\n			\n		Apple Valley Raceway			\n	\n\nCentral Road 20455\n		\n		Apple Valley\,\n	CA\n	92307\n	United States\n\n\n	+ Google Map \n\n					\n						\n	 \n\n	\n\n	\n	Add to calendar	\n		\n	\n \n\n\n	Google Calendar\n\n\n	iCalendar\n\n\n	Outlook 365\n\n\n	Outlook Live\n\n\n\n\n\n\n				Summer Ladies Drift Day	\n\n\n	\n		Precision Drift – Ozarks
URL:https://driftmaps.com/event/ultimate-drifting-challenge-7/
LOCATION:Apple Valley Raceway\, Central Road 20455\, Apple Valley\, CA\, 92307\, United States
CATEGORIES:Competition
ATTACH;FMTTYPE=image/png:https://driftmaps.com/wp-content/uploads/2024/12/UDC.png
GEO:34.6219911;-117.1688885
X-APPLE-STRUCTURED-LOCATION;VALUE=URI;X-ADDRESS=Apple Valley Raceway Central Road 20455 Apple Valley CA 92307 United States;X-APPLE-RADIUS=500;X-TITLE=Central Road 20455:geo:-117.1688885,34.6219911
END:VEVENT
END:VCALENDAR