BEGIN:VCALENDAR
VERSION:2.0
PRODID:-// - ECPv6.15.20//NONSGML v1.0//EN
CALSCALE:GREGORIAN
METHOD:PUBLISH
X-ORIGINAL-URL:https://driftmaps.com
X-WR-CALDESC:Events for 
REFRESH-INTERVAL;VALUE=DURATION:PT1H
X-Robots-Tag:noindex
X-PUBLISHED-TTL:PT1H
BEGIN:VTIMEZONE
TZID:America/New_York
BEGIN:DAYLIGHT
TZOFFSETFROM:-0500
TZOFFSETTO:-0400
TZNAME:EDT
DTSTART:20240310T070000
END:DAYLIGHT
BEGIN:STANDARD
TZOFFSETFROM:-0400
TZOFFSETTO:-0500
TZNAME:EST
DTSTART:20241103T060000
END:STANDARD
BEGIN:DAYLIGHT
TZOFFSETFROM:-0500
TZOFFSETTO:-0400
TZNAME:EDT
DTSTART:20250309T070000
END:DAYLIGHT
BEGIN:STANDARD
TZOFFSETFROM:-0400
TZOFFSETTO:-0500
TZNAME:EST
DTSTART:20251102T060000
END:STANDARD
BEGIN:DAYLIGHT
TZOFFSETFROM:-0500
TZOFFSETTO:-0400
TZNAME:EDT
DTSTART:20260308T070000
END:DAYLIGHT
BEGIN:STANDARD
TZOFFSETFROM:-0400
TZOFFSETTO:-0500
TZNAME:EST
DTSTART:20261101T060000
END:STANDARD
END:VTIMEZONE
BEGIN:VEVENT
DTSTART;VALUE=DATE:20250926
DTEND;VALUE=DATE:20250929
DTSTAMP:20260421T145149
CREATED:20241214T030343Z
LAST-MODIFIED:20241214T030420Z
UID:10000586-1758844800-1759103999@driftmaps.com
SUMMARY:Gridlife Laguna Festival
DESCRIPTION:« All Events\n \n\n	Gridlife Laguna Festival\n			September 26\n	  –\n	September 28\n	\n			\n									Event Info:\n					\n			\n									Book Hotel:\n					 \n\n	Categories:\n		Festival	 \n\nOrganizer Info: \n\n			\n			Gridlife			\n	\nView Organizer Website \n\n			\n		Laguna Seca			\n	\n\nMonterey Salinas Highway 1021\n		\n		Salinas\,\n	CA\n	93908\n	United States\n\n\n	+ Google Map \n\n					\n						\n	 \n\n	\n\n	\n	Add to calendar	\n		\n	\n \n\n\n	Google Calendar\n\n\n	iCalendar\n\n\n	Outlook 365\n\n\n	Outlook Live\n\n\n\n\n\n\n				Precision Drift – Ozarks	\n\n\n	\n		Returning to Grassroots VOL 3. – Driven Luck Circuit
URL:https://driftmaps.com/event/gridlife-laguna-festival/
LOCATION:Laguna Seca\, Monterey Salinas Highway 1021\, Salinas\, CA\, 93908\, United States
CATEGORIES:Festival
ATTACH;FMTTYPE=image/jpeg:https://driftmaps.com/wp-content/uploads/2024/12/laguna-festiva.jpg
GEO:36.5828513;-121.7529613
X-APPLE-STRUCTURED-LOCATION;VALUE=URI;X-ADDRESS=Laguna Seca Monterey Salinas Highway 1021 Salinas CA 93908 United States;X-APPLE-RADIUS=500;X-TITLE=Monterey Salinas Highway 1021:geo:-121.7529613,36.5828513
END:VEVENT
END:VCALENDAR