BEGIN:VCALENDAR
VERSION:2.0
PRODID:-// - ECPv6.15.20//NONSGML v1.0//EN
CALSCALE:GREGORIAN
METHOD:PUBLISH
X-ORIGINAL-URL:https://driftmaps.com
X-WR-CALDESC:Events for 
REFRESH-INTERVAL;VALUE=DURATION:PT1H
X-Robots-Tag:noindex
X-PUBLISHED-TTL:PT1H
BEGIN:VTIMEZONE
TZID:America/New_York
BEGIN:DAYLIGHT
TZOFFSETFROM:-0500
TZOFFSETTO:-0400
TZNAME:EDT
DTSTART:20240310T070000
END:DAYLIGHT
BEGIN:STANDARD
TZOFFSETFROM:-0400
TZOFFSETTO:-0500
TZNAME:EST
DTSTART:20241103T060000
END:STANDARD
BEGIN:DAYLIGHT
TZOFFSETFROM:-0500
TZOFFSETTO:-0400
TZNAME:EDT
DTSTART:20250309T070000
END:DAYLIGHT
BEGIN:STANDARD
TZOFFSETFROM:-0400
TZOFFSETTO:-0500
TZNAME:EST
DTSTART:20251102T060000
END:STANDARD
BEGIN:DAYLIGHT
TZOFFSETFROM:-0500
TZOFFSETTO:-0400
TZNAME:EDT
DTSTART:20260308T070000
END:DAYLIGHT
BEGIN:STANDARD
TZOFFSETFROM:-0400
TZOFFSETTO:-0500
TZNAME:EST
DTSTART:20261101T060000
END:STANDARD
END:VTIMEZONE
BEGIN:VEVENT
DTSTART;VALUE=DATE:20251004
DTEND;VALUE=DATE:20251006
DTSTAMP:20260421T061900
CREATED:20250311T001054Z
LAST-MODIFIED:20250311T001104Z
UID:10000918-1759536000-1759708799@driftmaps.com
SUMMARY:CL2 - Thrash Bash
DESCRIPTION:« All Events\n \n\n	CL2 – Thrash Bash\n			October 4\n	  –\n	October 5\n	\n					\n									Event Info:\n					\n					\n									Rules:\n					\n					\n									Book Hotel:\n					 \n\n	Categories:\n		Drift Day	 \nOrganizer Info: \n\n			\n			Clubloose			\n	\nView Organizer Website \n\n			\n		Midvale Speedway			\n	\n\n3825 State St\n		\n		New Philadelphia\,\n	OH\n	44663\n	United States\n\n\n	+ Google Map \n\n					\n						\n	 \n\n	\n\n	\n	Add to calendar	\n		\n	\n \n\n\n	Google Calendar\n\n\n	iCalendar\n\n\n	Outlook 365\n\n\n	Outlook Live\n\n\n\n\n\n\n				Smile X Death Challenge (SXD)	\n\n\n	\n		FRIDAY NIGHT DRIFT
URL:https://driftmaps.com/event/cl2-thrash-bash/
LOCATION:Midvale Speedway\, 3825 State St\, New Philadelphia\, OH\, 44663\, United States
CATEGORIES:Drift Day
ATTACH;FMTTYPE=image/jpeg:https://driftmaps.com/wp-content/uploads/2025/03/CL2.jpg
GEO:40.4440606;-81.3840936
X-APPLE-STRUCTURED-LOCATION;VALUE=URI;X-ADDRESS=Midvale Speedway 3825 State St New Philadelphia OH 44663 United States;X-APPLE-RADIUS=500;X-TITLE=3825 State St:geo:-81.3840936,40.4440606
END:VEVENT
BEGIN:VEVENT
DTSTART;VALUE=DATE:20250921
DTEND;VALUE=DATE:20250922
DTSTAMP:20260421T061900
CREATED:20250311T001003Z
LAST-MODIFIED:20250311T001012Z
UID:10000917-1758412800-1758499199@driftmaps.com
SUMMARY:CL2 - Drift Day
DESCRIPTION:« All Events\n \n\n	CL2 – Drift Day\n			September 21\n	\n					\n									Event Info:\n					\n					\n									Rules:\n					\n					\n									Book Hotel:\n					 \n\n	Categories:\n		Drift Day	 \nOrganizer Info: \n\n			\n			Clubloose			\n	\nView Organizer Website \n\n			\n		Midvale Speedway			\n	\n\n3825 State St\n		\n		New Philadelphia\,\n	OH\n	44663\n	United States\n\n\n	+ Google Map \n\n					\n						\n	 \n\n	\n\n	\n	Add to calendar	\n		\n	\n \n\n\n	Google Calendar\n\n\n	iCalendar\n\n\n	Outlook 365\n\n\n	Outlook Live\n\n\n\n\n\n\n				Ready Set Drift – Instinct Twin Drift Competition	\n\n\n	\n		Gridlife Laguna Festival
URL:https://driftmaps.com/event/cl2-drift-day-4/
LOCATION:Midvale Speedway\, 3825 State St\, New Philadelphia\, OH\, 44663\, United States
CATEGORIES:Drift Day
ATTACH;FMTTYPE=image/jpeg:https://driftmaps.com/wp-content/uploads/2025/03/CL2.jpg
GEO:40.4440606;-81.3840936
X-APPLE-STRUCTURED-LOCATION;VALUE=URI;X-ADDRESS=Midvale Speedway 3825 State St New Philadelphia OH 44663 United States;X-APPLE-RADIUS=500;X-TITLE=3825 State St:geo:-81.3840936,40.4440606
END:VEVENT
BEGIN:VEVENT
DTSTART;VALUE=DATE:20250803
DTEND;VALUE=DATE:20250804
DTSTAMP:20260421T061900
CREATED:20250311T000914Z
LAST-MODIFIED:20250311T000922Z
UID:10000916-1754179200-1754265599@driftmaps.com
SUMMARY:CL2 - Drift Day
DESCRIPTION:« All Events\n \n\n	CL2 – Drift Day\n			August 3\n	\n					\n									Event Info:\n					\n					\n									Rules:\n					\n					\n									Book Hotel:\n					 \n\n	Categories:\n		Drift Day	 \nOrganizer Info: \n\n			\n			Clubloose			\n	\nView Organizer Website \n\n			\n		Midvale Speedway			\n	\n\n3825 State St\n		\n		New Philadelphia\,\n	OH\n	44663\n	United States\n\n\n	+ Google Map \n\n					\n						\n	 \n\n	\n\n	\n	Add to calendar	\n		\n	\n \n\n\n	Google Calendar\n\n\n	iCalendar\n\n\n	Outlook 365\n\n\n	Outlook Live\n\n\n\n\n\n\n				Etown Gambler Round 3 – Road Course	\n\n\n	\n		Test n Tune
URL:https://driftmaps.com/event/cl2-drift-day-3/
LOCATION:Midvale Speedway\, 3825 State St\, New Philadelphia\, OH\, 44663\, United States
CATEGORIES:Drift Day
ATTACH;FMTTYPE=image/jpeg:https://driftmaps.com/wp-content/uploads/2025/03/CL2.jpg
GEO:40.4440606;-81.3840936
X-APPLE-STRUCTURED-LOCATION;VALUE=URI;X-ADDRESS=Midvale Speedway 3825 State St New Philadelphia OH 44663 United States;X-APPLE-RADIUS=500;X-TITLE=3825 State St:geo:-81.3840936,40.4440606
END:VEVENT
BEGIN:VEVENT
DTSTART;VALUE=DATE:20250705
DTEND;VALUE=DATE:20250707
DTSTAMP:20260421T061900
CREATED:20250311T000828Z
LAST-MODIFIED:20250311T000836Z
UID:10000915-1751673600-1751846399@driftmaps.com
SUMMARY:CL2 - Merica Bash
DESCRIPTION:« All Events\n \n\n	CL2 – Merica Bash\n			July 5\n	  –\n	July 6\n	\n					\n									Event Info:\n					\n					\n									Rules:\n					\n					\n									Book Hotel:\n					 \n\n	Categories:\n		Drift Day	 \nOrganizer Info: \n\n			\n			Clubloose			\n	\nView Organizer Website \n\n			\n		Midvale Speedway			\n	\n\n3825 State St\n		\n		New Philadelphia\,\n	OH\n	44663\n	United States\n\n\n	+ Google Map \n\n					\n						\n	 \n\n	\n\n	\n	Add to calendar	\n		\n	\n \n\n\n	Google Calendar\n\n\n	iCalendar\n\n\n	Outlook 365\n\n\n	Outlook Live\n\n\n\n\n\n\n				Klutch Kickers Round 2	\n\n\n	\n		Test n Tune
URL:https://driftmaps.com/event/cl2-merica-bash/
LOCATION:Midvale Speedway\, 3825 State St\, New Philadelphia\, OH\, 44663\, United States
CATEGORIES:Drift Day
ATTACH;FMTTYPE=image/jpeg:https://driftmaps.com/wp-content/uploads/2025/03/CL2.jpg
GEO:40.4440606;-81.3840936
X-APPLE-STRUCTURED-LOCATION;VALUE=URI;X-ADDRESS=Midvale Speedway 3825 State St New Philadelphia OH 44663 United States;X-APPLE-RADIUS=500;X-TITLE=3825 State St:geo:-81.3840936,40.4440606
END:VEVENT
BEGIN:VEVENT
DTSTART;VALUE=DATE:20250615
DTEND;VALUE=DATE:20250616
DTSTAMP:20260421T061900
CREATED:20250311T000650Z
LAST-MODIFIED:20250311T000735Z
UID:10000914-1749945600-1750031999@driftmaps.com
SUMMARY:CL2 - Drift Day
DESCRIPTION:« All Events \nCL2 – Drift Day\nJune 15\n–\nJune 16\n\n\nEvent Info:\n\n\nRules:\n\n\nBook Hotel:\n \nCategories:\nDrift Day \nOrganizer Info:\n\nClubloose \nView Organizer Website \n\nMidvale Speedway \n3825 State St \nNew Philadelphia\,\nOH\n44663\nUnited States\n+ Google Map \n  \n\n\n\nAdd to calendar \n \n\nGoogle Calendar\niCalendar\nOutlook 365\nOutlook Live\n\n\n\n\nElevated Koncepts \n\nFRIDAY NIGHT DRIFT
URL:https://driftmaps.com/event/cl2-drift-day-2/
LOCATION:Midvale Speedway\, 3825 State St\, New Philadelphia\, OH\, 44663\, United States
CATEGORIES:Drift Day
ATTACH;FMTTYPE=image/jpeg:https://driftmaps.com/wp-content/uploads/2025/03/CL2.jpg
GEO:40.4440606;-81.3840936
X-APPLE-STRUCTURED-LOCATION;VALUE=URI;X-ADDRESS=Midvale Speedway 3825 State St New Philadelphia OH 44663 United States;X-APPLE-RADIUS=500;X-TITLE=3825 State St:geo:-81.3840936,40.4440606
END:VEVENT
BEGIN:VEVENT
DTSTART;VALUE=DATE:20250504
DTEND;VALUE=DATE:20250505
DTSTAMP:20260421T061900
CREATED:20250311T000527Z
LAST-MODIFIED:20250311T000546Z
UID:10000913-1746316800-1746403199@driftmaps.com
SUMMARY:CL2 - Drift Day
DESCRIPTION:« All Events\n \n\n	CL2 – Drift Day\n			May 4\n	\n					\n									Event Info:\n					\n					\n									Rules:\n					\n					\n									Book Hotel:\n					 \n\n	Categories:\n		Drift Day	 \nOrganizer Info: \n\n			\n			Clubloose			\n	\nView Organizer Website \n\n			\n		Midvale Speedway			\n	\n\n3825 State St\n		\n		New Philadelphia\,\n	OH\n	44663\n	United States\n\n\n	+ Google Map \n\n					\n						\n	 \n\n	\n\n	\n	Add to calendar	\n		\n	\n \n\n\n	Google Calendar\n\n\n	iCalendar\n\n\n	Outlook 365\n\n\n	Outlook Live\n\n\n\n\n\n\n				Daily Drift Round 1	\n\n\n	\n		Gridlife Special Stage
URL:https://driftmaps.com/event/cl2-drift-day/
LOCATION:Midvale Speedway\, 3825 State St\, New Philadelphia\, OH\, 44663\, United States
CATEGORIES:Drift Day
ATTACH;FMTTYPE=image/jpeg:https://driftmaps.com/wp-content/uploads/2025/03/CL2.jpg
GEO:40.4440606;-81.3840936
X-APPLE-STRUCTURED-LOCATION;VALUE=URI;X-ADDRESS=Midvale Speedway 3825 State St New Philadelphia OH 44663 United States;X-APPLE-RADIUS=500;X-TITLE=3825 State St:geo:-81.3840936,40.4440606
END:VEVENT
END:VCALENDAR