BEGIN:VCALENDAR
VERSION:2.0
PRODID:-// - ECPv6.15.20//NONSGML v1.0//EN
CALSCALE:GREGORIAN
METHOD:PUBLISH
X-ORIGINAL-URL:https://driftmaps.com
X-WR-CALDESC:Events for 
REFRESH-INTERVAL;VALUE=DURATION:PT1H
X-Robots-Tag:noindex
X-PUBLISHED-TTL:PT1H
BEGIN:VTIMEZONE
TZID:America/New_York
BEGIN:DAYLIGHT
TZOFFSETFROM:-0500
TZOFFSETTO:-0400
TZNAME:EDT
DTSTART:20240310T070000
END:DAYLIGHT
BEGIN:STANDARD
TZOFFSETFROM:-0400
TZOFFSETTO:-0500
TZNAME:EST
DTSTART:20241103T060000
END:STANDARD
BEGIN:DAYLIGHT
TZOFFSETFROM:-0500
TZOFFSETTO:-0400
TZNAME:EDT
DTSTART:20250309T070000
END:DAYLIGHT
BEGIN:STANDARD
TZOFFSETFROM:-0400
TZOFFSETTO:-0500
TZNAME:EST
DTSTART:20251102T060000
END:STANDARD
BEGIN:DAYLIGHT
TZOFFSETFROM:-0500
TZOFFSETTO:-0400
TZNAME:EDT
DTSTART:20260308T070000
END:DAYLIGHT
BEGIN:STANDARD
TZOFFSETFROM:-0400
TZOFFSETTO:-0500
TZNAME:EST
DTSTART:20261101T060000
END:STANDARD
END:VTIMEZONE
BEGIN:VEVENT
DTSTART;VALUE=DATE:20251012
DTEND;VALUE=DATE:20251014
DTSTAMP:20260421T102941
CREATED:20250112T000237Z
LAST-MODIFIED:20250112T000246Z
UID:10000810-1760227200-1760399999@driftmaps.com
SUMMARY:Drift Colorado Round 5
DESCRIPTION:« All Events\n \n\n	Drift Colorado Round 5\n			October 12\n	  –\n	October 13\n	\n			\n									Event Info:\n					\n			\n									Book Hotel:\n					 \n\n	Categories:\n		Competition	 \n\nOrganizer Info: \n\n			\n			Drift Colorado			\n	\nView Organizer Website \n\n			\n		Pikes Peak International Raceway			\n	\n\n16650 Midway Ranch Rd\n		\n		Fountain\,\n	CO\n	United States\n\n\n	+ Google Map \n\n					\n						\n	 \n\n	\n\n	\n	Add to calendar	\n		\n	\n \n\n\n	Google Calendar\n\n\n	iCalendar\n\n\n	Outlook 365\n\n\n	Outlook Live\n\n\n\n\n\n\n				DoubleTime	\n\n\n	\n		Gridlife Pittrace
URL:https://driftmaps.com/event/drift-colorado-round-5/
LOCATION:Pikes Peak International Raceway\, 16650 Midway Ranch Rd\, Fountain\, CO\, United States
CATEGORIES:Competition
ATTACH;FMTTYPE=image/webp:https://driftmaps.com/wp-content/uploads/2024/01/drift-colorado-logo.webp
GEO:38.5909062;-104.6728284
X-APPLE-STRUCTURED-LOCATION;VALUE=URI;X-ADDRESS=Pikes Peak International Raceway 16650 Midway Ranch Rd Fountain CO United States;X-APPLE-RADIUS=500;X-TITLE=16650 Midway Ranch Rd:geo:-104.6728284,38.5909062
END:VEVENT
BEGIN:VEVENT
DTSTART;VALUE=DATE:20250906
DTEND;VALUE=DATE:20250907
DTSTAMP:20260421T102941
CREATED:20250111T233348Z
LAST-MODIFIED:20250111T233356Z
UID:10000801-1757116800-1757203199@driftmaps.com
SUMMARY:Drift Clinic
DESCRIPTION:« All Events\n \n\n	Drift Clinic\n			September 6\n	\n			\n									Event Info:\n					\n			\n									Book Hotel:\n					 \n\n	Categories:\n		Clinic/Beginner	 \n\nOrganizer Info: \n\n			\n			Pikes Peak			\n	\nView Organizer Website \n\n			\n		Pikes Peak International Raceway			\n	\n\n16650 Midway Ranch Rd\n		\n		Fountain\,\n	CO\n	United States\n\n\n	+ Google Map \n\n					\n						\n	 \n\n	\n\n	\n	Add to calendar	\n		\n	\n \n\n\n	Google Calendar\n\n\n	iCalendar\n\n\n	Outlook 365\n\n\n	Outlook Live\n\n\n\n\n\n\n				Slideways at the Zoo	\n\n\n	\n		Drifting the Plains 3
URL:https://driftmaps.com/event/drift-clinic-6/
LOCATION:Pikes Peak International Raceway\, 16650 Midway Ranch Rd\, Fountain\, CO\, United States
CATEGORIES:Clinic/Beginner
ATTACH;FMTTYPE=image/png:https://driftmaps.com/wp-content/uploads/2025/01/ppir-1.png
GEO:38.5909062;-104.6728284
X-APPLE-STRUCTURED-LOCATION;VALUE=URI;X-ADDRESS=Pikes Peak International Raceway 16650 Midway Ranch Rd Fountain CO United States;X-APPLE-RADIUS=500;X-TITLE=16650 Midway Ranch Rd:geo:-104.6728284,38.5909062
END:VEVENT
BEGIN:VEVENT
DTSTART;TZID=America/New_York:20250627T160000
DTEND;TZID=America/New_York:20250628T230000
DTSTAMP:20260421T102941
CREATED:20250523T021641Z
LAST-MODIFIED:20250523T021714Z
UID:10000897-1751040000-1751151600@driftmaps.com
SUMMARY:DOWNTOEARTH X PPIR Asccend
DESCRIPTION:« All Events\n \n\n	DOWNTOEARTH X PPIR Asccend\n			June 27\n	  @\n4:00 pm\n	  –\n	June 28\n	  @\n11:00 pm\n	\n		DOWNTOEARTH x PPIR presents ASCEND\, a two-day motorsports festival featuring drifting\, drag racing\, hot-lapping\, a car show with awards\, music\, entertainment\, and a burnout competition. Friday will consist of night drifting\, and Saturday will have daytime and night-time drifting. On Saturday\, there will be a large-scale fireworks show that drivers can be on track during.\n \nThe event gives priority to drifters and has multiple slots over two days with plenty of seat time.\n \nIntroducing our drift skills battle. Select drivers will compete in a skills course and complete obstacles while the crowd cheers on. Drivers for the skills battle will be hand-selected. To apply for a spot in the event\, please email downtoearthmvmt@gmail.com\n \nFor any questions\, please email us at downtoearthmvmt@gmail.com\n \n \n					\n									Event Info:\n					\n					\n									Event Registration:\n					\n					\n									Book Hotel:\n					 \n\n	Categories:\n		Drift Day\, Festival	 \nOrganizer Info: \n\n			\n			DOWNTOEARTH			\n	\nView Organizer Website \n\n			\n		Pikes Peak International Raceway			\n	\n\n16650 Midway Ranch Rd\n		\n		Fountain\,\n	CO\n	United States\n\n\n	+ Google Map \n\n					\n						\n	 \n\n	\n\n	\n	Add to calendar	\n		\n	\n \n\n\n	Google Calendar\n\n\n	iCalendar\n\n\n	Outlook 365\n\n\n	Outlook Live\n\n\n\n\n\n\n				LockCityDrift – June Jam Session	\n\n\n	\n		Club Fr Drift Day
URL:https://driftmaps.com/event/downtoearth-x-ppir-asccend/
LOCATION:Pikes Peak International Raceway\, 16650 Midway Ranch Rd\, Fountain\, CO\, United States
CATEGORIES:Drift Day,Festival
ATTACH;FMTTYPE=image/png:https://driftmaps.com/wp-content/uploads/2025/02/Downtoearth-Days-Ascend.png
ORGANIZER;CN="DOWNTOEARTH":MAILTO:downtoearthmvmt@gmail.com
GEO:38.5909062;-104.6728284
X-APPLE-STRUCTURED-LOCATION;VALUE=URI;X-ADDRESS=Pikes Peak International Raceway 16650 Midway Ranch Rd Fountain CO United States;X-APPLE-RADIUS=500;X-TITLE=16650 Midway Ranch Rd:geo:-104.6728284,38.5909062
END:VEVENT
BEGIN:VEVENT
DTSTART;VALUE=DATE:20250621
DTEND;VALUE=DATE:20250622
DTSTAMP:20260421T102941
CREATED:20250111T233244Z
LAST-MODIFIED:20250111T233254Z
UID:10000800-1750464000-1750550399@driftmaps.com
SUMMARY:Drift Clinic
DESCRIPTION:« All Events\n \n\n	Drift Clinic\n			June 21\n	\n			\n									Event Info:\n					\n			\n									Book Hotel:\n					 \n\n	Categories:\n		Clinic/Beginner	 \n\nOrganizer Info: \n\n			\n			Pikes Peak			\n	\nView Organizer Website \n\n			\n		Pikes Peak International Raceway			\n	\n\n16650 Midway Ranch Rd\n		\n		Fountain\,\n	CO\n	United States\n\n\n	+ Google Map \n\n					\n						\n	 \n\n	\n\n	\n	Add to calendar	\n		\n	\n \n\n\n	Google Calendar\n\n\n	iCalendar\n\n\n	Outlook 365\n\n\n	Outlook Live\n\n\n\n\n\n\n				Drift Day	\n\n\n	\n		Whiskey Garage Comp Round 3
URL:https://driftmaps.com/event/drift-clinic-5/
LOCATION:Pikes Peak International Raceway\, 16650 Midway Ranch Rd\, Fountain\, CO\, United States
CATEGORIES:Clinic/Beginner
ATTACH;FMTTYPE=image/png:https://driftmaps.com/wp-content/uploads/2025/01/ppir-1.png
GEO:38.5909062;-104.6728284
X-APPLE-STRUCTURED-LOCATION;VALUE=URI;X-ADDRESS=Pikes Peak International Raceway 16650 Midway Ranch Rd Fountain CO United States;X-APPLE-RADIUS=500;X-TITLE=16650 Midway Ranch Rd:geo:-104.6728284,38.5909062
END:VEVENT
BEGIN:VEVENT
DTSTART;VALUE=DATE:20250613
DTEND;VALUE=DATE:20250616
DTSTAMP:20260421T102941
CREATED:20250111T235526Z
LAST-MODIFIED:20250111T235547Z
UID:10000806-1749772800-1750031999@driftmaps.com
SUMMARY:Drift Colorado Drift Carnival Round 2
DESCRIPTION:« All Events\n \n\n	Drift Colorado Drift Carnival Round 2\n			June 13\n	  –\n	June 15\n	\n			\n									Event Info:\n					\n			\n									Book Hotel:\n					 \n\n	Categories:\n		Competition\, Drift Day	 \n\nOrganizer Info: \n\n			\n			Drift Colorado			\n	\nView Organizer Website \n\n			\n		Pikes Peak International Raceway			\n	\n\n16650 Midway Ranch Rd\n		\n		Fountain\,\n	CO\n	United States\n\n\n	+ Google Map \n\n					\n						\n	 \n\n	\n\n	\n	Add to calendar	\n		\n	\n \n\n\n	Google Calendar\n\n\n	iCalendar\n\n\n	Outlook 365\n\n\n	Outlook Live\n\n\n\n\n\n\n				Drift Clinic	\n\n\n	\n		Chichi No Hi – Driven Luck Circuit
URL:https://driftmaps.com/event/drift-colorado-drift-carnival-round-2/
LOCATION:Pikes Peak International Raceway\, 16650 Midway Ranch Rd\, Fountain\, CO\, United States
CATEGORIES:Competition,Drift Day
ATTACH;FMTTYPE=image/webp:https://driftmaps.com/wp-content/uploads/2024/01/drift-colorado-logo.webp
GEO:38.5909062;-104.6728284
X-APPLE-STRUCTURED-LOCATION;VALUE=URI;X-ADDRESS=Pikes Peak International Raceway 16650 Midway Ranch Rd Fountain CO United States;X-APPLE-RADIUS=500;X-TITLE=16650 Midway Ranch Rd:geo:-104.6728284,38.5909062
END:VEVENT
BEGIN:VEVENT
DTSTART;VALUE=DATE:20250607
DTEND;VALUE=DATE:20250608
DTSTAMP:20260421T102941
CREATED:20250111T232355Z
LAST-MODIFIED:20250111T232435Z
UID:10000796-1749254400-1749340799@driftmaps.com
SUMMARY:Summer Vibes – Ladies Motorsports Day
DESCRIPTION:« All Events\n \n\n	Summer Vibes – Ladies Motorsports Day\n			June 7\n	\n			\n									Event Info:\n					\n			\n									Book Hotel:\n					 \n\n	Categories:\n		Women Focused	 \n\nOrganizer Info: \n\n			\n			Pikes Peak			\n	\nView Organizer Website \n\n			\n		Pikes Peak International Raceway			\n	\n\n16650 Midway Ranch Rd\n		\n		Fountain\,\n	CO\n	United States\n\n\n	+ Google Map \n\n					\n						\n	 \n\n	\n\n	\n	Add to calendar	\n		\n	\n \n\n\n	Google Calendar\n\n\n	iCalendar\n\n\n	Outlook 365\n\n\n	Outlook Live\n\n\n\n\n\n\n				Ultimate Drifting Challenge	\n\n\n	\n		Drift Clinic
URL:https://driftmaps.com/event/summer-vibes-ladies-motorsports-day/
LOCATION:Pikes Peak International Raceway\, 16650 Midway Ranch Rd\, Fountain\, CO\, United States
CATEGORIES:Women Focused
ATTACH;FMTTYPE=image/jpeg:https://driftmaps.com/wp-content/uploads/2025/01/summer-vibes.jpg
GEO:38.5909062;-104.6728284
X-APPLE-STRUCTURED-LOCATION;VALUE=URI;X-ADDRESS=Pikes Peak International Raceway 16650 Midway Ranch Rd Fountain CO United States;X-APPLE-RADIUS=500;X-TITLE=16650 Midway Ranch Rd:geo:-104.6728284,38.5909062
END:VEVENT
BEGIN:VEVENT
DTSTART;VALUE=DATE:20250524
DTEND;VALUE=DATE:20250525
DTSTAMP:20260421T102941
CREATED:20241223T200442Z
LAST-MODIFIED:20241223T200540Z
UID:10000707-1748044800-1748131199@driftmaps.com
SUMMARY:SLUSH Motorsports Festival
DESCRIPTION:« All Events\n \n\n	SLUSH Motorsports Festival\n			May 24\n	\n			\n									Event Info:\n					\n			\n									Book Hotel:\n					 \n\n	Categories:\n		Drift Day\, Festival	 \n\nOrganizer Info: \n\n			\n			SLUSH			\n	\nView Organizer Website \n\n			\n		Pikes Peak International Raceway			\n	\n\n16650 Midway Ranch Rd\n		\n		Fountain\,\n	CO\n	United States\n\n\n	+ Google Map \n\n					\n						\n	 \n\n	\n\n	\n	Add to calendar	\n		\n	\n \n\n\n	Google Calendar\n\n\n	iCalendar\n\n\n	Outlook 365\n\n\n	Outlook Live\n\n\n\n\n\n\n				FRIDAY NIGHT DRIFT	\n\n\n	\n		Formula Drift
URL:https://driftmaps.com/event/slush-motorsports-festival-2/
LOCATION:Pikes Peak International Raceway\, 16650 Midway Ranch Rd\, Fountain\, CO\, United States
CATEGORIES:Drift Day,Festival
ATTACH;FMTTYPE=image/jpeg:https://driftmaps.com/wp-content/uploads/2024/12/slush-pike-peak.jpg
GEO:38.5909062;-104.6728284
X-APPLE-STRUCTURED-LOCATION;VALUE=URI;X-ADDRESS=Pikes Peak International Raceway 16650 Midway Ranch Rd Fountain CO United States;X-APPLE-RADIUS=500;X-TITLE=16650 Midway Ranch Rd:geo:-104.6728284,38.5909062
END:VEVENT
BEGIN:VEVENT
DTSTART;VALUE=DATE:20250517
DTEND;VALUE=DATE:20250518
DTSTAMP:20260421T102941
CREATED:20250111T233108Z
LAST-MODIFIED:20250111T233117Z
UID:10000799-1747440000-1747526399@driftmaps.com
SUMMARY:Drift Clinic
DESCRIPTION:« All Events\n \n\n	Drift Clinic\n			May 17\n	\n			\n									Event Info:\n					\n			\n									Book Hotel:\n					 \n\n	Categories:\n		Clinic/Beginner	 \n\nOrganizer Info: \n\n			\n			Pikes Peak			\n	\nView Organizer Website \n\n			\n		Pikes Peak International Raceway			\n	\n\n16650 Midway Ranch Rd\n		\n		Fountain\,\n	CO\n	United States\n\n\n	+ Google Map \n\n					\n						\n	 \n\n	\n\n	\n	Add to calendar	\n		\n	\n \n\n\n	Google Calendar\n\n\n	iCalendar\n\n\n	Outlook 365\n\n\n	Outlook Live\n\n\n\n\n\n\n				Ultimate Drifting Challenge	\n\n\n	\n		Spring Matsuri
URL:https://driftmaps.com/event/drift-clinic-4/
LOCATION:Pikes Peak International Raceway\, 16650 Midway Ranch Rd\, Fountain\, CO\, United States
CATEGORIES:Clinic/Beginner
ATTACH;FMTTYPE=image/png:https://driftmaps.com/wp-content/uploads/2025/01/ppir-1.png
GEO:38.5909062;-104.6728284
X-APPLE-STRUCTURED-LOCATION;VALUE=URI;X-ADDRESS=Pikes Peak International Raceway 16650 Midway Ranch Rd Fountain CO United States;X-APPLE-RADIUS=500;X-TITLE=16650 Midway Ranch Rd:geo:-104.6728284,38.5909062
END:VEVENT
END:VCALENDAR