BEGIN:VCALENDAR
VERSION:2.0
PRODID:-// - ECPv6.15.20//NONSGML v1.0//EN
CALSCALE:GREGORIAN
METHOD:PUBLISH
X-ORIGINAL-URL:https://driftmaps.com
X-WR-CALDESC:Events for 
REFRESH-INTERVAL;VALUE=DURATION:PT1H
X-Robots-Tag:noindex
X-PUBLISHED-TTL:PT1H
BEGIN:VTIMEZONE
TZID:America/New_York
BEGIN:DAYLIGHT
TZOFFSETFROM:-0500
TZOFFSETTO:-0400
TZNAME:EDT
DTSTART:20240310T070000
END:DAYLIGHT
BEGIN:STANDARD
TZOFFSETFROM:-0400
TZOFFSETTO:-0500
TZNAME:EST
DTSTART:20241103T060000
END:STANDARD
BEGIN:DAYLIGHT
TZOFFSETFROM:-0500
TZOFFSETTO:-0400
TZNAME:EDT
DTSTART:20250309T070000
END:DAYLIGHT
BEGIN:STANDARD
TZOFFSETFROM:-0400
TZOFFSETTO:-0500
TZNAME:EST
DTSTART:20251102T060000
END:STANDARD
BEGIN:DAYLIGHT
TZOFFSETFROM:-0500
TZOFFSETTO:-0400
TZNAME:EDT
DTSTART:20260308T070000
END:DAYLIGHT
BEGIN:STANDARD
TZOFFSETFROM:-0400
TZOFFSETTO:-0500
TZNAME:EST
DTSTART:20261101T060000
END:STANDARD
END:VTIMEZONE
BEGIN:VEVENT
DTSTART;VALUE=DATE:20250926
DTEND;VALUE=DATE:20250928
DTSTAMP:20260424T212254
CREATED:20241231T030827Z
LAST-MODIFIED:20250216T154016Z
UID:10000756-1758844800-1759017599@driftmaps.com
SUMMARY:Ultimate Drifting Challenge
DESCRIPTION:« All Events\n \n\n	Ultimate Drifting Challenge\n			September 26\n	  –\n	September 27\n	\n															\n								\n												Rules/Classes \nThis event has 2 classes: \n-215 hard compound (No tire TW rules) \n-235 Spec (No tire TW rules)  \nRulebook: LINK \n															\n								\n												Media \nView Media attending: CLICK \n					\n									Event Registration:\n					\n					\n									Book Hotel:\n					\n					\n						Instagram\n											 \n\n	Categories:\n		Competition	 \nOrganizer Info: \n\n			\n			Ultimate Drifting Challenge			\n	\nView Organizer Website \n\n			\n		Redding Drift City			\n	\n\n6750 Old Oregon Trail\n		\n		Redding\,\n	CA\n	96003\n	United States\n\n\n	+ Google Map \n\n					\n						\n	 \n\n	View Venue Website \n	\n\n	\n	Add to calendar	\n		\n	\n \n\n\n	Google Calendar\n\n\n	iCalendar\n\n\n	Outlook 365\n\n\n	Outlook Live\n\n\n\n\n\n\n				Drift Tetsusaiga	\n\n\n	\n		Drift Evergreen
URL:https://driftmaps.com/event/ultimate-drifting-challenge-9/
LOCATION:Redding Drift City\, 6750 Old Oregon Trail\, Redding\, CA\, 96003\, United States
CATEGORIES:Competition
ATTACH;FMTTYPE=image/png:https://driftmaps.com/wp-content/uploads/2024/12/UDC.png
GEO:40.5139383;-122.2898231
X-APPLE-STRUCTURED-LOCATION;VALUE=URI;X-ADDRESS=Redding Drift City 6750 Old Oregon Trail Redding CA 96003 United States;X-APPLE-RADIUS=500;X-TITLE=6750 Old Oregon Trail:geo:-122.2898231,40.5139383
END:VEVENT
END:VCALENDAR